BEGIN:VCALENDAR
VERSION:2.0
PRODID:-//GratiaPlena - ECPv6.15.20//NONSGML v1.0//EN
CALSCALE:GREGORIAN
METHOD:PUBLISH
X-WR-CALNAME:GratiaPlena
X-ORIGINAL-URL:https://gratiaplena.online
X-WR-CALDESC:Eventos para GratiaPlena
REFRESH-INTERVAL;VALUE=DURATION:PT1H
X-Robots-Tag:noindex
X-PUBLISHED-TTL:PT1H
BEGIN:VTIMEZONE
TZID:America/Sao_Paulo
BEGIN:STANDARD
TZOFFSETFROM:-0300
TZOFFSETTO:-0300
TZNAME:-03
DTSTART:20250101T000000
END:STANDARD
END:VTIMEZONE
BEGIN:VEVENT
DTSTART;VALUE=DATE:20261017
DTEND;VALUE=DATE:20261018
DTSTAMP:20260423T185043
CREATED:20240102T205019Z
LAST-MODIFIED:20241004T205041Z
UID:10000908-1792195200-1792281599@gratiaplena.online
SUMMARY:Dia de Santo Inácio de Etioquia
DESCRIPTION:Antioquia\, na atual Síria\, era a terceira maior metrópole do mundo antigo\, depois de Roma e Alexandria do Egito. Inácio tornou-se Bispo de Alexandria\, por volta do ano 69\, como sucessor de Santo Evódio\, mas\, sobretudo\, do apóstolo Pedro\, que havia fundado a Igreja naquela cidade. Descendente de uma família pagã\, não romana\, Inácio converteu-se ao cristianismo em idade avançada\, graças à pregação de São João Evangelista\, que havia passado por aquelas terras. Leia mais….
URL:https://gratiaplena.online/event/dia-de-santo-inacio-de-etioquia/2026-10-17/
CATEGORIES:Santo do Dia
ATTACH;FMTTYPE=image/jpeg:https://gratiaplena.online/wp-content/uploads/2024/01/Santo-Inacio-de-Etioquia2.jpg
ORGANIZER;CN="Administrador":MAILTO:epzanette@gmail.com
END:VEVENT
BEGIN:VEVENT
DTSTART;VALUE=DATE:20271017
DTEND;VALUE=DATE:20271018
DTSTAMP:20260423T185043
CREATED:20240102T205019Z
LAST-MODIFIED:20241004T205041Z
UID:10000909-1823731200-1823817599@gratiaplena.online
SUMMARY:Dia de Santo Inácio de Etioquia
DESCRIPTION:Antioquia\, na atual Síria\, era a terceira maior metrópole do mundo antigo\, depois de Roma e Alexandria do Egito. Inácio tornou-se Bispo de Alexandria\, por volta do ano 69\, como sucessor de Santo Evódio\, mas\, sobretudo\, do apóstolo Pedro\, que havia fundado a Igreja naquela cidade. Descendente de uma família pagã\, não romana\, Inácio converteu-se ao cristianismo em idade avançada\, graças à pregação de São João Evangelista\, que havia passado por aquelas terras. Leia mais….
URL:https://gratiaplena.online/event/dia-de-santo-inacio-de-etioquia/2027-10-17/
CATEGORIES:Santo do Dia
ATTACH;FMTTYPE=image/jpeg:https://gratiaplena.online/wp-content/uploads/2024/01/Santo-Inacio-de-Etioquia2.jpg
ORGANIZER;CN="Administrador":MAILTO:epzanette@gmail.com
END:VEVENT
BEGIN:VEVENT
DTSTART;VALUE=DATE:20281017
DTEND;VALUE=DATE:20281018
DTSTAMP:20260423T185043
CREATED:20240102T205019Z
LAST-MODIFIED:20241004T205041Z
UID:10000910-1855353600-1855439999@gratiaplena.online
SUMMARY:Dia de Santo Inácio de Etioquia
DESCRIPTION:Antioquia\, na atual Síria\, era a terceira maior metrópole do mundo antigo\, depois de Roma e Alexandria do Egito. Inácio tornou-se Bispo de Alexandria\, por volta do ano 69\, como sucessor de Santo Evódio\, mas\, sobretudo\, do apóstolo Pedro\, que havia fundado a Igreja naquela cidade. Descendente de uma família pagã\, não romana\, Inácio converteu-se ao cristianismo em idade avançada\, graças à pregação de São João Evangelista\, que havia passado por aquelas terras. Leia mais….
URL:https://gratiaplena.online/event/dia-de-santo-inacio-de-etioquia/2028-10-17/
CATEGORIES:Santo do Dia
ATTACH;FMTTYPE=image/jpeg:https://gratiaplena.online/wp-content/uploads/2024/01/Santo-Inacio-de-Etioquia2.jpg
ORGANIZER;CN="Administrador":MAILTO:epzanette@gmail.com
END:VEVENT
END:VCALENDAR