BEGIN:VCALENDAR
VERSION:2.0
PRODID:-//GratiaPlena - ECPv6.15.20//NONSGML v1.0//EN
CALSCALE:GREGORIAN
METHOD:PUBLISH
X-WR-CALNAME:GratiaPlena
X-ORIGINAL-URL:https://gratiaplena.online
X-WR-CALDESC:Eventos para GratiaPlena
REFRESH-INTERVAL;VALUE=DURATION:PT1H
X-Robots-Tag:noindex
X-PUBLISHED-TTL:PT1H
BEGIN:VTIMEZONE
TZID:America/Sao_Paulo
BEGIN:STANDARD
TZOFFSETFROM:-0300
TZOFFSETTO:-0300
TZNAME:-03
DTSTART:20250101T000000
END:STANDARD
END:VTIMEZONE
BEGIN:VEVENT
DTSTART;VALUE=DATE:20260824
DTEND;VALUE=DATE:20260825
DTSTAMP:20260423T153953
CREATED:20240101T171630Z
LAST-MODIFIED:20240828T121508Z
UID:10000896-1787529600-1787615999@gratiaplena.online
SUMMARY:Dia de São Bartolomeu
DESCRIPTION:Celebramos dia (24 Ago) a sua festa. São Bartolomeu\, também chamado Natanael\, foi um dos 12 primeiros apóstolos de Jesus. É assim descrito nos evangelhos de João\, Mateus\, Marcos e Lucas\, e também nos Atos dos Apóstolos. Bartolomeu nasceu em Caná\, na Galileia\, uma pequena aldeia a 14 quilômetros de Nazaré. Era filho do agricultor Tholmai. No Evangelho\, ele também é chamado de Natanael. Em hebraico\, a palavra “bar” que dizer “filho” e “tholmai” significa “agricultor”. Por isso os historiadores são unânimes em afirmar que Bartolomeu-Natanael trata-se de uma só pessoa. Seu melhor amigo era Filipe e ambos eram viajantes. Foi o apóstolo Filipe que o apresentou ao Messias. Leia mais….
URL:https://gratiaplena.online/event/dia-de-sao-bartolomeu/2026-08-24/
CATEGORIES:Santo do Dia
ATTACH;FMTTYPE=image/jpeg:https://gratiaplena.online/wp-content/uploads/2024/01/Sao-Bartolomeu-2.jpg
ORGANIZER;CN="Administrador":MAILTO:epzanette@gmail.com
END:VEVENT
BEGIN:VEVENT
DTSTART;VALUE=DATE:20270824
DTEND;VALUE=DATE:20270825
DTSTAMP:20260423T153953
CREATED:20240101T171630Z
LAST-MODIFIED:20240828T121508Z
UID:10000897-1819065600-1819151999@gratiaplena.online
SUMMARY:Dia de São Bartolomeu
DESCRIPTION:Celebramos dia (24 Ago) a sua festa. São Bartolomeu\, também chamado Natanael\, foi um dos 12 primeiros apóstolos de Jesus. É assim descrito nos evangelhos de João\, Mateus\, Marcos e Lucas\, e também nos Atos dos Apóstolos. Bartolomeu nasceu em Caná\, na Galileia\, uma pequena aldeia a 14 quilômetros de Nazaré. Era filho do agricultor Tholmai. No Evangelho\, ele também é chamado de Natanael. Em hebraico\, a palavra “bar” que dizer “filho” e “tholmai” significa “agricultor”. Por isso os historiadores são unânimes em afirmar que Bartolomeu-Natanael trata-se de uma só pessoa. Seu melhor amigo era Filipe e ambos eram viajantes. Foi o apóstolo Filipe que o apresentou ao Messias. Leia mais….
URL:https://gratiaplena.online/event/dia-de-sao-bartolomeu/2027-08-24/
CATEGORIES:Santo do Dia
ATTACH;FMTTYPE=image/jpeg:https://gratiaplena.online/wp-content/uploads/2024/01/Sao-Bartolomeu-2.jpg
ORGANIZER;CN="Administrador":MAILTO:epzanette@gmail.com
END:VEVENT
BEGIN:VEVENT
DTSTART;VALUE=DATE:20280824
DTEND;VALUE=DATE:20280825
DTSTAMP:20260423T153953
CREATED:20240101T171630Z
LAST-MODIFIED:20240828T121508Z
UID:10000898-1850688000-1850774399@gratiaplena.online
SUMMARY:Dia de São Bartolomeu
DESCRIPTION:Celebramos dia (24 Ago) a sua festa. São Bartolomeu\, também chamado Natanael\, foi um dos 12 primeiros apóstolos de Jesus. É assim descrito nos evangelhos de João\, Mateus\, Marcos e Lucas\, e também nos Atos dos Apóstolos. Bartolomeu nasceu em Caná\, na Galileia\, uma pequena aldeia a 14 quilômetros de Nazaré. Era filho do agricultor Tholmai. No Evangelho\, ele também é chamado de Natanael. Em hebraico\, a palavra “bar” que dizer “filho” e “tholmai” significa “agricultor”. Por isso os historiadores são unânimes em afirmar que Bartolomeu-Natanael trata-se de uma só pessoa. Seu melhor amigo era Filipe e ambos eram viajantes. Foi o apóstolo Filipe que o apresentou ao Messias. Leia mais….
URL:https://gratiaplena.online/event/dia-de-sao-bartolomeu/2028-08-24/
CATEGORIES:Santo do Dia
ATTACH;FMTTYPE=image/jpeg:https://gratiaplena.online/wp-content/uploads/2024/01/Sao-Bartolomeu-2.jpg
ORGANIZER;CN="Administrador":MAILTO:epzanette@gmail.com
END:VEVENT
BEGIN:VEVENT
DTSTART;VALUE=DATE:20290824
DTEND;VALUE=DATE:20290825
DTSTAMP:20260423T153953
CREATED:20240101T171630Z
LAST-MODIFIED:20240828T121508Z
UID:10001891-1882224000-1882310399@gratiaplena.online
SUMMARY:Dia de São Bartolomeu
DESCRIPTION:Celebramos dia (24 Ago) a sua festa. São Bartolomeu\, também chamado Natanael\, foi um dos 12 primeiros apóstolos de Jesus. É assim descrito nos evangelhos de João\, Mateus\, Marcos e Lucas\, e também nos Atos dos Apóstolos. Bartolomeu nasceu em Caná\, na Galileia\, uma pequena aldeia a 14 quilômetros de Nazaré. Era filho do agricultor Tholmai. No Evangelho\, ele também é chamado de Natanael. Em hebraico\, a palavra “bar” que dizer “filho” e “tholmai” significa “agricultor”. Por isso os historiadores são unânimes em afirmar que Bartolomeu-Natanael trata-se de uma só pessoa. Seu melhor amigo era Filipe e ambos eram viajantes. Foi o apóstolo Filipe que o apresentou ao Messias. Leia mais….
URL:https://gratiaplena.online/event/dia-de-sao-bartolomeu/2029-08-24/
CATEGORIES:Santo do Dia
ATTACH;FMTTYPE=image/jpeg:https://gratiaplena.online/wp-content/uploads/2024/01/Sao-Bartolomeu-2.jpg
ORGANIZER;CN="Administrador":MAILTO:epzanette@gmail.com
END:VEVENT
END:VCALENDAR