BEGIN:VCALENDAR
VERSION:2.0
PRODID:-//GratiaPlena - ECPv6.15.20//NONSGML v1.0//EN
CALSCALE:GREGORIAN
METHOD:PUBLISH
X-WR-CALNAME:GratiaPlena
X-ORIGINAL-URL:https://gratiaplena.online
X-WR-CALDESC:Eventos para GratiaPlena
REFRESH-INTERVAL;VALUE=DURATION:PT1H
X-Robots-Tag:noindex
X-PUBLISHED-TTL:PT1H
BEGIN:VTIMEZONE
TZID:America/Sao_Paulo
BEGIN:STANDARD
TZOFFSETFROM:-0300
TZOFFSETTO:-0300
TZNAME:-03
DTSTART:20250101T000000
END:STANDARD
END:VTIMEZONE
BEGIN:VEVENT
DTSTART;VALUE=DATE:20261028
DTEND;VALUE=DATE:20261029
DTSTAMP:20260423T152638
CREATED:20231230T234413Z
LAST-MODIFIED:20240828T140515Z
UID:10000851-1793145600-1793231999@gratiaplena.online
SUMMARY:Dia de São Simão
DESCRIPTION:Celebramos hoje (28 Out) a festa de Simão também chamado zelota e Cananeu é\, talvez\, o mais desconhecido dos apóstolos. Aliás\, mesmo na Bíblia\, recebeu apelidos para ser diferenciado de Simão Pedro. Ele é chamado de Simão\, “o cananeu”\, pelos apóstolos Mateus e Marcos. Alguns estudiosos cristãos entendem que este “cananeu” pode ser uma referência a Canaã\, a terra de Israel.Mas quando Lucas\, no seu Evangelho\, o chama de “o zelote”\, parece querer indicar que Simão pertencera ao partido judeu radical que tinha o mesmo nome. Os radicais zelotes pregavam a luta armada contra os dominadores.
URL:https://gratiaplena.online/event/dia-de-sao-simao/2026-10-28/
CATEGORIES:Santo do Dia
ATTACH;FMTTYPE=image/webp:https://gratiaplena.online/wp-content/uploads/2023/12/Sao-Simao-2.webp
ORGANIZER;CN="Administrador":MAILTO:epzanette@gmail.com
END:VEVENT
BEGIN:VEVENT
DTSTART;VALUE=DATE:20271028
DTEND;VALUE=DATE:20271029
DTSTAMP:20260423T152638
CREATED:20231230T234413Z
LAST-MODIFIED:20240828T140515Z
UID:10000852-1824681600-1824767999@gratiaplena.online
SUMMARY:Dia de São Simão
DESCRIPTION:Celebramos hoje (28 Out) a festa de Simão também chamado zelota e Cananeu é\, talvez\, o mais desconhecido dos apóstolos. Aliás\, mesmo na Bíblia\, recebeu apelidos para ser diferenciado de Simão Pedro. Ele é chamado de Simão\, “o cananeu”\, pelos apóstolos Mateus e Marcos. Alguns estudiosos cristãos entendem que este “cananeu” pode ser uma referência a Canaã\, a terra de Israel.Mas quando Lucas\, no seu Evangelho\, o chama de “o zelote”\, parece querer indicar que Simão pertencera ao partido judeu radical que tinha o mesmo nome. Os radicais zelotes pregavam a luta armada contra os dominadores.
URL:https://gratiaplena.online/event/dia-de-sao-simao/2027-10-28/
CATEGORIES:Santo do Dia
ATTACH;FMTTYPE=image/webp:https://gratiaplena.online/wp-content/uploads/2023/12/Sao-Simao-2.webp
ORGANIZER;CN="Administrador":MAILTO:epzanette@gmail.com
END:VEVENT
BEGIN:VEVENT
DTSTART;VALUE=DATE:20281028
DTEND;VALUE=DATE:20281029
DTSTAMP:20260423T152638
CREATED:20231230T234413Z
LAST-MODIFIED:20240828T140515Z
UID:10000853-1856304000-1856390399@gratiaplena.online
SUMMARY:Dia de São Simão
DESCRIPTION:Celebramos hoje (28 Out) a festa de Simão também chamado zelota e Cananeu é\, talvez\, o mais desconhecido dos apóstolos. Aliás\, mesmo na Bíblia\, recebeu apelidos para ser diferenciado de Simão Pedro. Ele é chamado de Simão\, “o cananeu”\, pelos apóstolos Mateus e Marcos. Alguns estudiosos cristãos entendem que este “cananeu” pode ser uma referência a Canaã\, a terra de Israel.Mas quando Lucas\, no seu Evangelho\, o chama de “o zelote”\, parece querer indicar que Simão pertencera ao partido judeu radical que tinha o mesmo nome. Os radicais zelotes pregavam a luta armada contra os dominadores.
URL:https://gratiaplena.online/event/dia-de-sao-simao/2028-10-28/
CATEGORIES:Santo do Dia
ATTACH;FMTTYPE=image/webp:https://gratiaplena.online/wp-content/uploads/2023/12/Sao-Simao-2.webp
ORGANIZER;CN="Administrador":MAILTO:epzanette@gmail.com
END:VEVENT
END:VCALENDAR