BEGIN:VCALENDAR
VERSION:2.0
PRODID:-//GratiaPlena - ECPv6.15.20//NONSGML v1.0//EN
CALSCALE:GREGORIAN
METHOD:PUBLISH
X-WR-CALNAME:GratiaPlena
X-ORIGINAL-URL:https://gratiaplena.online
X-WR-CALDESC:Eventos para GratiaPlena
REFRESH-INTERVAL;VALUE=DURATION:PT1H
X-Robots-Tag:noindex
X-PUBLISHED-TTL:PT1H
BEGIN:VTIMEZONE
TZID:America/Sao_Paulo
BEGIN:STANDARD
TZOFFSETFROM:-0300
TZOFFSETTO:-0300
TZNAME:-03
DTSTART:20250101T000000
END:STANDARD
END:VTIMEZONE
BEGIN:VEVENT
DTSTART;VALUE=DATE:20261227
DTEND;VALUE=DATE:20261228
DTSTAMP:20260423T152635
CREATED:20231221T002324Z
LAST-MODIFIED:20240725T220441Z
UID:10000792-1798329600-1798415999@gratiaplena.online
SUMMARY:Dia de São João
DESCRIPTION:Comemoramos nesta data (27 Dez) a festa de São João evangelista\, o discípulo a quem Jesus amava. Sabemos pelos Evangelhos que São João era filho de Zebedeu e de Maria Salomé. Com seu irmão Tiago\, auxiliava o pai na pesca no lago de Genezaré. Pelos Evangelhos sabemos também que seu pai possuía alguns barcos e empregados que trabalhavam para ele. Maria Salomé é apontada como uma das santas mulheres que acompanhavam o Divino Mestre para O servir.
URL:https://gratiaplena.online/event/dia-de-sao-joao/2026-12-27/
CATEGORIES:Santo do Dia
ATTACH;FMTTYPE=image/jpeg:https://gratiaplena.online/wp-content/uploads/2023/12/Sao-Joao-1.jpg
ORGANIZER;CN="Administrador":MAILTO:epzanette@gmail.com
END:VEVENT
BEGIN:VEVENT
DTSTART;VALUE=DATE:20271227
DTEND;VALUE=DATE:20271228
DTSTAMP:20260423T152635
CREATED:20231221T002324Z
LAST-MODIFIED:20240725T220441Z
UID:10000793-1829865600-1829951999@gratiaplena.online
SUMMARY:Dia de São João
DESCRIPTION:Comemoramos nesta data (27 Dez) a festa de São João evangelista\, o discípulo a quem Jesus amava. Sabemos pelos Evangelhos que São João era filho de Zebedeu e de Maria Salomé. Com seu irmão Tiago\, auxiliava o pai na pesca no lago de Genezaré. Pelos Evangelhos sabemos também que seu pai possuía alguns barcos e empregados que trabalhavam para ele. Maria Salomé é apontada como uma das santas mulheres que acompanhavam o Divino Mestre para O servir.
URL:https://gratiaplena.online/event/dia-de-sao-joao/2027-12-27/
CATEGORIES:Santo do Dia
ATTACH;FMTTYPE=image/jpeg:https://gratiaplena.online/wp-content/uploads/2023/12/Sao-Joao-1.jpg
ORGANIZER;CN="Administrador":MAILTO:epzanette@gmail.com
END:VEVENT
BEGIN:VEVENT
DTSTART;VALUE=DATE:20281227
DTEND;VALUE=DATE:20281228
DTSTAMP:20260423T152635
CREATED:20231221T002324Z
LAST-MODIFIED:20240725T220441Z
UID:10000806-1861488000-1861574399@gratiaplena.online
SUMMARY:Dia de São João
DESCRIPTION:Comemoramos nesta data (27 Dez) a festa de São João evangelista\, o discípulo a quem Jesus amava. Sabemos pelos Evangelhos que São João era filho de Zebedeu e de Maria Salomé. Com seu irmão Tiago\, auxiliava o pai na pesca no lago de Genezaré. Pelos Evangelhos sabemos também que seu pai possuía alguns barcos e empregados que trabalhavam para ele. Maria Salomé é apontada como uma das santas mulheres que acompanhavam o Divino Mestre para O servir.
URL:https://gratiaplena.online/event/dia-de-sao-joao/2028-12-27/
CATEGORIES:Santo do Dia
ATTACH;FMTTYPE=image/jpeg:https://gratiaplena.online/wp-content/uploads/2023/12/Sao-Joao-1.jpg
ORGANIZER;CN="Administrador":MAILTO:epzanette@gmail.com
END:VEVENT
END:VCALENDAR