BEGIN:VCALENDAR
VERSION:2.0
PRODID:-//GratiaPlena - ECPv6.15.20//NONSGML v1.0//EN
CALSCALE:GREGORIAN
METHOD:PUBLISH
X-WR-CALNAME:GratiaPlena
X-ORIGINAL-URL:https://gratiaplena.online
X-WR-CALDESC:Eventos para GratiaPlena
REFRESH-INTERVAL;VALUE=DURATION:PT1H
X-Robots-Tag:noindex
X-PUBLISHED-TTL:PT1H
BEGIN:VTIMEZONE
TZID:America/Sao_Paulo
BEGIN:STANDARD
TZOFFSETFROM:-0300
TZOFFSETTO:-0300
TZNAME:-03
DTSTART:20250101T000000
END:STANDARD
END:VTIMEZONE
BEGIN:VEVENT
DTSTART;VALUE=DATE:20261207
DTEND;VALUE=DATE:20261208
DTSTAMP:20260423T195912
CREATED:20231207T124711Z
LAST-MODIFIED:20231211T181228Z
UID:10000710-1796601600-1796687999@gratiaplena.online
SUMMARY:Dia de Santo Ambrósio
DESCRIPTION:Celebramos hoje (7 Dez) a memória do grande Santo Ambrósio de Milão\, bispo e Doutor da Igreja.  Conselheiro e pai espiritual de três imperadores romanos\, Graciano\, Valentiniano II e Teodósio I\, Ambrósio é o símbolo da Igreja nascente\, após os sofridos anos de perseguições e vida escondida. Foi graças à sua atuação que a Igreja de Roma conseguiu tratar com o poder público sem servilismo.
URL:https://gratiaplena.online/event/dia-de-santo-ambrosio/2026-12-07/
CATEGORIES:Santo do Dia
ATTACH;FMTTYPE=image/jpeg:https://gratiaplena.online/wp-content/uploads/2023/12/Santo-Ambrosio.jpg
ORGANIZER;CN="Administrador":MAILTO:epzanette@gmail.com
END:VEVENT
BEGIN:VEVENT
DTSTART;VALUE=DATE:20271207
DTEND;VALUE=DATE:20271208
DTSTAMP:20260423T195912
CREATED:20231207T124711Z
LAST-MODIFIED:20231211T181228Z
UID:10000711-1828137600-1828223999@gratiaplena.online
SUMMARY:Dia de Santo Ambrósio
DESCRIPTION:Celebramos hoje (7 Dez) a memória do grande Santo Ambrósio de Milão\, bispo e Doutor da Igreja.  Conselheiro e pai espiritual de três imperadores romanos\, Graciano\, Valentiniano II e Teodósio I\, Ambrósio é o símbolo da Igreja nascente\, após os sofridos anos de perseguições e vida escondida. Foi graças à sua atuação que a Igreja de Roma conseguiu tratar com o poder público sem servilismo.
URL:https://gratiaplena.online/event/dia-de-santo-ambrosio/2027-12-07/
CATEGORIES:Santo do Dia
ATTACH;FMTTYPE=image/jpeg:https://gratiaplena.online/wp-content/uploads/2023/12/Santo-Ambrosio.jpg
ORGANIZER;CN="Administrador":MAILTO:epzanette@gmail.com
END:VEVENT
BEGIN:VEVENT
DTSTART;VALUE=DATE:20281207
DTEND;VALUE=DATE:20281208
DTSTAMP:20260423T195912
CREATED:20231207T124711Z
LAST-MODIFIED:20231211T181228Z
UID:10000712-1859760000-1859846399@gratiaplena.online
SUMMARY:Dia de Santo Ambrósio
DESCRIPTION:Celebramos hoje (7 Dez) a memória do grande Santo Ambrósio de Milão\, bispo e Doutor da Igreja.  Conselheiro e pai espiritual de três imperadores romanos\, Graciano\, Valentiniano II e Teodósio I\, Ambrósio é o símbolo da Igreja nascente\, após os sofridos anos de perseguições e vida escondida. Foi graças à sua atuação que a Igreja de Roma conseguiu tratar com o poder público sem servilismo.
URL:https://gratiaplena.online/event/dia-de-santo-ambrosio/2028-12-07/
CATEGORIES:Santo do Dia
ATTACH;FMTTYPE=image/jpeg:https://gratiaplena.online/wp-content/uploads/2023/12/Santo-Ambrosio.jpg
ORGANIZER;CN="Administrador":MAILTO:epzanette@gmail.com
END:VEVENT
END:VCALENDAR