BEGIN:VCALENDAR
VERSION:2.0
PRODID:-//GratiaPlena - ECPv6.15.20//NONSGML v1.0//EN
CALSCALE:GREGORIAN
METHOD:PUBLISH
X-WR-CALNAME:GratiaPlena
X-ORIGINAL-URL:https://gratiaplena.online
X-WR-CALDESC:Eventos para GratiaPlena
REFRESH-INTERVAL;VALUE=DURATION:PT1H
X-Robots-Tag:noindex
X-PUBLISHED-TTL:PT1H
BEGIN:VTIMEZONE
TZID:America/Sao_Paulo
BEGIN:STANDARD
TZOFFSETFROM:-0300
TZOFFSETTO:-0300
TZNAME:-03
DTSTART:20250101T000000
END:STANDARD
END:VTIMEZONE
BEGIN:VEVENT
DTSTART;VALUE=DATE:20261122
DTEND;VALUE=DATE:20261123
DTSTAMP:20260423T171617
CREATED:20231123T032026Z
LAST-MODIFIED:20231211T170554Z
UID:10000639-1795305600-1795391999@gratiaplena.online
SUMMARY:Dia de Santa Cecília
DESCRIPTION:Celebramos hoje (22 Nov) a memória de Santa Cecília\, uma santa cristã\, padroeira dos músicos e da música sacra\, pois consta que ao morrer ela teria cantado a Deus. Não se tem muitas informações sobre a sua vida. Escavações arqueológicas não deixam dúvidas sobre sua existência\, mas sua história só foi registrada no século V\, na narrativa Paixão de Santa Cecília. Santa Cecília é a santa da Igreja Católica que mais tem basílicas em Roma (nenhuma outra santa conseguiu tal feito) e é uma das santas mais veneradas da Idade Média\, além de ser a primeira santa encontrada com corpo incorrupto\, no ano de 1599\, mesmo depois de tantos séculos. Uma estátua de seu corpo que não se decompôs com a força do tempo até então foi feita por Stefano Maderno (1566-1636). \n(Maestro della Santa Cecilia\, Wikipédia\, Santa Cecilia e storie della sua vita\, 1304 Uffizi)
URL:https://gratiaplena.online/event/dia-de-santa-cecilia/2026-11-22/
CATEGORIES:Santo do Dia
ATTACH;FMTTYPE=image/jpeg:https://gratiaplena.online/wp-content/uploads/2023/11/Maestro-della-Santa-Cecilia-Santa-Cecilia-e-storie-della-sua-vita-1304-Uffizi.jpg
ORGANIZER;CN="Administrador":MAILTO:epzanette@gmail.com
END:VEVENT
BEGIN:VEVENT
DTSTART;VALUE=DATE:20271122
DTEND;VALUE=DATE:20271123
DTSTAMP:20260423T171617
CREATED:20231123T032026Z
LAST-MODIFIED:20231211T170554Z
UID:10000640-1826841600-1826927999@gratiaplena.online
SUMMARY:Dia de Santa Cecília
DESCRIPTION:Celebramos hoje (22 Nov) a memória de Santa Cecília\, uma santa cristã\, padroeira dos músicos e da música sacra\, pois consta que ao morrer ela teria cantado a Deus. Não se tem muitas informações sobre a sua vida. Escavações arqueológicas não deixam dúvidas sobre sua existência\, mas sua história só foi registrada no século V\, na narrativa Paixão de Santa Cecília. Santa Cecília é a santa da Igreja Católica que mais tem basílicas em Roma (nenhuma outra santa conseguiu tal feito) e é uma das santas mais veneradas da Idade Média\, além de ser a primeira santa encontrada com corpo incorrupto\, no ano de 1599\, mesmo depois de tantos séculos. Uma estátua de seu corpo que não se decompôs com a força do tempo até então foi feita por Stefano Maderno (1566-1636). \n(Maestro della Santa Cecilia\, Wikipédia\, Santa Cecilia e storie della sua vita\, 1304 Uffizi)
URL:https://gratiaplena.online/event/dia-de-santa-cecilia/2027-11-22/
CATEGORIES:Santo do Dia
ATTACH;FMTTYPE=image/jpeg:https://gratiaplena.online/wp-content/uploads/2023/11/Maestro-della-Santa-Cecilia-Santa-Cecilia-e-storie-della-sua-vita-1304-Uffizi.jpg
ORGANIZER;CN="Administrador":MAILTO:epzanette@gmail.com
END:VEVENT
BEGIN:VEVENT
DTSTART;VALUE=DATE:20281122
DTEND;VALUE=DATE:20281123
DTSTAMP:20260423T171617
CREATED:20231123T032026Z
LAST-MODIFIED:20231211T170554Z
UID:10000641-1858464000-1858550399@gratiaplena.online
SUMMARY:Dia de Santa Cecília
DESCRIPTION:Celebramos hoje (22 Nov) a memória de Santa Cecília\, uma santa cristã\, padroeira dos músicos e da música sacra\, pois consta que ao morrer ela teria cantado a Deus. Não se tem muitas informações sobre a sua vida. Escavações arqueológicas não deixam dúvidas sobre sua existência\, mas sua história só foi registrada no século V\, na narrativa Paixão de Santa Cecília. Santa Cecília é a santa da Igreja Católica que mais tem basílicas em Roma (nenhuma outra santa conseguiu tal feito) e é uma das santas mais veneradas da Idade Média\, além de ser a primeira santa encontrada com corpo incorrupto\, no ano de 1599\, mesmo depois de tantos séculos. Uma estátua de seu corpo que não se decompôs com a força do tempo até então foi feita por Stefano Maderno (1566-1636). \n(Maestro della Santa Cecilia\, Wikipédia\, Santa Cecilia e storie della sua vita\, 1304 Uffizi)
URL:https://gratiaplena.online/event/dia-de-santa-cecilia/2028-11-22/
CATEGORIES:Santo do Dia
ATTACH;FMTTYPE=image/jpeg:https://gratiaplena.online/wp-content/uploads/2023/11/Maestro-della-Santa-Cecilia-Santa-Cecilia-e-storie-della-sua-vita-1304-Uffizi.jpg
ORGANIZER;CN="Administrador":MAILTO:epzanette@gmail.com
END:VEVENT
END:VCALENDAR