BEGIN:VCALENDAR
VERSION:2.0
PRODID:-//GratiaPlena - ECPv6.15.20//NONSGML v1.0//EN
CALSCALE:GREGORIAN
METHOD:PUBLISH
X-WR-CALNAME:GratiaPlena
X-ORIGINAL-URL:https://gratiaplena.online
X-WR-CALDESC:Eventos para GratiaPlena
REFRESH-INTERVAL;VALUE=DURATION:PT1H
X-Robots-Tag:noindex
X-PUBLISHED-TTL:PT1H
BEGIN:VTIMEZONE
TZID:America/Sao_Paulo
BEGIN:STANDARD
TZOFFSETFROM:-0300
TZOFFSETTO:-0300
TZNAME:-03
DTSTART:20250101T000000
END:STANDARD
END:VTIMEZONE
BEGIN:VEVENT
DTSTART;VALUE=DATE:20260925
DTEND;VALUE=DATE:20260926
DTSTAMP:20260423T183545
CREATED:20240929T005445Z
LAST-MODIFIED:20250116T175744Z
UID:10002105-1790294400-1790380799@gratiaplena.online
SUMMARY:Dia de São Firmino\, bispo de Amiens
DESCRIPTION:Quando Fermín era pequeno\, seu pai\, o senador Firmo\, e sua mãe se converteram ao cristianismo através da pregação de São Saturnino e do padre Honesto. Fermín\, sua família e outras quarenta mil pessoas foram batizadas em apenas três dias.   Honesto continuou a ser professor de Fermín em sua nova religião\, e fez isso tão bem que aos dezessete anos Fermín já era um pregador notável. Alguns anos depois recebeu a consagração episcopal e partiu para França\, onde evangelizou as regiões da Aquitânia\, Auvergne\, Beaubais e Amiens\, onde a perseguição contra os cristãos foi particularmente dura. Conseguiu tantas conversões que foi preso e discretamente assassinado\, espalhando a versão de que havia morrido de parada cardíaca.   Em Pamplona celebra-se San Fermín no dia 7 de julho. Leia mais….
URL:https://gratiaplena.online/event/dia-de-sao-firmino-bispo-de-amiens/2026-09-25/
CATEGORIES:Santo do Dia
ATTACH;FMTTYPE=image/jpeg:https://gratiaplena.online/wp-content/uploads/2024/09/Ssao-Firmino2.jpg
ORGANIZER;CN="Administrador":MAILTO:epzanette@gmail.com
END:VEVENT
BEGIN:VEVENT
DTSTART;VALUE=DATE:20270925
DTEND;VALUE=DATE:20270926
DTSTAMP:20260423T183545
CREATED:20240929T005445Z
LAST-MODIFIED:20250116T175744Z
UID:10002106-1821830400-1821916799@gratiaplena.online
SUMMARY:Dia de São Firmino\, bispo de Amiens
DESCRIPTION:Quando Fermín era pequeno\, seu pai\, o senador Firmo\, e sua mãe se converteram ao cristianismo através da pregação de São Saturnino e do padre Honesto. Fermín\, sua família e outras quarenta mil pessoas foram batizadas em apenas três dias.   Honesto continuou a ser professor de Fermín em sua nova religião\, e fez isso tão bem que aos dezessete anos Fermín já era um pregador notável. Alguns anos depois recebeu a consagração episcopal e partiu para França\, onde evangelizou as regiões da Aquitânia\, Auvergne\, Beaubais e Amiens\, onde a perseguição contra os cristãos foi particularmente dura. Conseguiu tantas conversões que foi preso e discretamente assassinado\, espalhando a versão de que havia morrido de parada cardíaca.   Em Pamplona celebra-se San Fermín no dia 7 de julho. Leia mais….
URL:https://gratiaplena.online/event/dia-de-sao-firmino-bispo-de-amiens/2027-09-25/
CATEGORIES:Santo do Dia
ATTACH;FMTTYPE=image/jpeg:https://gratiaplena.online/wp-content/uploads/2024/09/Ssao-Firmino2.jpg
ORGANIZER;CN="Administrador":MAILTO:epzanette@gmail.com
END:VEVENT
BEGIN:VEVENT
DTSTART;VALUE=DATE:20280925
DTEND;VALUE=DATE:20280926
DTSTAMP:20260423T183545
CREATED:20240929T005445Z
LAST-MODIFIED:20250116T175744Z
UID:10002107-1853452800-1853539199@gratiaplena.online
SUMMARY:Dia de São Firmino\, bispo de Amiens
DESCRIPTION:Quando Fermín era pequeno\, seu pai\, o senador Firmo\, e sua mãe se converteram ao cristianismo através da pregação de São Saturnino e do padre Honesto. Fermín\, sua família e outras quarenta mil pessoas foram batizadas em apenas três dias.   Honesto continuou a ser professor de Fermín em sua nova religião\, e fez isso tão bem que aos dezessete anos Fermín já era um pregador notável. Alguns anos depois recebeu a consagração episcopal e partiu para França\, onde evangelizou as regiões da Aquitânia\, Auvergne\, Beaubais e Amiens\, onde a perseguição contra os cristãos foi particularmente dura. Conseguiu tantas conversões que foi preso e discretamente assassinado\, espalhando a versão de que havia morrido de parada cardíaca.   Em Pamplona celebra-se San Fermín no dia 7 de julho. Leia mais….
URL:https://gratiaplena.online/event/dia-de-sao-firmino-bispo-de-amiens/2028-09-25/
CATEGORIES:Santo do Dia
ATTACH;FMTTYPE=image/jpeg:https://gratiaplena.online/wp-content/uploads/2024/09/Ssao-Firmino2.jpg
ORGANIZER;CN="Administrador":MAILTO:epzanette@gmail.com
END:VEVENT
BEGIN:VEVENT
DTSTART;VALUE=DATE:20290925
DTEND;VALUE=DATE:20290926
DTSTAMP:20260423T183545
CREATED:20240929T005445Z
LAST-MODIFIED:20250116T175744Z
UID:10002108-1884988800-1885075199@gratiaplena.online
SUMMARY:Dia de São Firmino\, bispo de Amiens
DESCRIPTION:Quando Fermín era pequeno\, seu pai\, o senador Firmo\, e sua mãe se converteram ao cristianismo através da pregação de São Saturnino e do padre Honesto. Fermín\, sua família e outras quarenta mil pessoas foram batizadas em apenas três dias.   Honesto continuou a ser professor de Fermín em sua nova religião\, e fez isso tão bem que aos dezessete anos Fermín já era um pregador notável. Alguns anos depois recebeu a consagração episcopal e partiu para França\, onde evangelizou as regiões da Aquitânia\, Auvergne\, Beaubais e Amiens\, onde a perseguição contra os cristãos foi particularmente dura. Conseguiu tantas conversões que foi preso e discretamente assassinado\, espalhando a versão de que havia morrido de parada cardíaca.   Em Pamplona celebra-se San Fermín no dia 7 de julho. Leia mais….
URL:https://gratiaplena.online/event/dia-de-sao-firmino-bispo-de-amiens/2029-09-25/
CATEGORIES:Santo do Dia
ATTACH;FMTTYPE=image/jpeg:https://gratiaplena.online/wp-content/uploads/2024/09/Ssao-Firmino2.jpg
ORGANIZER;CN="Administrador":MAILTO:epzanette@gmail.com
END:VEVENT
END:VCALENDAR