BEGIN:VCALENDAR
VERSION:2.0
PRODID:-//GratiaPlena - ECPv6.15.20//NONSGML v1.0//EN
CALSCALE:GREGORIAN
METHOD:PUBLISH
X-WR-CALNAME:GratiaPlena
X-ORIGINAL-URL:https://gratiaplena.online
X-WR-CALDESC:Eventos para GratiaPlena
REFRESH-INTERVAL;VALUE=DURATION:PT1H
X-Robots-Tag:noindex
X-PUBLISHED-TTL:PT1H
BEGIN:VTIMEZONE
TZID:America/Sao_Paulo
BEGIN:STANDARD
TZOFFSETFROM:-0300
TZOFFSETTO:-0300
TZNAME:-03
DTSTART:20250101T000000
END:STANDARD
END:VTIMEZONE
BEGIN:VEVENT
DTSTART;VALUE=DATE:20260926
DTEND;VALUE=DATE:20260927
DTSTAMP:20260423T165653
CREATED:20240927T201559Z
LAST-MODIFIED:20240927T201559Z
UID:10002099-1790380800-1790467199@gratiaplena.online
SUMMARY:Dia de São Nilo\, Abade
DESCRIPTION:Nicolau nasceu em Rossano\, Calábria\, em 910\, e entrou para a vida monacal\, recebendo o nome de Nilo. Como eremita\, entre orações e estudo\, tornou-se modelo para os monges. Não querendo honras\, transferiu-se para Cápua e depois para Gaeta. Aos 90 anos\, fundou a Abadia de Grottaferrata\, perto de Roma.  Veja mais….
URL:https://gratiaplena.online/event/dia-de-sao-nilo-abade/2026-09-26/
CATEGORIES:Santo do Dia
ATTACH;FMTTYPE=image/jpeg:https://gratiaplena.online/wp-content/uploads/2024/09/Sao-Nilo-Abade2.jpg
ORGANIZER;CN="Administrador":MAILTO:epzanette@gmail.com
END:VEVENT
BEGIN:VEVENT
DTSTART;VALUE=DATE:20270926
DTEND;VALUE=DATE:20270927
DTSTAMP:20260423T165653
CREATED:20240927T201559Z
LAST-MODIFIED:20240927T201559Z
UID:10002100-1821916800-1822003199@gratiaplena.online
SUMMARY:Dia de São Nilo\, Abade
DESCRIPTION:Nicolau nasceu em Rossano\, Calábria\, em 910\, e entrou para a vida monacal\, recebendo o nome de Nilo. Como eremita\, entre orações e estudo\, tornou-se modelo para os monges. Não querendo honras\, transferiu-se para Cápua e depois para Gaeta. Aos 90 anos\, fundou a Abadia de Grottaferrata\, perto de Roma.  Veja mais….
URL:https://gratiaplena.online/event/dia-de-sao-nilo-abade/2027-09-26/
CATEGORIES:Santo do Dia
ATTACH;FMTTYPE=image/jpeg:https://gratiaplena.online/wp-content/uploads/2024/09/Sao-Nilo-Abade2.jpg
ORGANIZER;CN="Administrador":MAILTO:epzanette@gmail.com
END:VEVENT
BEGIN:VEVENT
DTSTART;VALUE=DATE:20280926
DTEND;VALUE=DATE:20280927
DTSTAMP:20260423T165654
CREATED:20240927T201559Z
LAST-MODIFIED:20240927T201559Z
UID:10002101-1853539200-1853625599@gratiaplena.online
SUMMARY:Dia de São Nilo\, Abade
DESCRIPTION:Nicolau nasceu em Rossano\, Calábria\, em 910\, e entrou para a vida monacal\, recebendo o nome de Nilo. Como eremita\, entre orações e estudo\, tornou-se modelo para os monges. Não querendo honras\, transferiu-se para Cápua e depois para Gaeta. Aos 90 anos\, fundou a Abadia de Grottaferrata\, perto de Roma.  Veja mais….
URL:https://gratiaplena.online/event/dia-de-sao-nilo-abade/2028-09-26/
CATEGORIES:Santo do Dia
ATTACH;FMTTYPE=image/jpeg:https://gratiaplena.online/wp-content/uploads/2024/09/Sao-Nilo-Abade2.jpg
ORGANIZER;CN="Administrador":MAILTO:epzanette@gmail.com
END:VEVENT
BEGIN:VEVENT
DTSTART;VALUE=DATE:20290926
DTEND;VALUE=DATE:20290927
DTSTAMP:20260423T165654
CREATED:20240927T201559Z
LAST-MODIFIED:20240927T201559Z
UID:10002102-1885075200-1885161599@gratiaplena.online
SUMMARY:Dia de São Nilo\, Abade
DESCRIPTION:Nicolau nasceu em Rossano\, Calábria\, em 910\, e entrou para a vida monacal\, recebendo o nome de Nilo. Como eremita\, entre orações e estudo\, tornou-se modelo para os monges. Não querendo honras\, transferiu-se para Cápua e depois para Gaeta. Aos 90 anos\, fundou a Abadia de Grottaferrata\, perto de Roma.  Veja mais….
URL:https://gratiaplena.online/event/dia-de-sao-nilo-abade/2029-09-26/
CATEGORIES:Santo do Dia
ATTACH;FMTTYPE=image/jpeg:https://gratiaplena.online/wp-content/uploads/2024/09/Sao-Nilo-Abade2.jpg
ORGANIZER;CN="Administrador":MAILTO:epzanette@gmail.com
END:VEVENT
END:VCALENDAR