BEGIN:VCALENDAR
VERSION:2.0
PRODID:-//GratiaPlena - ECPv6.15.20//NONSGML v1.0//EN
CALSCALE:GREGORIAN
METHOD:PUBLISH
X-WR-CALNAME:GratiaPlena
X-ORIGINAL-URL:https://gratiaplena.online
X-WR-CALDESC:Eventos para GratiaPlena
REFRESH-INTERVAL;VALUE=DURATION:PT1H
X-Robots-Tag:noindex
X-PUBLISHED-TTL:PT1H
BEGIN:VTIMEZONE
TZID:America/Sao_Paulo
BEGIN:STANDARD
TZOFFSETFROM:-0300
TZOFFSETTO:-0300
TZNAME:-03
DTSTART:20250101T000000
END:STANDARD
END:VTIMEZONE
BEGIN:VEVENT
DTSTART;VALUE=DATE:20260901
DTEND;VALUE=DATE:20260902
DTSTAMP:20260423T181752
CREATED:20240902T161550Z
LAST-MODIFIED:20240902T162657Z
UID:10001932-1788220800-1788307199@gratiaplena.online
SUMMARY:Dia de Santo Egídio
DESCRIPTION:Santo Egídio\, – que em francês é Gilles – cujas origens ainda são misteriosas\, viveu\, provavelmente\, entre os séculos VI e VIII. Foi eremita em um bosque\, no sul da França\, até que\, por amizade de um rei\, se tornou abade e diretor espiritual de toda a região. A Igreja o recorda no dia 1° de setembro  O túmulo de Santo Egídio\, venerado em uma abadia\, na região francesa de Nîmes\, remonta\, provavelmente\, à época merovíngia\, embora a sua inscrição não seja anterior ao século X\, data em que foi composta a Vida do santo abade\, permeada de prodígios. Leia tudo…
URL:https://gratiaplena.online/event/dia-de-santo-egidio/2026-09-01/
CATEGORIES:Santo do Dia
ATTACH;FMTTYPE=image/jpeg:https://gratiaplena.online/wp-content/uploads/2024/09/Santo-Egidio2.jpg
ORGANIZER;CN="Administrador":MAILTO:epzanette@gmail.com
END:VEVENT
BEGIN:VEVENT
DTSTART;VALUE=DATE:20270901
DTEND;VALUE=DATE:20270902
DTSTAMP:20260423T181752
CREATED:20240902T161550Z
LAST-MODIFIED:20240902T162657Z
UID:10001933-1819756800-1819843199@gratiaplena.online
SUMMARY:Dia de Santo Egídio
DESCRIPTION:Santo Egídio\, – que em francês é Gilles – cujas origens ainda são misteriosas\, viveu\, provavelmente\, entre os séculos VI e VIII. Foi eremita em um bosque\, no sul da França\, até que\, por amizade de um rei\, se tornou abade e diretor espiritual de toda a região. A Igreja o recorda no dia 1° de setembro  O túmulo de Santo Egídio\, venerado em uma abadia\, na região francesa de Nîmes\, remonta\, provavelmente\, à época merovíngia\, embora a sua inscrição não seja anterior ao século X\, data em que foi composta a Vida do santo abade\, permeada de prodígios. Leia tudo…
URL:https://gratiaplena.online/event/dia-de-santo-egidio/2027-09-01/
CATEGORIES:Santo do Dia
ATTACH;FMTTYPE=image/jpeg:https://gratiaplena.online/wp-content/uploads/2024/09/Santo-Egidio2.jpg
ORGANIZER;CN="Administrador":MAILTO:epzanette@gmail.com
END:VEVENT
BEGIN:VEVENT
DTSTART;VALUE=DATE:20280901
DTEND;VALUE=DATE:20280902
DTSTAMP:20260423T181752
CREATED:20240902T161550Z
LAST-MODIFIED:20240902T162657Z
UID:10001934-1851379200-1851465599@gratiaplena.online
SUMMARY:Dia de Santo Egídio
DESCRIPTION:Santo Egídio\, – que em francês é Gilles – cujas origens ainda são misteriosas\, viveu\, provavelmente\, entre os séculos VI e VIII. Foi eremita em um bosque\, no sul da França\, até que\, por amizade de um rei\, se tornou abade e diretor espiritual de toda a região. A Igreja o recorda no dia 1° de setembro  O túmulo de Santo Egídio\, venerado em uma abadia\, na região francesa de Nîmes\, remonta\, provavelmente\, à época merovíngia\, embora a sua inscrição não seja anterior ao século X\, data em que foi composta a Vida do santo abade\, permeada de prodígios. Leia tudo…
URL:https://gratiaplena.online/event/dia-de-santo-egidio/2028-09-01/
CATEGORIES:Santo do Dia
ATTACH;FMTTYPE=image/jpeg:https://gratiaplena.online/wp-content/uploads/2024/09/Santo-Egidio2.jpg
ORGANIZER;CN="Administrador":MAILTO:epzanette@gmail.com
END:VEVENT
BEGIN:VEVENT
DTSTART;VALUE=DATE:20290901
DTEND;VALUE=DATE:20290902
DTSTAMP:20260423T181752
CREATED:20240902T161550Z
LAST-MODIFIED:20240902T162657Z
UID:10001935-1882915200-1883001599@gratiaplena.online
SUMMARY:Dia de Santo Egídio
DESCRIPTION:Santo Egídio\, – que em francês é Gilles – cujas origens ainda são misteriosas\, viveu\, provavelmente\, entre os séculos VI e VIII. Foi eremita em um bosque\, no sul da França\, até que\, por amizade de um rei\, se tornou abade e diretor espiritual de toda a região. A Igreja o recorda no dia 1° de setembro  O túmulo de Santo Egídio\, venerado em uma abadia\, na região francesa de Nîmes\, remonta\, provavelmente\, à época merovíngia\, embora a sua inscrição não seja anterior ao século X\, data em que foi composta a Vida do santo abade\, permeada de prodígios. Leia tudo…
URL:https://gratiaplena.online/event/dia-de-santo-egidio/2029-09-01/
CATEGORIES:Santo do Dia
ATTACH;FMTTYPE=image/jpeg:https://gratiaplena.online/wp-content/uploads/2024/09/Santo-Egidio2.jpg
ORGANIZER;CN="Administrador":MAILTO:epzanette@gmail.com
END:VEVENT
END:VCALENDAR