BEGIN:VCALENDAR
VERSION:2.0
PRODID:-//GratiaPlena - ECPv6.15.20//NONSGML v1.0//EN
CALSCALE:GREGORIAN
METHOD:PUBLISH
X-WR-CALNAME:GratiaPlena
X-ORIGINAL-URL:https://gratiaplena.online
X-WR-CALDESC:Eventos para GratiaPlena
REFRESH-INTERVAL;VALUE=DURATION:PT1H
X-Robots-Tag:noindex
X-PUBLISHED-TTL:PT1H
BEGIN:VTIMEZONE
TZID:America/Sao_Paulo
BEGIN:STANDARD
TZOFFSETFROM:-0300
TZOFFSETTO:-0300
TZNAME:-03
DTSTART:20250101T000000
END:STANDARD
END:VTIMEZONE
BEGIN:VEVENT
DTSTART;VALUE=DATE:20261014
DTEND;VALUE=DATE:20261015
DTSTAMP:20260423T171632
CREATED:20240729T200503Z
LAST-MODIFIED:20240729T200503Z
UID:10001883-1791936000-1792022399@gratiaplena.online
SUMMARY:Dia de São Calisto I
DESCRIPTION:Comemoramos hoje (14 Out) a festa de São Calisto I. Origens: Romano de Trastevere\, filho de escravos\, São Calisto não teve vida fácil. Ele está sepultado com efeito na igreja de Santa Maria\, em Trastevere\, e não nas catacumbas que levam seu nome. Administrador pouco habilidoso. O cristão Carpóforo\, da família do imperador Cômodo\, havia lhe confiado a administração dos bens da comunidade cristã. Não foi um hábil administrador e\, descoberto um grande desfalque\, Calisto fugiu. Capturado em Óstia\, a ponto de zarpar\, foi condenado a girar a roda de um moinho. Carpóforo mostrou-se generoso\, condenando-o a pagar o débito\, mas a justiça seguiu seu curso. Foi condenado à flagelação\, depois\, deportado para as minas da Sardenha. Leia mais…. \n 
URL:https://gratiaplena.online/event/dia-de-sao-calisto-i/2026-10-14/
CATEGORIES:Santo do Dia
ATTACH;FMTTYPE=image/jpeg:https://gratiaplena.online/wp-content/uploads/2024/07/Sao-Calisto-I.jpg
ORGANIZER;CN="Administrador":MAILTO:epzanette@gmail.com
END:VEVENT
BEGIN:VEVENT
DTSTART;VALUE=DATE:20271014
DTEND;VALUE=DATE:20271015
DTSTAMP:20260423T171632
CREATED:20240729T200503Z
LAST-MODIFIED:20240729T200503Z
UID:10001884-1823472000-1823558399@gratiaplena.online
SUMMARY:Dia de São Calisto I
DESCRIPTION:Comemoramos hoje (14 Out) a festa de São Calisto I. Origens: Romano de Trastevere\, filho de escravos\, São Calisto não teve vida fácil. Ele está sepultado com efeito na igreja de Santa Maria\, em Trastevere\, e não nas catacumbas que levam seu nome. Administrador pouco habilidoso. O cristão Carpóforo\, da família do imperador Cômodo\, havia lhe confiado a administração dos bens da comunidade cristã. Não foi um hábil administrador e\, descoberto um grande desfalque\, Calisto fugiu. Capturado em Óstia\, a ponto de zarpar\, foi condenado a girar a roda de um moinho. Carpóforo mostrou-se generoso\, condenando-o a pagar o débito\, mas a justiça seguiu seu curso. Foi condenado à flagelação\, depois\, deportado para as minas da Sardenha. Leia mais…. \n 
URL:https://gratiaplena.online/event/dia-de-sao-calisto-i/2027-10-14/
CATEGORIES:Santo do Dia
ATTACH;FMTTYPE=image/jpeg:https://gratiaplena.online/wp-content/uploads/2024/07/Sao-Calisto-I.jpg
ORGANIZER;CN="Administrador":MAILTO:epzanette@gmail.com
END:VEVENT
BEGIN:VEVENT
DTSTART;VALUE=DATE:20281014
DTEND;VALUE=DATE:20281015
DTSTAMP:20260423T171632
CREATED:20240729T200503Z
LAST-MODIFIED:20240729T200503Z
UID:10001885-1855094400-1855180799@gratiaplena.online
SUMMARY:Dia de São Calisto I
DESCRIPTION:Comemoramos hoje (14 Out) a festa de São Calisto I. Origens: Romano de Trastevere\, filho de escravos\, São Calisto não teve vida fácil. Ele está sepultado com efeito na igreja de Santa Maria\, em Trastevere\, e não nas catacumbas que levam seu nome. Administrador pouco habilidoso. O cristão Carpóforo\, da família do imperador Cômodo\, havia lhe confiado a administração dos bens da comunidade cristã. Não foi um hábil administrador e\, descoberto um grande desfalque\, Calisto fugiu. Capturado em Óstia\, a ponto de zarpar\, foi condenado a girar a roda de um moinho. Carpóforo mostrou-se generoso\, condenando-o a pagar o débito\, mas a justiça seguiu seu curso. Foi condenado à flagelação\, depois\, deportado para as minas da Sardenha. Leia mais…. \n 
URL:https://gratiaplena.online/event/dia-de-sao-calisto-i/2028-10-14/
CATEGORIES:Santo do Dia
ATTACH;FMTTYPE=image/jpeg:https://gratiaplena.online/wp-content/uploads/2024/07/Sao-Calisto-I.jpg
ORGANIZER;CN="Administrador":MAILTO:epzanette@gmail.com
END:VEVENT
END:VCALENDAR