BEGIN:VCALENDAR
VERSION:2.0
PRODID:-//GratiaPlena - ECPv6.15.20//NONSGML v1.0//EN
CALSCALE:GREGORIAN
METHOD:PUBLISH
X-WR-CALNAME:GratiaPlena
X-ORIGINAL-URL:https://gratiaplena.online
X-WR-CALDESC:Eventos para GratiaPlena
REFRESH-INTERVAL;VALUE=DURATION:PT1H
X-Robots-Tag:noindex
X-PUBLISHED-TTL:PT1H
BEGIN:VTIMEZONE
TZID:America/Sao_Paulo
BEGIN:STANDARD
TZOFFSETFROM:-0300
TZOFFSETTO:-0300
TZNAME:-03
DTSTART:20250101T000000
END:STANDARD
END:VTIMEZONE
BEGIN:VEVENT
DTSTART;VALUE=DATE:20260826
DTEND;VALUE=DATE:20260827
DTSTAMP:20260423T170742
CREATED:20240729T192033Z
LAST-MODIFIED:20240729T192033Z
UID:10001877-1787702400-1787788799@gratiaplena.online
SUMMARY:Dia de São Zeferino
DESCRIPTION:Comemoramos hoje (26 Ago) a festa de São Zeferino. São Zeferino tornou-se Papa e permaneceu à frente da Igreja por cerca de 20 anos\, além disso\, viu-se diante da heresia modalista\, que tinha uma concepção errônea da relação entre o Pai e o Filho. Ele foi o primeiro dos Papas que foram enterrados em Calisto na Via Appia. Papa no ano 199\, no período de terror de Septímio Severo\, Zeferino lutou contra o modalismo\, a heresia que tinha uma concepção errada da relação entre o Pai e o Filho. Encarregou seu diácono Calisto para construir o cemitério da Igreja de Roma na Via Ápia\, onde foi sepultado o primeiro Papa. Leia mais…. \n 
URL:https://gratiaplena.online/event/dia-de-sao-zeferino/2026-08-26/
CATEGORIES:Santo do Dia
ATTACH;FMTTYPE=image/jpeg:https://gratiaplena.online/wp-content/uploads/2024/07/Sao-Zeferino.jpg
ORGANIZER;CN="Administrador":MAILTO:epzanette@gmail.com
END:VEVENT
BEGIN:VEVENT
DTSTART;VALUE=DATE:20270826
DTEND;VALUE=DATE:20270827
DTSTAMP:20260423T170742
CREATED:20240729T192033Z
LAST-MODIFIED:20240729T192033Z
UID:10001878-1819238400-1819324799@gratiaplena.online
SUMMARY:Dia de São Zeferino
DESCRIPTION:Comemoramos hoje (26 Ago) a festa de São Zeferino. São Zeferino tornou-se Papa e permaneceu à frente da Igreja por cerca de 20 anos\, além disso\, viu-se diante da heresia modalista\, que tinha uma concepção errônea da relação entre o Pai e o Filho. Ele foi o primeiro dos Papas que foram enterrados em Calisto na Via Appia. Papa no ano 199\, no período de terror de Septímio Severo\, Zeferino lutou contra o modalismo\, a heresia que tinha uma concepção errada da relação entre o Pai e o Filho. Encarregou seu diácono Calisto para construir o cemitério da Igreja de Roma na Via Ápia\, onde foi sepultado o primeiro Papa. Leia mais…. \n 
URL:https://gratiaplena.online/event/dia-de-sao-zeferino/2027-08-26/
CATEGORIES:Santo do Dia
ATTACH;FMTTYPE=image/jpeg:https://gratiaplena.online/wp-content/uploads/2024/07/Sao-Zeferino.jpg
ORGANIZER;CN="Administrador":MAILTO:epzanette@gmail.com
END:VEVENT
BEGIN:VEVENT
DTSTART;VALUE=DATE:20280826
DTEND;VALUE=DATE:20280827
DTSTAMP:20260423T170742
CREATED:20240729T192033Z
LAST-MODIFIED:20240729T192033Z
UID:10001879-1850860800-1850947199@gratiaplena.online
SUMMARY:Dia de São Zeferino
DESCRIPTION:Comemoramos hoje (26 Ago) a festa de São Zeferino. São Zeferino tornou-se Papa e permaneceu à frente da Igreja por cerca de 20 anos\, além disso\, viu-se diante da heresia modalista\, que tinha uma concepção errônea da relação entre o Pai e o Filho. Ele foi o primeiro dos Papas que foram enterrados em Calisto na Via Appia. Papa no ano 199\, no período de terror de Septímio Severo\, Zeferino lutou contra o modalismo\, a heresia que tinha uma concepção errada da relação entre o Pai e o Filho. Encarregou seu diácono Calisto para construir o cemitério da Igreja de Roma na Via Ápia\, onde foi sepultado o primeiro Papa. Leia mais…. \n 
URL:https://gratiaplena.online/event/dia-de-sao-zeferino/2028-08-26/
CATEGORIES:Santo do Dia
ATTACH;FMTTYPE=image/jpeg:https://gratiaplena.online/wp-content/uploads/2024/07/Sao-Zeferino.jpg
ORGANIZER;CN="Administrador":MAILTO:epzanette@gmail.com
END:VEVENT
END:VCALENDAR