BEGIN:VCALENDAR
VERSION:2.0
PRODID:-//GratiaPlena - ECPv6.15.20//NONSGML v1.0//EN
CALSCALE:GREGORIAN
METHOD:PUBLISH
X-ORIGINAL-URL:https://gratiaplena.online
X-WR-CALDESC:Eventos para GratiaPlena
REFRESH-INTERVAL;VALUE=DURATION:PT1H
X-Robots-Tag:noindex
X-PUBLISHED-TTL:PT1H
BEGIN:VTIMEZONE
TZID:America/Sao_Paulo
BEGIN:STANDARD
TZOFFSETFROM:-0300
TZOFFSETTO:-0300
TZNAME:-03
DTSTART:20230101T000000
END:STANDARD
END:VTIMEZONE
BEGIN:VEVENT
DTSTART;VALUE=DATE:20251028
DTEND;VALUE=DATE:20251029
DTSTAMP:20260423T171754
CREATED:20231130T190422Z
LAST-MODIFIED:20240828T140413Z
UID:10000647-1761609600-1761695999@gratiaplena.online
SUMMARY:Dia de São Judas Tadeu
DESCRIPTION:Celebramos hoje (28 Out) a festa do Padroeiro de nossa Paróquia. Dois Santos e dois Apóstolos de Cristo; segundo a tradição\, ambos foram mártires do Evangelho\, na Mesopotâmia. A Igreja comemora a sua festa no dia 28 de outubro: A história dos dois discípulos\, unidos pelo amor de Cristo e pelo seu testemunho corajoso\, é recordada em uma única data.  Simão (dito o Zelote) e Judas Tadeu.
URL:https://gratiaplena.online/event/dia-de-sao-judas-tadeu/2025-10-28/
LOCATION:Igreja São Judas Tadeu\, Rua 10 de abril\, 879\, Vila Luiza\, Passo Fundo\, Rio Grande do Sul\, 99010-210\, Brazil
CATEGORIES:Santo do Dia
ATTACH;FMTTYPE=image/jpeg:https://gratiaplena.online/wp-content/uploads/2023/11/Sao-Judas-Tadeu.jpg
ORGANIZER;CN="Par%C3%B3quia S%C3%A3o Judas Tadeu":MAILTO:secsjt@arquidiocesedepassofundo.com.br
END:VEVENT
BEGIN:VEVENT
DTSTART;VALUE=DATE:20251004
DTEND;VALUE=DATE:20251005
DTSTAMP:20260423T171754
CREATED:20231130T145115Z
LAST-MODIFIED:20240905T175948Z
UID:10000657-1759536000-1759622399@gratiaplena.online
SUMMARY:Dia de São Francisco de Assis
DESCRIPTION:Celebramos hoje (4 Out) a memória do Padroeiro de nossa Paróquia. São Francisco de Assis nasceu em Assis\, Itália\, em 1182. Era filho de Pedro Bernardone\, um rico comerciante\, e Pia\, de família nobre da Provença. Na juventude\, Francisco era muito rico e esbanjava dinheiro com ostentações. Porém\, os negócios de seu pai não lhe despertaram interesse\, muito menos os estudos. O que ele queria mesmo era se divertir. Porém\, São Boaventura\, seu contemporâneo\, escreveu sobre ele: “Mas\, com o auxílio divino\, jamais se deixou levar pelo ardor das paixões que dominavam os jovens de sua companhia”. Leia mais….
URL:https://gratiaplena.online/event/dia-de-sao-francisco-de-assis/2025-10-04/
LOCATION:Igreja São Francisco de Assis\, Rua Aspirante Jenner\, 579\, Santa Maria\, Passo Fundo\, Rio Grande do Sul\, 99070-020\, Brazil
CATEGORIES:Santo do Dia
ATTACH;FMTTYPE=image/jpeg:https://gratiaplena.online/wp-content/uploads/2023/11/Sao-Francisco-de-Assis2.jpg
ORGANIZER;CN="Par%C3%B3quia S%C3%A3o Francisco de Assis":MAILTO:paroquiasfa@arquidiocesedepassofundo.com.br
END:VEVENT
BEGIN:VEVENT
DTSTART;VALUE=DATE:20250613
DTEND;VALUE=DATE:20250614
DTSTAMP:20260423T171754
CREATED:20231130T121451Z
LAST-MODIFIED:20240517T164209Z
UID:10000682-1749772800-1749859199@gratiaplena.online
SUMMARY:Dia de Santo Antônio
DESCRIPTION:Celebramos hoje (13 Jun) a solenidade do Padroeiro de nossa Paróquia. Seu nome de batismo é Fernando. No ano seguinte\, em comemoração à sua morte\, o Papa Gregório IX anunciou sua canonização. No dia 8 de abril de 1263\, seu corpo foi transferido para uma basílica erguida em sua homenagem na mesma cidade e\, mais tarde\, em 1310\, seus restos mortais foram depositados em uma capela recém-construída na extremidade esquerda da mesma basílica. Em 1946\, o Papa Pio XII declarou oficialmente Santo Antônio de Pádua como Doutor da Igreja. \n 
URL:https://gratiaplena.online/event/dia-de-santo-antonio/2025-06-13/
LOCATION:Igreja Santo Antônio\, Rua Moron\, 732\, Bairro Petrópolis\, Passo Fundo\, Rio Grande do Sul\, 99051-400\, Brazil
CATEGORIES:Santo do Dia
ATTACH;FMTTYPE=image/jpeg:https://gratiaplena.online/wp-content/uploads/2023/11/Santo-Antonio.jpg
ORGANIZER;CN="Par%C3%B3quia Santo Ant%C3%B4nio":MAILTO:psapf@arquidiocesedepassofundo.com.br
END:VEVENT
BEGIN:VEVENT
DTSTART;VALUE=DATE:20250501
DTEND;VALUE=DATE:20250502
DTSTAMP:20260423T171754
CREATED:20231130T162638Z
LAST-MODIFIED:20240517T164133Z
UID:10000692-1746057600-1746143999@gratiaplena.online
SUMMARY:Dia de São José Operário
DESCRIPTION:Celebramos hoje (1 Mai) a solenidade do Padroeiro de nossa Paróquia. Celebra-se\, hoje\, São José\, pai terreno de Jesus\, sob as vestes de carpinteiro\, que dá testemunho do fato de que até o trabalho humilde pode tornar o homem partícipe do plano divino da salvação. É venerado como Padroeiro dos trabalhadores cristãos.
URL:https://gratiaplena.online/event/dia-de-sao-jose-operario/2025-05-01/
LOCATION:Igreja São José Operário\, Rua São Leopoldo\, 01\, Bairro Vera Cruz\, Passo Fundo\, Rio Grande do Sul\, 99040-040\, Brazil
CATEGORIES:Santo do Dia
ATTACH;FMTTYPE=image/jpeg:https://gratiaplena.online/wp-content/uploads/2023/11/Sao-Jose-Operario-02.jpg
ORGANIZER;CN="Par%C3%B3quia S%C3%A3o Jos%C3%A9 Oper%C3%A1rio":MAILTO:sjoperariopf@arquidiocesedepassofundo.com.br
END:VEVENT
BEGIN:VEVENT
DTSTART;TZID=America/Sao_Paulo:20240428T140000
DTEND;TZID=America/Sao_Paulo:20240428T193000
DTSTAMP:20260423T171754
CREATED:20240421T151719Z
LAST-MODIFIED:20240517T163713Z
UID:10001778-1714312800-1714332600@gratiaplena.online
SUMMARY:Tarde de Recolhimento
DESCRIPTION:Lembrando da nossa TARDE DE REFLEXÃO\, que será no próximo Domingo dia 28/04/2024 das 14h às 17h30\, na Casa Stª Cruz\, o encontro terá assessoria do Padre Marco Petry. \nConfirme sua presença para melhor organização do evento. Será servido um lanche aos participantes. Taxa de participação CR$ 25\,00 (vinte e cinco reais) por pessoa\, que pode ser pago na hora da inscrição. \nTambém haverá carona solidária em frente à Catedral as 13:30\, quem precisar por gentileza avisar. \nOBS: As inscrições poderão ser feitas na Secretaria da Catedral\, em horário de expediente. \nConfirmações podem ser feitas pelo WhatsApp da Catedral\, 30459210 \nMaterial de apoio: “Programa” \nConfirme sua inscrição\, Clicando aqui
URL:https://gratiaplena.online/event/tarde-de-recolhimento-2/
LOCATION:Casa Santa Cruz\, R. João Biazus\, 510 - Bairro Tupinambá\, Passo Fundo\, Rio Grande do Sul\, 99070-972\, Brazil
CATEGORIES:Retiro
ATTACH;FMTTYPE=image/png:https://gratiaplena.online/wp-content/uploads/2024/04/Tarde-de-Recolhimento.png
ORGANIZER;CN="Ana Paula de Oliveira Spannenberg":MAILTO:anapaulaspann@gmail.com
END:VEVENT
END:VCALENDAR