BEGIN:VCALENDAR
VERSION:2.0
PRODID:-//GratiaPlena - ECPv6.15.20//NONSGML v1.0//EN
CALSCALE:GREGORIAN
METHOD:PUBLISH
X-ORIGINAL-URL:https://gratiaplena.online
X-WR-CALDESC:Eventos para GratiaPlena
REFRESH-INTERVAL;VALUE=DURATION:PT1H
X-Robots-Tag:noindex
X-PUBLISHED-TTL:PT1H
BEGIN:VTIMEZONE
TZID:America/Sao_Paulo
BEGIN:STANDARD
TZOFFSETFROM:-0300
TZOFFSETTO:-0300
TZNAME:-03
DTSTART:20240101T000000
END:STANDARD
END:VTIMEZONE
BEGIN:VEVENT
DTSTART;VALUE=DATE:20251110
DTEND;VALUE=DATE:20251111
DTSTAMP:20260423T200851
CREATED:20240121T231744Z
LAST-MODIFIED:20240121T231744Z
UID:10001118-1762732800-1762819199@gratiaplena.online
SUMMARY:Dia de São Leão Magno
DESCRIPTION:Celebramos hoje (10 Nov) a memória do Papa São Leão I Magno. S. Leão I\, chamado Magno\, esteve à frente do governo visível da Igreja num momento mais do que delicado\, em que\, de uma lado\, invasões bárbaras de um Átila punham em perigo a cristandade e\, de outro\, heresias cristológicas de um Eutiques ameaçavam a pureza da fé católica e ortodoxa.
URL:https://gratiaplena.online/event/dia-de-sao-leao-magno/2025-11-10/
CATEGORIES:Santo do Dia
ATTACH;FMTTYPE=image/jpeg:https://gratiaplena.online/wp-content/uploads/2024/01/Sao-Leao-Magno2.jpeg
ORGANIZER;CN="Administrador":MAILTO:epzanette@gmail.com
END:VEVENT
BEGIN:VEVENT
DTSTART;VALUE=DATE:20251115
DTEND;VALUE=DATE:20251116
DTSTAMP:20260423T200851
CREATED:20240309T001550Z
LAST-MODIFIED:20240828T141014Z
UID:10001461-1763164800-1763251199@gratiaplena.online
SUMMARY:Dia de Santo Alberto Magno
DESCRIPTION:Celebramos hoje (15 Nov) a festa de Santo Alberto Magno. Alberto — que a posteridade chamará “Magno”\, isto é\, grande —\, nascido em Lauingen\, na Baviera\, em 1200\, está entre os primeiros pensadores medievais a afirmar a autonomia da ciência e da filosofia em relação à teologia. Verdadeiro gênio enciclopédico\, capaz de mover-se com grande segurança nos mais diferentes campos do conhecimento humano\, conviveu em perfeita harmonia entre as razões da ciência e da fé. “Senhor Jesus”\, rezava\, “invocamos a tua ajuda para não nos deixarmos seduzir pelas vãs palavras tentadoras sobre a nobreza da família\, sobre o prestígio da instituição\, sobre o que a ciência tem de atraente.”
URL:https://gratiaplena.online/event/dia-de-santo-alberto-magno/2025-11-15/
CATEGORIES:Santo do Dia
ATTACH;FMTTYPE=image/jpeg:https://gratiaplena.online/wp-content/uploads/2024/03/Santo-Alberto-Magno2-1.jpg
ORGANIZER;CN="Administrador":MAILTO:epzanette@gmail.com
END:VEVENT
BEGIN:VEVENT
DTSTART;VALUE=DATE:20251119
DTEND;VALUE=DATE:20251120
DTSTAMP:20260423T200851
CREATED:20240107T145901Z
LAST-MODIFIED:20240828T141733Z
UID:10001015-1763510400-1763596799@gratiaplena.online
SUMMARY:Dia de Santo Abdias
DESCRIPTION:Celebramos hoje (19 Nov) a festa de Santo Abdias. Não se sabe quase nada deste ” pequeno profeta “\, mas algumas tradições cristãs afirmam que ele teria nascido em Siquem. Profeta santo que predisse a destruição de Edom como castigo ao mal que fez contra Jacó\, seu irmão. A data do seu ministério não é conhecida\, ao certo\, devido a determinadas ambiguidades históricas no livro que leva o seu nome. Porém\, pelo oque ele escreveu em sua profecia deve ter vivido nos tempos do rei Acaz\, ou seja\, por volta do ano 741 ac. O seu livro éo menor do antigo testamento\, contando com apenas 21 versículos. Sua profecia deve ser fixada no tempo do exílio. Ele é conhecido por dois nomes: Obadias ou Abdias. Leia mais….
URL:https://gratiaplena.online/event/dia-de-santo-abdias/2025-11-19/
CATEGORIES:Santo do Dia
ATTACH;FMTTYPE=image/jpeg:https://gratiaplena.online/wp-content/uploads/2024/01/Abdias.jpg
ORGANIZER;CN="Administrador":MAILTO:epzanette@gmail.com
END:VEVENT
BEGIN:VEVENT
DTSTART;VALUE=DATE:20251122
DTEND;VALUE=DATE:20251123
DTSTAMP:20260423T200851
CREATED:20231123T032026Z
LAST-MODIFIED:20231211T170554Z
UID:10000638-1763769600-1763855999@gratiaplena.online
SUMMARY:Dia de Santa Cecília
DESCRIPTION:Celebramos hoje (22 Nov) a memória de Santa Cecília\, uma santa cristã\, padroeira dos músicos e da música sacra\, pois consta que ao morrer ela teria cantado a Deus. Não se tem muitas informações sobre a sua vida. Escavações arqueológicas não deixam dúvidas sobre sua existência\, mas sua história só foi registrada no século V\, na narrativa Paixão de Santa Cecília. Santa Cecília é a santa da Igreja Católica que mais tem basílicas em Roma (nenhuma outra santa conseguiu tal feito) e é uma das santas mais veneradas da Idade Média\, além de ser a primeira santa encontrada com corpo incorrupto\, no ano de 1599\, mesmo depois de tantos séculos. Uma estátua de seu corpo que não se decompôs com a força do tempo até então foi feita por Stefano Maderno (1566-1636). \n(Maestro della Santa Cecilia\, Wikipédia\, Santa Cecilia e storie della sua vita\, 1304 Uffizi)
URL:https://gratiaplena.online/event/dia-de-santa-cecilia/2025-11-22/
CATEGORIES:Santo do Dia
ATTACH;FMTTYPE=image/jpeg:https://gratiaplena.online/wp-content/uploads/2023/11/Maestro-della-Santa-Cecilia-Santa-Cecilia-e-storie-della-sua-vita-1304-Uffizi.jpg
ORGANIZER;CN="Administrador":MAILTO:epzanette@gmail.com
END:VEVENT
BEGIN:VEVENT
DTSTART;VALUE=DATE:20251123
DTEND;VALUE=DATE:20251124
DTSTAMP:20260423T200851
CREATED:20240313T173217Z
LAST-MODIFIED:20240828T142238Z
UID:10001527-1763856000-1763942399@gratiaplena.online
SUMMARY:Dia de São Clemente I
DESCRIPTION:Celebramos hoje (23 Nov) a festa de São Clemente I\, que também era conhecido como Clemente Romano\, foi o quarto papa da Igreja Católica. Clemente\, teve uma forte influência no catolicismo e foi autor de vários manuscritos que visavam acabar com as diferenças que existiam dentro da religião. Seus manuscritos foram amplamente divulgados na época\, e um dos maiores documentos que São Clemente escreveu foi a Epístola de Clemente aos Coríntios. Esse documento tinha como objetivo unir e trazer a “paz” para toda a igreja e a cidade de Corinto: onde ambas viviam em pleno estado de decadência devido o ciúme e a inveja que destoavam da mensagem de Deus.
URL:https://gratiaplena.online/event/dia-de-sao-clemente-i/2025-11-23/
CATEGORIES:Santo do Dia
ATTACH;FMTTYPE=image/jpeg:https://gratiaplena.online/wp-content/uploads/2024/03/Sao-Clemente-I-2.jpg
ORGANIZER;CN="Administrador":MAILTO:epzanette@gmail.com
END:VEVENT
BEGIN:VEVENT
DTSTART;VALUE=DATE:20251130
DTEND;VALUE=DATE:20251201
DTSTAMP:20260423T200851
CREATED:20231130T113357Z
LAST-MODIFIED:20240828T142557Z
UID:10000628-1764460800-1764547199@gratiaplena.online
SUMMARY:Dia de Santo André
DESCRIPTION:Celebramos hoje (30 Nov) a festa de Santo André. No último dia de novembro\, celebramos no calendário litúrgico da Igreja Católica\, Santo André Apóstolo\, um dos doze apóstolos de Jesus. Antes de ser chamado\, era pescador\, trabalhava com seu irmão Pedro. Ambos foram feitos por Jesus\, missionários do Reino\, fundadores de comunidades de fé e vida. 
URL:https://gratiaplena.online/event/dia-de-santo-andre/2025-11-30/
CATEGORIES:Santo do Dia
ATTACH;FMTTYPE=image/jpeg:https://gratiaplena.online/wp-content/uploads/2023/11/Santo-Andre.jpg
ORGANIZER;CN="Administrador":MAILTO:epzanette@gmail.com
END:VEVENT
END:VCALENDAR