BEGIN:VCALENDAR
VERSION:2.0
PRODID:-//GratiaPlena - ECPv6.15.20//NONSGML v1.0//EN
CALSCALE:GREGORIAN
METHOD:PUBLISH
X-ORIGINAL-URL:https://gratiaplena.online
X-WR-CALDESC:Eventos para GratiaPlena
REFRESH-INTERVAL;VALUE=DURATION:PT1H
X-Robots-Tag:noindex
X-PUBLISHED-TTL:PT1H
BEGIN:VTIMEZONE
TZID:America/Sao_Paulo
BEGIN:STANDARD
TZOFFSETFROM:-0300
TZOFFSETTO:-0300
TZNAME:-03
DTSTART:20260101T000000
END:STANDARD
END:VTIMEZONE
BEGIN:VEVENT
DTSTART;VALUE=DATE:20270330
DTEND;VALUE=DATE:20270331
DTSTAMP:20260424T045409
CREATED:20240320T210500Z
LAST-MODIFIED:20240726T172027Z
UID:10001688-1806364800-1806451199@gratiaplena.online
SUMMARY:Dia de Beato Amadeu IX de Savóia
DESCRIPTION:Celebramos hoje (30 Mar) a festa litúrgica de Beato Amadeu IX de Savóia\,  homem que moralizou a corte\, destituindo os corruptos e criando um conselho que ouvia as reivindicações do povo. Sabóia foi chamada de o “Paraíso dos pobres” e\, ao morrer\, Santo Amadeu recomendou a todos que ajudassem os mais necessitados: “Fazei justiça sem distinção de pessoas”.
URL:https://gratiaplena.online/event/dia-de-beato-amadeu-ix-de-savoia/2027-03-30/
CATEGORIES:Santo do Dia
ATTACH;FMTTYPE=image/jpeg:https://gratiaplena.online/wp-content/uploads/2024/03/Beato-Amadeu-IX-de-Savoia2.jpg
ORGANIZER;CN="Administrador":MAILTO:epzanette@gmail.com
END:VEVENT
BEGIN:VEVENT
DTSTART;VALUE=DATE:20270331
DTEND;VALUE=DATE:20270401
DTSTAMP:20260424T045409
CREATED:20240323T142717Z
LAST-MODIFIED:20240401T112429Z
UID:10001697-1806451200-1806537599@gratiaplena.online
SUMMARY:Dia de Santa Balbina
DESCRIPTION:Celebramos hoje (31 Mar ) a memória litúrgica de Santa Balbina. Em 132\, mais provavelmente no dia 31 de março\, foi “presa com o pai por ordem do imperador Adriano II (117-135) e\, com barbaridade\, cortaram- lhe a cabeça. Devido a sua bravura diante da morte e por ter morrido em nome da fé\, foi elevada\, pelos hagiógrafos\, à categoria de mártir e santa\, sendo-lhe dedicada uma Basílica Menor em Roma\, a Basílica de Santa Balbina”.
URL:https://gratiaplena.online/event/dia-de-santa-balbina/2027-03-31/
CATEGORIES:Santo do Dia
ATTACH;FMTTYPE=image/png:https://gratiaplena.online/wp-content/uploads/2024/03/Santa-Balbina2.png
ORGANIZER;CN="Administrador":MAILTO:epzanette@gmail.com
END:VEVENT
BEGIN:VEVENT
DTSTART;VALUE=DATE:20270331
DTEND;VALUE=DATE:20270401
DTSTAMP:20260424T045409
CREATED:20240323T165241Z
LAST-MODIFIED:20240401T112727Z
UID:10001702-1806451200-1806537599@gratiaplena.online
SUMMARY:Dia de São Benjamim
DESCRIPTION:Comemoramos hoje (31 Mar) a memória litúrga de São Benjamim. Nasceu no ano de 394 na Pérsia e\, ao ser evangelizado\, começou a participar da Igreja ao ponto de descobrir sua vocação ao diaconato. Serviu a Palavra e aos irmãos na caridade\, chamando a atenção de muitos para Cristo. Chegou a ser preso por um ano\, sofrendo\, e se renunciasse ao nome de Jesus\, seria solto. Porém\, mesmo na dor\, na solidão e na injustiça\, ele uniu-se ainda mais ao Cristo crucificado. \n 
URL:https://gratiaplena.online/event/dia-de-sao-benjamim/2027-03-31/
CATEGORIES:Santo do Dia
ATTACH;FMTTYPE=image/png:https://gratiaplena.online/wp-content/uploads/2024/03/Sao-Benjamim2.png
ORGANIZER;CN="Administrador":MAILTO:epzanette@gmail.com
END:VEVENT
BEGIN:VEVENT
DTSTART;VALUE=DATE:20270403
DTEND;VALUE=DATE:20270404
DTSTAMP:20260424T045409
CREATED:20240314T191021Z
LAST-MODIFIED:20240314T191021Z
UID:10001547-1806710400-1806796799@gratiaplena.online
SUMMARY:Dia de Sâo Sisto I
DESCRIPTION:Celebramos hoje (3 Abr) a memória litúrgica de Sâo Sisto I. Sexto sucessor de Pedro\, São Sisto I introduziu na missa o tríplice canto do Sanctus. Hoje é dia de São Sisto I\, Papa e mártir. Sisto foi o sétimo Pontífice da Igreja\, ocupando a Cátedra de Pedro entre 115 e 125\, um papado longevo\, considerando-se o contexto de perseguição anticristã em tal fase da Igreja Primitiva. Procedente da Calábria\, Sisto sistematizou e normatizou vários procedimentos sagrados nas cerimônias religiosas\, como a permissão de se tocar os objetos sagrados ser exclusiva dos religiosos ou seus ministros autorizados\, e o tríplice canto do Sanctus nas missas. Não há registros sobre sua morte\, mas a Igreja honra-o como mártir.
URL:https://gratiaplena.online/event/dia-de-sao-sisto-i/2027-04-03/
CATEGORIES:Santo do Dia
ATTACH;FMTTYPE=image/jpeg:https://gratiaplena.online/wp-content/uploads/2024/03/Sao-Sisto-I-2.jpeg
ORGANIZER;CN="Administrador":MAILTO:epzanette@gmail.com
END:VEVENT
BEGIN:VEVENT
DTSTART;VALUE=DATE:20270404
DTEND;VALUE=DATE:20270405
DTSTAMP:20260424T045409
CREATED:20240119T180113Z
LAST-MODIFIED:20240119T180113Z
UID:10001096-1806796800-1806883199@gratiaplena.online
SUMMARY:Dia de Santo Isidoro
DESCRIPTION:Celebramos hoje (4 Abr) a memória litúrgica de Santo Isidoro de Sevilha\, nasceu em Cartagena\, Espanha\, por volta de 560; morreu em 4 de abril de 636. Isidoro era filho de Severiano e Teodora. Seu irmão mais velho\, Leander\, foi seu antecessor imediato na Sé Metropolitana de Sevilha; enquanto um irmão mais novo\, São Fulgêncio\, presidiu o Bispado de Astigi. Sua irmã Florentina era freira e teria governado quarenta conventos e mil religiosos. Isidoro recebeu o ensino fundamental na escola da Catedral de Sevilha. Nesta instituição\, a primeira do género em Espanha\, o trivium e o quadrivium eram ensinados por um corpo de homens eruditos\, entre os quais estava o arcebispo Leandro. 
URL:https://gratiaplena.online/event/dia-de-santo-isidoro/2027-04-04/
CATEGORIES:Santo do Dia
ATTACH;FMTTYPE=image/jpeg:https://gratiaplena.online/wp-content/uploads/2024/01/Santo-Isidoro-de-Sevilha2.jpg
ORGANIZER;CN="Administrador":MAILTO:epzanette@gmail.com
END:VEVENT
BEGIN:VEVENT
DTSTART;VALUE=DATE:20270405
DTEND;VALUE=DATE:20270406
DTSTAMP:20260424T045409
CREATED:20240101T134208Z
LAST-MODIFIED:20250116T131641Z
UID:10001349-1806883200-1806969599@gratiaplena.online
SUMMARY:Dia de Santa Juliana de Liége
DESCRIPTION:Celebramos hoje (5 Abr) a festa de Santa Juliana de Liège. Santa Juliana de Mont Cornillon\, também conhecida como Juliana de Liège\, nasceu perto de Liège\, Bélgica. Ficou órfã aos cinco anos e foi colocada no convento de Mt. Cornillon\, perto de Liège. Ela fez rápido progresso na virtude e cresceu no amor pela Paixão de Cristo\, pela Bem-Aventurada Virgem Maria e pelo Santíssimo Sacramento. Aos treze anos\, tornou-se freira e dedicou-se a cuidar dos doentes no hospital do convento. Ela eventualmente se tornou a superiora de sua comunidade. Ensinada em repetidas visões que Nosso Senhor queria que uma festa litúrgica em honra à Sagrada Eucaristia fosse estabelecida\, ela trabalhou diligentemente para que a festa de Corpus Christi fosse instituída para a Igreja Universal\, uma tarefa pela qual ela sofreu muita oposição. Ela foi forçada a fugir de seu convento depois que seu superior geral excitou a população contra ela e suas visões. Mais tarde\, ela foi vindicada pelo bispo e retornou ao seu lugar de direito\, apenas para ser forçada a fugir uma última vez\, terminando sua vida em reclusão. Leia mais….
URL:https://gratiaplena.online/event/3931-2/2027-04-05/
CATEGORIES:Santo do Dia
ATTACH;FMTTYPE=image/png:https://gratiaplena.online/wp-content/uploads/2024/01/Santa-Juliana-de-Liege.png
ORGANIZER;CN="Administrador":MAILTO:epzanette@gmail.com
END:VEVENT
BEGIN:VEVENT
DTSTART;VALUE=DATE:20270412
DTEND;VALUE=DATE:20270413
DTSTAMP:20260424T045409
CREATED:20240902T185020Z
LAST-MODIFIED:20240902T185020Z
UID:10001948-1807488000-1807574399@gratiaplena.online
SUMMARY:Dia de São Zenão\, bispo de Verona
DESCRIPTION:Quando Zenão tornou-se bispo de Verona\, em 362\, recebeu o apelido de “mouro e pescador”\, por suas origens no norte da África. Durante seu episcopado\, enfrentou o Arianismo e o Paganismo\, e deu grande exemplo de caridade\, humildade e generosidade para com os pobres. Hoje\, é Padroeiro da cidade.
URL:https://gratiaplena.online/event/dia-de-sao-zenao-bispo-de-verona/2027-04-12/
CATEGORIES:Santo do Dia
ATTACH;FMTTYPE=image/jpeg:https://gratiaplena.online/wp-content/uploads/2024/09/Sao-Zanao3-1.jpg
ORGANIZER;CN="Administrador":MAILTO:epzanette@gmail.com
END:VEVENT
BEGIN:VEVENT
DTSTART;VALUE=DATE:20270416
DTEND;VALUE=DATE:20270417
DTSTAMP:20260424T045409
CREATED:20240211T204000Z
LAST-MODIFIED:20240211T204000Z
UID:10001291-1807833600-1807919999@gratiaplena.online
SUMMARY:Dia de Santa Maria Bernardete Soubirous
DESCRIPTION:Celebramos hoje (16 Abr) a memória litúrgica de Santa Bernadete Soubirous\, essa religiosa\, meio francesa meio espanhola\, que\, com apenas quatorze anos de idade\, foi escolhida por Nossa Senhora para anunciar uma mensagem do Céu ao mundo. As aparições de Lourdes têm uma nota toda especial em relação às demais. Em Paris\, La Salette e Fátima\, a Virgem Maria falou aos videntes sobre um futuro sombrio\, marcado por guerras e perseguições à Igreja.
URL:https://gratiaplena.online/event/dia-de-santa-maria-bernardete-soubirous/2027-04-16/
CATEGORIES:Santo do Dia
ATTACH;FMTTYPE=image/webp:https://gratiaplena.online/wp-content/uploads/2024/02/Santa-Bernardete-Soubirous2.webp
ORGANIZER;CN="Administrador":MAILTO:epzanette@gmail.com
END:VEVENT
BEGIN:VEVENT
DTSTART;VALUE=DATE:20270420
DTEND;VALUE=DATE:20270421
DTSTAMP:20260424T045409
CREATED:20240711T195748Z
LAST-MODIFIED:20240728T201528Z
UID:10001795-1808179200-1808265599@gratiaplena.online
SUMMARY:Dia de Santo Aniceto
DESCRIPTION:Comemoramos hoje (20 Abr) a memória de Santo Aniceto. Aniceto nasceu na Síria e foi sucessor do papa são Pio I\, em 155\, no tempo em que Antônio era o imperador romano. Entretanto\, além da perseguição sistemática por parte do Império\, o papa Aniceto teve de enfrentar\, também\, cismas internos que abalaram o cristianismo. A começar por Valentim\, passando por Marcelina\, que fundou a seita dos carpocratitas\, considerada muito imoral pela Igreja\, e chegando a Marcion\, um propagador\, com dotes de publicitário\, que arregimentou muita gente\, e muitos outros. Sem contar a questão da celebração da Páscoa. Leia mais….
URL:https://gratiaplena.online/event/dia-de-santo-aniceto/2027-04-20/
CATEGORIES:Santo do Dia
ATTACH;FMTTYPE=image/jpeg:https://gratiaplena.online/wp-content/uploads/2024/07/Santo-Aniceto-2.jpg
ORGANIZER;CN="Administrador":MAILTO:epzanette@gmail.com
END:VEVENT
BEGIN:VEVENT
DTSTART;VALUE=DATE:20270421
DTEND;VALUE=DATE:20270422
DTSTAMP:20260424T045409
CREATED:20240119T144221Z
LAST-MODIFIED:20240119T144221Z
UID:10001090-1808265600-1808351999@gratiaplena.online
SUMMARY:Dia e Santo Anselmo
DESCRIPTION:Comemoramos hoje (21 Abr) a memória litúrgica de Santo Anselmo de Cantuária\, nasceu em Aosta\, no norte da Itália\, em 1033. Seu pai queria projetar seu filho na vida da nobreza e sonhava para ele uma carreira promissora. Quando soube do desejo de Anselmo em fazer padre\, opõe-se radicalmente. Como Anselmo perdera a mãe muito cedo\, e tinha um coração doce e manso\, fez a vontade do pai até os vinte anos. Mas na flor da juventude\, Anselmo fugiu de casa\, para poder se tornar um religioso. Ele queria dedicar-se de corpo e alma à sua fé\, contrária à vida mundana de festas em meio ao luxo e à riqueza.
URL:https://gratiaplena.online/event/dia-e-santo-anselmo/2027-04-21/
CATEGORIES:Santo do Dia
ATTACH;FMTTYPE=image/jpeg:https://gratiaplena.online/wp-content/uploads/2024/01/Santo-Anselmo2.jpg
ORGANIZER;CN="Administrador":MAILTO:epzanette@gmail.com
END:VEVENT
BEGIN:VEVENT
DTSTART;VALUE=DATE:20270422
DTEND;VALUE=DATE:20270423
DTSTAMP:20260424T045409
CREATED:20240728T195317Z
LAST-MODIFIED:20240728T195317Z
UID:10001864-1808352000-1808438399@gratiaplena.online
SUMMARY:Dia de São Sotero
DESCRIPTION:Homenafgeamos hoje (22 Abr) São Sotero. Poucas são as informações biográficas de Sotero. Foi papa entre 166 e 175\, período em que ser cristão era muito difícil e perigoso. Ele foi eleito o sucessor do papa Aniceto\, que morreu em 165. Nasceu na cidade de Fondi\, na Campânia\, Itália\, e seu pai se chamava Concórdio. Durante o seu pontificado\, a Igreja ampliou-se bastante. Ele mesmo ordenou inúmeros diáconos\, sacerdotes e bispos; e seu pontificado foi exemplar. Disciplinou\, por meio das leis canônicas\, a participação das mulheres na Igreja\, que até então não tinham seu caminho muito bem definido. Mas\, sobretudo\, o papa Sotero combateu com grande valentia e coragem as heresias que pairavam sobre a Igreja dos tempos iniciais do cristianismo. No seu tempo\, foi extinta a heresia de Montano\, que propunha um exagerado rigor de costumes. Era uma doutrina de medo e de pessimismo\, porque o fim do mundo sempre poderia acontecer a qualquer momento. Leia mais….
URL:https://gratiaplena.online/event/dia-de-sao-sotero/2027-04-22/
CATEGORIES:Santo do Dia
ATTACH;FMTTYPE=image/jpeg:https://gratiaplena.online/wp-content/uploads/2024/07/Sao-Sotero2.jpg
ORGANIZER;CN="Administrador":MAILTO:epzanette@gmail.com
END:VEVENT
END:VCALENDAR