BEGIN:VCALENDAR
VERSION:2.0
PRODID:-//GratiaPlena - ECPv6.15.20//NONSGML v1.0//EN
CALSCALE:GREGORIAN
METHOD:PUBLISH
X-WR-CALNAME:GratiaPlena
X-ORIGINAL-URL:https://gratiaplena.online
X-WR-CALDESC:Eventos para GratiaPlena
REFRESH-INTERVAL;VALUE=DURATION:PT1H
X-Robots-Tag:noindex
X-PUBLISHED-TTL:PT1H
BEGIN:VTIMEZONE
TZID:America/Sao_Paulo
BEGIN:STANDARD
TZOFFSETFROM:-0300
TZOFFSETTO:-0300
TZNAME:-03
DTSTART:20280101T000000
END:STANDARD
END:VTIMEZONE
BEGIN:VEVENT
DTSTART;VALUE=DATE:20290810
DTEND;VALUE=DATE:20290811
DTSTAMP:20260425T212228
CREATED:20250127T141343Z
LAST-MODIFIED:20250127T141343Z
UID:10002649-1881014400-1881100799@gratiaplena.online
SUMMARY:Dia de São Lourenço\, Mártir
DESCRIPTION:Celebramos hoje (10 Ago) a festa de São Lourenço\, Mártir. São Lourenço\, o santo espanhol\, também conhecido como Lourenço de Huesta ou Valência. Nasceu em 225 e morreu martirizado em 258\, no dia 10 de agosto\, em Roma. Está entre os diáconos do início da Igreja de Roma. Eles eram considerados os guardiões dos bens da Igreja e dispensadores de ajuda aos pobres. O nome Lourenço é o mesmo que Laureamtenens\, que significa Coroa feita de Louro\, como os vencedores recebiam após suas vitórias. Lourenço obteve a vitória em sua paixão. São Lourenço foi ajudante do Papa Sisto II e responsável por um centro dedicado aos pobres. Leia mais…. \n 
URL:https://gratiaplena.online/event/dia-de-sao-lourenco-martir/2029-08-10/
CATEGORIES:Santo do Dia
ATTACH;FMTTYPE=image/png:https://gratiaplena.online/wp-content/uploads/2025/01/Sao-Lourenco-Martir2.png
ORGANIZER;CN="Administrador":MAILTO:epzanette@gmail.com
END:VEVENT
BEGIN:VEVENT
DTSTART;VALUE=DATE:20290811
DTEND;VALUE=DATE:20290812
DTSTAMP:20260425T212228
CREATED:20231201T174626Z
LAST-MODIFIED:20240828T120559Z
UID:10001889-1881100800-1881187199@gratiaplena.online
SUMMARY:Dia de Santa Clara de Assis
DESCRIPTION:Celebramos hoje (11 Ago) a sua memória. Santa Clara de Assis costuma ser retratada com uma custódia ou um cibório em mãos. Santa Clara de Assis (1193-1253) escutou a voz de Cristo durante um momento dramático e turbulento da história da Itália — no período em que o ambicioso imperador germânico\, Frederico II\, estava empenhado em conquistar a Sicília e a Itália\, além de Roma e dos Estados Pontifícios.
URL:https://gratiaplena.online/event/dia-de-santa-clara-de-assis-2/2029-08-11/
CATEGORIES:Santo do Dia
ATTACH;FMTTYPE=image/jpeg:https://gratiaplena.online/wp-content/uploads/2023/11/Santa-Clara-de-Assis.jpg
ORGANIZER;CN="Administrador":MAILTO:epzanette@gmail.com
END:VEVENT
BEGIN:VEVENT
DTSTART;VALUE=DATE:20290812
DTEND;VALUE=DATE:20290813
DTSTAMP:20260425T212228
CREATED:20240311T172437Z
LAST-MODIFIED:20240828T121206Z
UID:10001890-1881187200-1881273599@gratiaplena.online
SUMMARY:Dia de Beato Inocêncio XI
DESCRIPTION:Celebramos hoje (12 Ago) a festa de Beato Inocêncio XI. Nasceu em 16 de maio de 1611\, no norte da Itália\, com Como. Realizou seus primeiros estudos na mesma cidade\, com os jesuítas e\, depois\, na universidade La Sapienza de Roma e na Universidade da Nápoles\, doutorando-se nesta última em direito civil e direito canônico (1639). Não se tem dados sobre sua vocação e sua ordenação sacerdotal. Em 1645\, o Papa Inocêncio X o nomeou cardeal diácono de São Cosme e Damião. Durante seu pontificado\, teve vários problemas com cardeais franceses e com o rei Luiz XIV da França\, pois não respeitava os direitos da Igreja.
URL:https://gratiaplena.online/event/dia-de-beato-inocencio-xi/2029-08-12/
CATEGORIES:Santo do Dia
ATTACH;FMTTYPE=image/jpeg:https://gratiaplena.online/wp-content/uploads/2024/03/Beato-Inocencio-XI-2.jpeg
ORGANIZER;CN="Administrador":MAILTO:epzanette@gmail.com
END:VEVENT
BEGIN:VEVENT
DTSTART;VALUE=DATE:20290820
DTEND;VALUE=DATE:20290821
DTSTAMP:20260425T212228
CREATED:20240227T134909Z
LAST-MODIFIED:20240828T121329Z
UID:10001886-1881878400-1881964799@gratiaplena.online
SUMMARY:Dia de São Bernardo de Claraval
DESCRIPTION:Celebramos hoje (20 Ago) a sua memória. São Bernardo de Claraval\, é monge cisterciense e doutor da Igreja. Ele\, a justo título\, pode ser considerado cofundador da Ordem Cisterciense – depois de São Roberto\, Santo Alberico e Santo Estêvão Harding\, dado o seu empenho por revitalizá-la num tempo de grande crise de vocações – e também o pai do movimento místico que\, com segurança\, podemos chamar de Escola Cisterciense de Espiritualidade. Leia mais…
URL:https://gratiaplena.online/event/dia-de-sao-bernardo-de-claraval/2029-08-20/
CATEGORIES:Santo do Dia
ATTACH;FMTTYPE=image/jpeg:https://gratiaplena.online/wp-content/uploads/2024/02/Sao-Bernardo-de-Claraval2.jpeg
ORGANIZER;CN="Administrador":MAILTO:epzanette@gmail.com
END:VEVENT
BEGIN:VEVENT
DTSTART;VALUE=DATE:20290824
DTEND;VALUE=DATE:20290825
DTSTAMP:20260425T212228
CREATED:20240101T171630Z
LAST-MODIFIED:20240828T121508Z
UID:10001891-1882224000-1882310399@gratiaplena.online
SUMMARY:Dia de São Bartolomeu
DESCRIPTION:Celebramos dia (24 Ago) a sua festa. São Bartolomeu\, também chamado Natanael\, foi um dos 12 primeiros apóstolos de Jesus. É assim descrito nos evangelhos de João\, Mateus\, Marcos e Lucas\, e também nos Atos dos Apóstolos. Bartolomeu nasceu em Caná\, na Galileia\, uma pequena aldeia a 14 quilômetros de Nazaré. Era filho do agricultor Tholmai. No Evangelho\, ele também é chamado de Natanael. Em hebraico\, a palavra “bar” que dizer “filho” e “tholmai” significa “agricultor”. Por isso os historiadores são unânimes em afirmar que Bartolomeu-Natanael trata-se de uma só pessoa. Seu melhor amigo era Filipe e ambos eram viajantes. Foi o apóstolo Filipe que o apresentou ao Messias. Leia mais….
URL:https://gratiaplena.online/event/dia-de-sao-bartolomeu/2029-08-24/
CATEGORIES:Santo do Dia
ATTACH;FMTTYPE=image/jpeg:https://gratiaplena.online/wp-content/uploads/2024/01/Sao-Bartolomeu-2.jpg
ORGANIZER;CN="Administrador":MAILTO:epzanette@gmail.com
END:VEVENT
BEGIN:VEVENT
DTSTART;VALUE=DATE:20290828
DTEND;VALUE=DATE:20290829
DTSTAMP:20260425T212228
CREATED:20240110T185124Z
LAST-MODIFIED:20240828T115450Z
UID:10001888-1882569600-1882655999@gratiaplena.online
SUMMARY:Dia de Santo Agostinho
DESCRIPTION:Celebramos hoje (28 Ago) a sua memória. Santo Agostinho nasceu em Tagaste\, norte da África\, no dia 13 de novembro do ano 354. Filho de Patrício\, pagão e voltado para o materialismo da época\, e de Mônica\, profundamente cristã\, que depois se tornaria santa. A influência dos pais foi muito grande\, primeiro a de Patrício\, depois a de Santa Mônica. Leia mais…. \n 
URL:https://gratiaplena.online/event/dia-de-santo-agostinho/2029-08-28/
CATEGORIES:Santo do Dia
ATTACH;FMTTYPE=image/jpeg:https://gratiaplena.online/wp-content/uploads/2024/01/Santo-Agostinho2-e1704926613103.jpg
ORGANIZER;CN="Administrador":MAILTO:epzanette@gmail.com
END:VEVENT
BEGIN:VEVENT
DTSTART;VALUE=DATE:20290901
DTEND;VALUE=DATE:20290902
DTSTAMP:20260425T212228
CREATED:20240902T161550Z
LAST-MODIFIED:20240902T162657Z
UID:10001935-1882915200-1883001599@gratiaplena.online
SUMMARY:Dia de Santo Egídio
DESCRIPTION:Santo Egídio\, – que em francês é Gilles – cujas origens ainda são misteriosas\, viveu\, provavelmente\, entre os séculos VI e VIII. Foi eremita em um bosque\, no sul da França\, até que\, por amizade de um rei\, se tornou abade e diretor espiritual de toda a região. A Igreja o recorda no dia 1° de setembro  O túmulo de Santo Egídio\, venerado em uma abadia\, na região francesa de Nîmes\, remonta\, provavelmente\, à época merovíngia\, embora a sua inscrição não seja anterior ao século X\, data em que foi composta a Vida do santo abade\, permeada de prodígios. Leia tudo…
URL:https://gratiaplena.online/event/dia-de-santo-egidio/2029-09-01/
CATEGORIES:Santo do Dia
ATTACH;FMTTYPE=image/jpeg:https://gratiaplena.online/wp-content/uploads/2024/09/Santo-Egidio2.jpg
ORGANIZER;CN="Administrador":MAILTO:epzanette@gmail.com
END:VEVENT
BEGIN:VEVENT
DTSTART;VALUE=DATE:20290902
DTEND;VALUE=DATE:20290903
DTSTAMP:20260425T212228
CREATED:20230902T090002Z
LAST-MODIFIED:20240926T202557Z
UID:10001944-1883001600-1883087999@gratiaplena.online
SUMMARY:Dia de São Zenão\, mártir da Nicomédia
DESCRIPTION:São Zeno\, pai\, e seus dois filhos\, Concórdio e Teodoro\, foram alvos do último imperador romano\, declaradamente pagão\, Juliano o Apóstata\, que quis interromper seu caminho para o cristianismo. O martírio deles\, entre história e lenda\, foi narrado por uma antiga passio latina. Leia mais….
URL:https://gratiaplena.online/event/dia-de-sao-zenao-martir-da-nicomedia/2029-09-02/
CATEGORIES:Santo do Dia
ATTACH;FMTTYPE=image/jpeg:https://gratiaplena.online/wp-content/uploads/2023/09/Sao-Zenao-da-Nicomedia2.jpg
ORGANIZER;CN="Administrador":MAILTO:epzanette@gmail.com
END:VEVENT
BEGIN:VEVENT
DTSTART;VALUE=DATE:20290904
DTEND;VALUE=DATE:20290905
DTSTAMP:20260425T212228
CREATED:20240902T232101Z
LAST-MODIFIED:20240904T220429Z
UID:10001986-1883174400-1883260799@gratiaplena.online
SUMMARY:Dia de São Bonifácio I
DESCRIPTION:Comemoramos hoje (4 Set) o Papa São Bonifácio I. Bonifácio foi eleito Papa\, em 418\, em um Conclave bastante complicado. Mas\, seus difamadores também elegeram Eulálio. Logo\, um Papa e um Antipapa. Bonifácio\, porém\, com sabedoria\, conseguiu fazer Eulálio voltar atrás\, nomeando-o Bispo e restaurando o prestígio da Igreja de Roma. Faleceu em 422.  Leia mais…
URL:https://gratiaplena.online/event/dia-de-sao-bonifacio-i/2029-09-04/
CATEGORIES:Santo do Dia
ATTACH;FMTTYPE=image/jpeg:https://gratiaplena.online/wp-content/uploads/2024/09/Santo-Bonifacio-I-2.jpg
ORGANIZER;CN="Administrador":MAILTO:epzanette@gmail.com
END:VEVENT
BEGIN:VEVENT
DTSTART;VALUE=DATE:20290904
DTEND;VALUE=DATE:20290905
DTSTAMP:20260425T212228
CREATED:20240903T000905Z
LAST-MODIFIED:20240904T220543Z
UID:10001987-1883174400-1883260799@gratiaplena.online
SUMMARY:Dia de São Moisés
DESCRIPTION:No século XIV a.C.\, Moisés foi salvo das águas e criado pelo faraó. Foi escolhido por Deus para libertar o Povo de Israel. Seus feitos são narrados no Pentateuco. Por meio deste profeta\, Deus deu aos judeus as tábuas da Lei e os guiou rumo à Terra Prometida. Moisés morreu aos 120 anos.  Leia tudo…
URL:https://gratiaplena.online/event/dia-de-sao-moises/2029-09-04/
CATEGORIES:Santo do Dia
ATTACH;FMTTYPE=image/jpeg:https://gratiaplena.online/wp-content/uploads/2024/09/Sao-Moises2.jpg
ORGANIZER;CN="Administrador":MAILTO:epzanette@gmail.com
END:VEVENT
BEGIN:VEVENT
DTSTART;VALUE=DATE:20290925
DTEND;VALUE=DATE:20290926
DTSTAMP:20260425T212228
CREATED:20240929T005445Z
LAST-MODIFIED:20250116T175744Z
UID:10002108-1884988800-1885075199@gratiaplena.online
SUMMARY:Dia de São Firmino\, bispo de Amiens
DESCRIPTION:Quando Fermín era pequeno\, seu pai\, o senador Firmo\, e sua mãe se converteram ao cristianismo através da pregação de São Saturnino e do padre Honesto. Fermín\, sua família e outras quarenta mil pessoas foram batizadas em apenas três dias.   Honesto continuou a ser professor de Fermín em sua nova religião\, e fez isso tão bem que aos dezessete anos Fermín já era um pregador notável. Alguns anos depois recebeu a consagração episcopal e partiu para França\, onde evangelizou as regiões da Aquitânia\, Auvergne\, Beaubais e Amiens\, onde a perseguição contra os cristãos foi particularmente dura. Conseguiu tantas conversões que foi preso e discretamente assassinado\, espalhando a versão de que havia morrido de parada cardíaca.   Em Pamplona celebra-se San Fermín no dia 7 de julho. Leia mais….
URL:https://gratiaplena.online/event/dia-de-sao-firmino-bispo-de-amiens/2029-09-25/
CATEGORIES:Santo do Dia
ATTACH;FMTTYPE=image/jpeg:https://gratiaplena.online/wp-content/uploads/2024/09/Ssao-Firmino2.jpg
ORGANIZER;CN="Administrador":MAILTO:epzanette@gmail.com
END:VEVENT
BEGIN:VEVENT
DTSTART;VALUE=DATE:20290926
DTEND;VALUE=DATE:20290927
DTSTAMP:20260425T212228
CREATED:20240927T185205Z
LAST-MODIFIED:20240927T193743Z
UID:10002096-1885075200-1885161599@gratiaplena.online
SUMMARY:Dia de São Cosme e Damião
DESCRIPTION:O cuidado dos enfermos foi a alavanca principal da vida dos dois irmãos\, que viveram no século III\, no tempo da perseguição contra os cristãos. Eles cuidavam dos doentes\, sem aceitar remuneração. Por isso\, receberam o apelido de “anárgiros”\, palavra grega que significa “sem prata”. A sua fama de homens corajosos e distintos benfeitores espalhou-se\, rapidamente\, por toda a região. A atividade destes Santos gêmeos não se limitou apenas aos cuidados do corpo enfermo. Na sua prática profissional\, visavam também o bem das almas\, com o exemplo e a palavra. De fato\, converteram muitos pagãos ao cristianismo. Leia mais….
URL:https://gratiaplena.online/event/dia-de-sao-cosme-e-damiao/2029-09-26/
CATEGORIES:Santo do Dia
ATTACH;FMTTYPE=image/jpeg:https://gratiaplena.online/wp-content/uploads/2024/09/Sao-Cosme-e-Damiao-2.jpg
ORGANIZER;CN="Administrador":MAILTO:epzanette@gmail.com
END:VEVENT
BEGIN:VEVENT
DTSTART;VALUE=DATE:20290926
DTEND;VALUE=DATE:20290927
DTSTAMP:20260425T212228
CREATED:20240927T201559Z
LAST-MODIFIED:20240927T201559Z
UID:10002102-1885075200-1885161599@gratiaplena.online
SUMMARY:Dia de São Nilo\, Abade
DESCRIPTION:Nicolau nasceu em Rossano\, Calábria\, em 910\, e entrou para a vida monacal\, recebendo o nome de Nilo. Como eremita\, entre orações e estudo\, tornou-se modelo para os monges. Não querendo honras\, transferiu-se para Cápua e depois para Gaeta. Aos 90 anos\, fundou a Abadia de Grottaferrata\, perto de Roma.  Veja mais….
URL:https://gratiaplena.online/event/dia-de-sao-nilo-abade/2029-09-26/
CATEGORIES:Santo do Dia
ATTACH;FMTTYPE=image/jpeg:https://gratiaplena.online/wp-content/uploads/2024/09/Sao-Nilo-Abade2.jpg
ORGANIZER;CN="Administrador":MAILTO:epzanette@gmail.com
END:VEVENT
BEGIN:VEVENT
DTSTART;VALUE=DATE:20291221
DTEND;VALUE=DATE:20291222
DTSTAMP:20260425T212228
CREATED:20231229T120727Z
LAST-MODIFIED:20241222T135334Z
UID:10002537-1892505600-1892591999@gratiaplena.online
SUMMARY:Dia de São Miqueias
DESCRIPTION:Comemoramos hoje (21 Dez) a homenagem ao profeta Miqueias. Miqueias é natural de Morasti. Morasti era um pequeno povoado de camponeses perto da cidade de Gat (cf. Mq 1\,14) na fronteira com os Filisteus. Fazia parte do reino de Judá\, sendo uma aldeia na fronteira com o território dos Filisteus\, que eram inimigos do povo de Deus. Morasti era rodeada por fortalezas e quartéis do reino de Judá com seus soldados e ofi­ciais que deviam garantir a segurança do reino (cf. Mq 5\,10).  Leia mais….
URL:https://gratiaplena.online/event/dia-de-sao-miqueias/2029-12-21/
CATEGORIES:Santo do Dia
ATTACH;FMTTYPE=image/jpeg:https://gratiaplena.online/wp-content/uploads/2023/12/Miqueias-2.jpg
ORGANIZER;CN="Administrador":MAILTO:epzanette@gmail.com
END:VEVENT
END:VCALENDAR