BEGIN:VCALENDAR
VERSION:2.0
PRODID:-//GratiaPlena - ECPv6.15.20//NONSGML v1.0//EN
CALSCALE:GREGORIAN
METHOD:PUBLISH
X-ORIGINAL-URL:https://gratiaplena.online
X-WR-CALDESC:Eventos para GratiaPlena
REFRESH-INTERVAL;VALUE=DURATION:PT1H
X-Robots-Tag:noindex
X-PUBLISHED-TTL:PT1H
BEGIN:VTIMEZONE
TZID:America/Sao_Paulo
BEGIN:STANDARD
TZOFFSETFROM:-0300
TZOFFSETTO:-0300
TZNAME:-03
DTSTART:20280101T000000
END:STANDARD
END:VTIMEZONE
BEGIN:VEVENT
DTSTART;VALUE=DATE:20290526
DTEND;VALUE=DATE:20290527
DTSTAMP:20260425T201505
CREATED:20240728T205317Z
LAST-MODIFIED:20240728T205317Z
UID:10001872-1874448000-1874534399@gratiaplena.online
SUMMARY:Dia de Santo Eleutério
DESCRIPTION:Celebamos hoje (26 Mai) a memória de Santo Eleutério. São Gregório de Tours\, que foi um dos primeiros historiadores da Igreja da França\, narrou que na infância enquanto Eleutério brincava com os amiguinhos\, um deles lhe disse que iria chegar a ser um bispo. Não foi um aviso profético. Certamente foi um gracejo maldoso\, pois na sua época\, as responsabilidades desta função geralmente incluíam ameaças de morte. Eleutério nasceu no ano de 456 na cidade de Tournai\, e viveu num período conturbado da história da França\, que ainda estava sendo evangelizada\, e sentia o domínio dos povos do norte europeu. Leia mais….
URL:https://gratiaplena.online/event/dia-de-santo-eleuterio/2029-05-26/
CATEGORIES:Santo do Dia
ATTACH;FMTTYPE=image/jpeg:https://gratiaplena.online/wp-content/uploads/2024/07/Santo-Eleuterio2.jpg
ORGANIZER;CN="Administrador":MAILTO:epzanette@gmail.com
END:VEVENT
BEGIN:VEVENT
DTSTART;VALUE=DATE:20290611
DTEND;VALUE=DATE:20290612
DTSTAMP:20260425T201505
CREATED:20250116T175959Z
LAST-MODIFIED:20250123T175348Z
UID:10002547-1875830400-1875916799@gratiaplena.online
SUMMARY:Dia de Santa Alice de Schaerbeck
DESCRIPTION:Celebramos dia (11 Jun) a festa de San Alice. Alice de Schaerbeek ou de La Cambre\, também  chamada Adelaide\,  Aleide\,  Aleida ou Alida\, foi uma religiosa e mística flamenga\, monja cisterciense na Abadia de La Cambre (Bélgica). Nasceu em Schaerbeek\, perto de Bruxelas\, em 1225\, e demonstrou desde pequena que era dotada de inteligência e espírito precoces. A sua santidade foi\, de fato\, paga a preço de uma longa e terrível doença\, uma das mais temidas e temíveis da Idade Média\, que condenava todos os que eram atacados por ela a uma verdadeira morte civil\, além da lenta morte física: a lepra. Leia mais….
URL:https://gratiaplena.online/event/dia-de-santa-alice-de-schaerbeck/2029-06-11/
CATEGORIES:Santo do Dia
ATTACH;FMTTYPE=image/png:https://gratiaplena.online/wp-content/uploads/2025/01/Santa-Alice-de-Schaerbeck.png
ORGANIZER;CN="Administrador":MAILTO:epzanette@gmail.com
END:VEVENT
BEGIN:VEVENT
DTSTART;VALUE=DATE:20290615
DTEND;VALUE=DATE:20290616
DTSTAMP:20260425T201505
CREATED:20240720T130402Z
LAST-MODIFIED:20240720T131106Z
UID:10001833-1876176000-1876262399@gratiaplena.online
SUMMARY:Dia de Santo Amós
DESCRIPTION:Hoje (15 Jun)\, excepcionalmente\, temos um santo do Antigo Testamento a considerar. Trata-se de Santo Amós\, de quem o erudito Pe. Matos Soares\, na Introdução aos Profetas Menores nos comentários que faz da Vulgata\, afirma que: “Os críticos modernos consideram Amós\, com razão\, como o primeiro dos profetas escritores. O seu livro\, por raros méritos de estilo e de substância\, é realmente digno de abrir a inestimável literatura profética de Israel.  Acrescentam valor às suas mensagens as humildes origens do profeta e sua vocação\, na qual brilha tanto mais intensamente a força do seu espírito sobre-humano”. Leia mais….
URL:https://gratiaplena.online/event/dia-de-santo-aos/2029-06-15/
CATEGORIES:Santo do Dia
ATTACH;FMTTYPE=image/jpeg:https://gratiaplena.online/wp-content/uploads/2024/07/Amos.jpg
ORGANIZER;CN="Administrador":MAILTO:epzanette@gmail.com
END:VEVENT
BEGIN:VEVENT
DTSTART;VALUE=DATE:20290616
DTEND;VALUE=DATE:20290617
DTSTAMP:20260425T201505
CREATED:20240616T211940Z
LAST-MODIFIED:20250123T180743Z
UID:10002567-1876262400-1876348799@gratiaplena.online
SUMMARY:Dia de Santa Lutgarda de Aywières
DESCRIPTION:Celebramos hoje (16 Jn) a festa de Santa Lutgarda de Aywières. Padroeira da Bélgica\, Santa Lutgard foi abençoada com uma mística troca de corações com o Senhor. Assim confirmada na certeza do amor que Jesus tinha por ela\, ela tornou-se\, a partir de então\, chama viva de caridade. No longínquo ano de 1182\, numa família burguesa da cidade belga de Tongres\, nasceu uma menina de aspecto vivo e brilhante\, a quem batizaram com o nome de Lutgarda. Leia mais…. \n 
URL:https://gratiaplena.online/event/dia-de-santa-lutgarda-de-aywieres/2029-06-16/
CATEGORIES:Santo do Dia
ATTACH;FMTTYPE=image/png:https://gratiaplena.online/wp-content/uploads/2025/01/Santa-Lutgarda-de-Aywieres.png
ORGANIZER;CN="Administrador":MAILTO:epzanette@gmail.com
END:VEVENT
BEGIN:VEVENT
DTSTART;VALUE=DATE:20290622
DTEND;VALUE=DATE:20290623
DTSTAMP:20260425T201505
CREATED:20240310T211603Z
LAST-MODIFIED:20240711T180341Z
UID:10001791-1876780800-1876867199@gratiaplena.online
SUMMARY:Dia de Beato Inocêncio V
DESCRIPTION:Celebramos hoje (22 Jun) a festa litúrgica de Beato Inocêncio V.  Papa natural de Saboia\, de seu nome Pedro Tarantaise ou Pietro di Tarantasia\, era um frade dominicano (Ordem para a qual tinha entrado quando ainda contava poucos anos de vida) que tinha colaborado com São Tomás de Aquino e com Santo Alberto Magno. Lecionou a cadeira de Teologia na Universidade de Paris\, substituindo São Tomás\, e foi também provincial de França da Ordem de São Domingos (ou seja\, dirigente e responsável pelos conventos de França) durante trinta anos. Nasceu em Val d’Isière e destacou-se pela sua cultura (o que deu origem ao sobrenome de doctor famosissimus)\, tendo este professor elaborado uns importantes comentários às Sentenças de Pedro Lombardo e difundindo os escritos de Aristóteles.
URL:https://gratiaplena.online/event/dia-de-beato-inocencio-v/2029-06-22/
CATEGORIES:Santo do Dia
ATTACH;FMTTYPE=image/jpeg:https://gratiaplena.online/wp-content/uploads/2024/03/Beato-Inocencio-V-2-1.jpg
ORGANIZER;CN="Administrador":MAILTO:epzanette@gmail.com
END:VEVENT
BEGIN:VEVENT
DTSTART;VALUE=DATE:20290623
DTEND;VALUE=DATE:20290624
DTSTAMP:20260425T201505
CREATED:20240105T161840Z
LAST-MODIFIED:20240719T181804Z
UID:10001825-1876867200-1876953599@gratiaplena.online
SUMMARY:Dia de São Zacarias e Santa Isabel
DESCRIPTION:Celebramos nesta data (23 Jun) a festa de São Zacaria e Santa Izabel\, São Zacarias e Santa Isabel são os pais de São João Batista. São Lucas descreve\, em seu evangelho\, que Zacarias pertencia à classe sacerdotal de Abias e Isabel era descendente de Aarão. Ambos eram de idade avançada e não tinham filhos\, pois Isabel era estéril. “Ambos eram justos diante de Deus e observavam irrepreensivelmente todos os mandamentos e preceitos do Senhor”\, é o que está escrito em no primeiro capítulo de Lucas sobre São Zacarias e Santa Isabel. Leia mais….
URL:https://gratiaplena.online/event/dia-de-sao-zacarias-e-santa-isabel/2029-06-23/
CATEGORIES:Santo do Dia
ATTACH;FMTTYPE=image/jpeg:https://gratiaplena.online/wp-content/uploads/2024/01/Sao-Zacarias-e-Santa-Isabel2.jpg
ORGANIZER;CN="Administrador":MAILTO:epzanette@gmail.com
END:VEVENT
BEGIN:VEVENT
DTSTART;VALUE=DATE:20290629
DTEND;VALUE=DATE:20290630
DTSTAMP:20260425T201505
CREATED:20240101T182826Z
LAST-MODIFIED:20240712T181937Z
UID:10001805-1877385600-1877471999@gratiaplena.online
SUMMARY:Dia de São Pedro
DESCRIPTION:Comemoramos dia (29 Jun) a festa de São Pedro\, Apóstolo. Entusiasmado\, Pedro olha para Jesus e diz: “Eis que nós deixamos tudo e te seguimos”\, e Jesus\, olhando para a generosidade de Pedro\, diz qual é caminho que devem trilhar os seus discípulos: “Quem deixa tudo recebe cem vezes mais durante essa vida\, mais as perseguições e no mundo futuro\, a vida eterna”
URL:https://gratiaplena.online/event/dia-de-sao-pedro/2029-06-29/
CATEGORIES:Santo do Dia
ATTACH;FMTTYPE=image/jpeg:https://gratiaplena.online/wp-content/uploads/2024/01/Sao-Pedro-1.jpg
ORGANIZER;CN="Administrador":MAILTO:epzanette@gmail.com
END:VEVENT
BEGIN:VEVENT
DTSTART;VALUE=DATE:20290707
DTEND;VALUE=DATE:20290708
DTSTAMP:20260425T201505
CREATED:20240707T090016Z
LAST-MODIFIED:20240712T175646Z
UID:10001804-1878076800-1878163199@gratiaplena.online
SUMMARY:Dia de Beato Bento XI
DESCRIPTION:Celebramos hoje (7 Jul) a festa litúrgica de Beato Bento XI. De família pobre e cristã\, Nicolau Boccasini nasceu em Treviso\, no norte da Itália\, em 1240. Sua mãe era lavadeira dos Frades Dominicanos. Aos 17 anos\, entrou na Ordem Dominicana e vestiu o hábito religioso. Foi estudar em Milão\, onde se ordenou sacerdote. De volta em Treviso\, São Bento foi professor do convento. Manso de caráter\, exemplo de homem humilde e piedoso. Foi eleito Superior Provincial da Ordem Dominicana na região da Lombardia em 1286 e\, após dez anos\, foi nomeado Superior Geral dos Dominicanos. Realizou uma das proezas mais difíceis de sua época: uma trégua entre os reis da Inglaterra\, Eduardo I\, e da França\, Felipe\, o Belo.
URL:https://gratiaplena.online/event/dia-de-beato-bento-xi/2029-07-07/
CATEGORIES:Santo do Dia
ATTACH;FMTTYPE=image/jpeg:https://gratiaplena.online/wp-content/uploads/2024/03/Beato-Bento-XI-2.jpeg
ORGANIZER;CN="Administrador":MAILTO:epzanette@gmail.com
END:VEVENT
BEGIN:VEVENT
DTSTART;VALUE=DATE:20290717
DTEND;VALUE=DATE:20290718
DTSTAMP:20260425T201505
CREATED:20240717T135542Z
LAST-MODIFIED:20240717T175654Z
UID:10001817-1878940800-1879027199@gratiaplena.online
SUMMARY:Dia de Inácio de Azevedo e 39 companheiros
DESCRIPTION:Celebramos hoje (17 Jul) quarenta santos mártires que derramaram o sangue para evangelizar o nosso Brasil. Trata-se do Bem-aventurado Inácio de Azevedo e seus companheiros mártires. Inácio Azevedo foi um padre jesuíta nascido em Portugal que veio ao Brasil evangelizar.  Quando ele viu o tamanho das necessidades de evangelização da nossa terra\, não cruzou os braços: voltou para a Europa e pediu licença ao padre geral para ir convencendo outros jesuítas (ou seja\, estudantes que pretendiam ser padres e irmãos leigos) a se juntarem a ele para evangelizar o nosso país.  Leia mais….
URL:https://gratiaplena.online/event/dia-de-inacio-de-azevedo-e-39-companheiros/2029-07-17/
CATEGORIES:Santo do Dia
ATTACH;FMTTYPE=image/jpeg:https://gratiaplena.online/wp-content/uploads/2024/07/Inacio-de-Azevedo2.jpg
ORGANIZER;CN="Administrador":MAILTO:epzanette@gmail.com
END:VEVENT
BEGIN:VEVENT
DTSTART;VALUE=DATE:20290717
DTEND;VALUE=DATE:20290718
DTSTAMP:20260425T201505
CREATED:20240717T174701Z
LAST-MODIFIED:20240717T174701Z
UID:10001823-1878940800-1879027199@gratiaplena.online
SUMMARY:Dia de Maria Madalena Claudina Lidoine e 15 companheiras
DESCRIPTION:O mosteiro das carmelitas de Compiègne\, França\, vivia entregue ao espírito de oração\, de silêncio e de renúncia\, quando rebentou a Revolução Francesa. A 4 de agosto de 1790\, os membros do diretório do distrito procederam ao inventário dos bens da comunidade. As religiosas foram convidadas a despir o hábito e a abandonar o mosteiro. Cinco dias mais tarde\, a conselho da câmara\, assinaram todas o juramento de Liberdade-Igualdade. Desde então\, viveram dispersas. Leia mais….
URL:https://gratiaplena.online/event/dia-de-maria-madalena-claudina-lidoine-e-15-companheiras/2029-07-17/
CATEGORIES:Santo do Dia
ATTACH;FMTTYPE=image/jpeg:https://gratiaplena.online/wp-content/uploads/2024/07/Maria-Madalena-Claudina-Lidoine2.jpeg
ORGANIZER;CN="Administrador":MAILTO:epzanette@gmail.com
END:VEVENT
BEGIN:VEVENT
DTSTART;VALUE=DATE:20290720
DTEND;VALUE=DATE:20290721
DTSTAMP:20260425T201505
CREATED:20240103T204121Z
LAST-MODIFIED:20240720T132008Z
UID:10001834-1879200000-1879286399@gratiaplena.online
SUMMARY:Dia de Santo Elias
DESCRIPTION:Celebramos hoje (20 Jul) a festa de Santo Elias. Sabe-se que ele nasceu em torno do ano 900 a.C. em Tesba de Galaad\, junto à fronteira do país dos amonitas (atual Jordânia). “Quando Elias estava para nascer\, seu pai Sabacha viu-o saudado por alvos anjos\, envolvido por faixas de fogo e alimentado com chamas. Tendo ido a Jerusalém\, relatou [no templo] a visão\, e o oráculo lhe disse que não temesse\, pois aquele que ia nascer habitaria na luz\, suas palavras seriam sentença segura e julgaria Israel com gládio e fogo” (Doroteu\, Sto. Epifânio e Metafrates\, apud Cornelio a Lápide\, Comentários ao Livro 1º dos Reis\, cap. 17). Leia mais….
URL:https://gratiaplena.online/event/dia-de-santo-elias/2029-07-20/
CATEGORIES:Santo do Dia
ATTACH;FMTTYPE=image/jpeg:https://gratiaplena.online/wp-content/uploads/2024/01/Elias.jpg
ORGANIZER;CN="Administrador":MAILTO:epzanette@gmail.com
END:VEVENT
BEGIN:VEVENT
DTSTART;VALUE=DATE:20290728
DTEND;VALUE=DATE:20290729
DTSTAMP:20260425T201505
CREATED:20240216T210727Z
LAST-MODIFIED:20240728T212556Z
UID:10001873-1879891200-1879977599@gratiaplena.online
SUMMARY:Dia de São Vitor I
DESCRIPTION:Celebramos hoje (28 Jul) a memória de São Vitor I\,Papa. São Vítor I Foi o 14° papa da Igreja Católica Apostólica Romana entre (datas aproximadas) 189 e 199. Papa São Vítor I\, nasceu na província romana de Tunísia\, sendo portanto\, o primeiro Papa africano. Esta notícia é bastante certa\, pois na Catedral Católica de Tunes\, à esquerda do altar\, tem um mosaico com o rosto dele. De seu pai sabe-se somente que se chamava Félix. Leia mais…. \n 
URL:https://gratiaplena.online/event/dia-de-sao-vitor-i/2029-07-28/
CATEGORIES:Santo do Dia
ATTACH;FMTTYPE=image/jpeg:https://gratiaplena.online/wp-content/uploads/2024/02/Sao-Vitor-I-2.jpeg
ORGANIZER;CN="Administrador":MAILTO:epzanette@gmail.com
END:VEVENT
BEGIN:VEVENT
DTSTART;VALUE=DATE:20290801
DTEND;VALUE=DATE:20290802
DTSTAMP:20260425T201505
CREATED:20240227T165854Z
LAST-MODIFIED:20240828T120316Z
UID:10001887-1880236800-1880323199@gratiaplena.online
SUMMARY:Dia de Santo Afonso Maria de Ligório
DESCRIPTION:Comemoramos hoje (1 Ago) a memória de Santo Afonso Maria de Ligório. Nascido de uma das mais antigas e nobres famílias de Nápoles\, a 27 de setembro de 1696\, Afonso Maria de Ligório foi menino prodígio pela facilidade com que aprendeu todas as disciplinas\, das línguas às ciências\, da arte à música. (A devoção popular muito deve às suaves canções por ele escritas e musicadas. Até agora no tempo do Natal gostamos de escutar o seu Tu scendi dalle stelle — Tu desces das estrelas.) Aos 19 anos era já advogado formado. Mas em uma das grandes oportunidades escorregou na clássica casca de banana: um documento exibido após a sua exaltada defesa do acusado demonstrou que ele havia\, embora involuntariamente\, sustentado a falsidade. Leia mais….
URL:https://gratiaplena.online/event/dia-de-santo-afonso-maria-de-ligorio/2029-08-01/
CATEGORIES:Santo do Dia
ATTACH;FMTTYPE=image/jpeg:https://gratiaplena.online/wp-content/uploads/2024/02/Santo-Afonso-Maria-de-Ligorio2.jpeg
ORGANIZER;CN="Administrador":MAILTO:epzanette@gmail.com
END:VEVENT
END:VCALENDAR