BEGIN:VCALENDAR
VERSION:2.0
PRODID:-//GratiaPlena - ECPv6.15.20//NONSGML v1.0//EN
CALSCALE:GREGORIAN
METHOD:PUBLISH
X-ORIGINAL-URL:https://gratiaplena.online
X-WR-CALDESC:Eventos para GratiaPlena
REFRESH-INTERVAL;VALUE=DURATION:PT1H
X-Robots-Tag:noindex
X-PUBLISHED-TTL:PT1H
BEGIN:VTIMEZONE
TZID:America/Sao_Paulo
BEGIN:STANDARD
TZOFFSETFROM:-0300
TZOFFSETTO:-0300
TZNAME:-03
DTSTART:20280101T000000
END:STANDARD
END:VTIMEZONE
BEGIN:VEVENT
DTSTART;VALUE=DATE:20290331
DTEND;VALUE=DATE:20290401
DTSTAMP:20260425T214822
CREATED:20240323T142717Z
LAST-MODIFIED:20240401T112429Z
UID:10001775-1869609600-1869695999@gratiaplena.online
SUMMARY:Dia de Santa Balbina
DESCRIPTION:Celebramos hoje (31 Mar ) a memória litúrgica de Santa Balbina. Em 132\, mais provavelmente no dia 31 de março\, foi “presa com o pai por ordem do imperador Adriano II (117-135) e\, com barbaridade\, cortaram- lhe a cabeça. Devido a sua bravura diante da morte e por ter morrido em nome da fé\, foi elevada\, pelos hagiógrafos\, à categoria de mártir e santa\, sendo-lhe dedicada uma Basílica Menor em Roma\, a Basílica de Santa Balbina”.
URL:https://gratiaplena.online/event/dia-de-santa-balbina/2029-03-31/
CATEGORIES:Santo do Dia
ATTACH;FMTTYPE=image/png:https://gratiaplena.online/wp-content/uploads/2024/03/Santa-Balbina2.png
ORGANIZER;CN="Administrador":MAILTO:epzanette@gmail.com
END:VEVENT
BEGIN:VEVENT
DTSTART;VALUE=DATE:20290331
DTEND;VALUE=DATE:20290401
DTSTAMP:20260425T214822
CREATED:20240323T165241Z
LAST-MODIFIED:20240401T112727Z
UID:10001776-1869609600-1869695999@gratiaplena.online
SUMMARY:Dia de São Benjamim
DESCRIPTION:Comemoramos hoje (31 Mar) a memória litúrga de São Benjamim. Nasceu no ano de 394 na Pérsia e\, ao ser evangelizado\, começou a participar da Igreja ao ponto de descobrir sua vocação ao diaconato. Serviu a Palavra e aos irmãos na caridade\, chamando a atenção de muitos para Cristo. Chegou a ser preso por um ano\, sofrendo\, e se renunciasse ao nome de Jesus\, seria solto. Porém\, mesmo na dor\, na solidão e na injustiça\, ele uniu-se ainda mais ao Cristo crucificado. \n 
URL:https://gratiaplena.online/event/dia-de-sao-benjamim/2029-03-31/
CATEGORIES:Santo do Dia
ATTACH;FMTTYPE=image/png:https://gratiaplena.online/wp-content/uploads/2024/03/Sao-Benjamim2.png
ORGANIZER;CN="Administrador":MAILTO:epzanette@gmail.com
END:VEVENT
BEGIN:VEVENT
DTSTART;VALUE=DATE:20290412
DTEND;VALUE=DATE:20290413
DTSTAMP:20260425T214822
CREATED:20240902T185020Z
LAST-MODIFIED:20240902T185020Z
UID:10001950-1870646400-1870732799@gratiaplena.online
SUMMARY:Dia de São Zenão\, bispo de Verona
DESCRIPTION:Quando Zenão tornou-se bispo de Verona\, em 362\, recebeu o apelido de “mouro e pescador”\, por suas origens no norte da África. Durante seu episcopado\, enfrentou o Arianismo e o Paganismo\, e deu grande exemplo de caridade\, humildade e generosidade para com os pobres. Hoje\, é Padroeiro da cidade.
URL:https://gratiaplena.online/event/dia-de-sao-zenao-bispo-de-verona/2029-04-12/
CATEGORIES:Santo do Dia
ATTACH;FMTTYPE=image/jpeg:https://gratiaplena.online/wp-content/uploads/2024/09/Sao-Zanao3-1.jpg
ORGANIZER;CN="Administrador":MAILTO:epzanette@gmail.com
END:VEVENT
BEGIN:VEVENT
DTSTART;VALUE=DATE:20290420
DTEND;VALUE=DATE:20290421
DTSTAMP:20260425T214822
CREATED:20240711T195748Z
LAST-MODIFIED:20240728T201528Z
UID:10001797-1871337600-1871423999@gratiaplena.online
SUMMARY:Dia de Santo Aniceto
DESCRIPTION:Comemoramos hoje (20 Abr) a memória de Santo Aniceto. Aniceto nasceu na Síria e foi sucessor do papa são Pio I\, em 155\, no tempo em que Antônio era o imperador romano. Entretanto\, além da perseguição sistemática por parte do Império\, o papa Aniceto teve de enfrentar\, também\, cismas internos que abalaram o cristianismo. A começar por Valentim\, passando por Marcelina\, que fundou a seita dos carpocratitas\, considerada muito imoral pela Igreja\, e chegando a Marcion\, um propagador\, com dotes de publicitário\, que arregimentou muita gente\, e muitos outros. Sem contar a questão da celebração da Páscoa. Leia mais….
URL:https://gratiaplena.online/event/dia-de-santo-aniceto/2029-04-20/
CATEGORIES:Santo do Dia
ATTACH;FMTTYPE=image/jpeg:https://gratiaplena.online/wp-content/uploads/2024/07/Santo-Aniceto-2.jpg
ORGANIZER;CN="Administrador":MAILTO:epzanette@gmail.com
END:VEVENT
BEGIN:VEVENT
DTSTART;VALUE=DATE:20290422
DTEND;VALUE=DATE:20290423
DTSTAMP:20260425T214822
CREATED:20240728T195317Z
LAST-MODIFIED:20240728T195317Z
UID:10001866-1871510400-1871596799@gratiaplena.online
SUMMARY:Dia de São Sotero
DESCRIPTION:Homenafgeamos hoje (22 Abr) São Sotero. Poucas são as informações biográficas de Sotero. Foi papa entre 166 e 175\, período em que ser cristão era muito difícil e perigoso. Ele foi eleito o sucessor do papa Aniceto\, que morreu em 165. Nasceu na cidade de Fondi\, na Campânia\, Itália\, e seu pai se chamava Concórdio. Durante o seu pontificado\, a Igreja ampliou-se bastante. Ele mesmo ordenou inúmeros diáconos\, sacerdotes e bispos; e seu pontificado foi exemplar. Disciplinou\, por meio das leis canônicas\, a participação das mulheres na Igreja\, que até então não tinham seu caminho muito bem definido. Mas\, sobretudo\, o papa Sotero combateu com grande valentia e coragem as heresias que pairavam sobre a Igreja dos tempos iniciais do cristianismo. No seu tempo\, foi extinta a heresia de Montano\, que propunha um exagerado rigor de costumes. Era uma doutrina de medo e de pessimismo\, porque o fim do mundo sempre poderia acontecer a qualquer momento. Leia mais….
URL:https://gratiaplena.online/event/dia-de-sao-sotero/2029-04-22/
CATEGORIES:Santo do Dia
ATTACH;FMTTYPE=image/jpeg:https://gratiaplena.online/wp-content/uploads/2024/07/Sao-Sotero2.jpg
ORGANIZER;CN="Administrador":MAILTO:epzanette@gmail.com
END:VEVENT
BEGIN:VEVENT
DTSTART;VALUE=DATE:20290425
DTEND;VALUE=DATE:20290426
DTSTAMP:20260425T214822
CREATED:20231217T214205Z
LAST-MODIFIED:20240725T211429Z
UID:10001860-1871769600-1871855999@gratiaplena.online
SUMMARY:Dia de São Marcos
DESCRIPTION:Celebramos hoje (25 Abr)\, com alegria a festa do Evangelista São Marcos\, aquele com o Evangelho mais antigo escrito por volta dos anos 60 d.C. Onde este jovem cristão assumiu bem cedo o chamado a missão\, em que\, desde pequeno pode presenciar momentos ímpares na vida de Jesus e seus discípulos.
URL:https://gratiaplena.online/event/dia-de-sao-marcos/2029-04-25/
CATEGORIES:Santo do Dia
ATTACH;FMTTYPE=image/jpeg:https://gratiaplena.online/wp-content/uploads/2023/12/Sao-Marcos-1.jpg
ORGANIZER;CN="Administrador":MAILTO:epzanette@gmail.com
END:VEVENT
BEGIN:VEVENT
DTSTART;VALUE=DATE:20290501
DTEND;VALUE=DATE:20290502
DTSTAMP:20260425T214822
CREATED:20240104T165553Z
LAST-MODIFIED:20240719T192359Z
UID:10001826-1872288000-1872374399@gratiaplena.online
SUMMARY:Dia de São Jeremias
DESCRIPTION:Comemoramos hoje (1 Mai) a festa de São Jeremias. A história de Jeremias: Sua infância e juventude Durante a infância do profeta Jeremias\, os reinados de Manassés e Amom foram caracterizados pela apostasia e idolatria (2 Reis 21). O próprio rei Manassés anulou completamente as reformas iniciadas pelo rei Ezequias\, seu pai. Apesar disso\, na cidade sacerdotal de Anatote Jeremias teve contato com a tradição religiosa de seu povo. Leia mais….
URL:https://gratiaplena.online/event/dia-de-santo-jeremias/2029-05-01/
CATEGORIES:Santo do Dia
ATTACH;FMTTYPE=image/jpeg:https://gratiaplena.online/wp-content/uploads/2024/01/Jeremias.jpg
ORGANIZER;CN="Administrador":MAILTO:epzanette@gmail.com
END:VEVENT
BEGIN:VEVENT
DTSTART;VALUE=DATE:20290509
DTEND;VALUE=DATE:20290510
DTSTAMP:20260425T214822
CREATED:20240103T201034Z
LAST-MODIFIED:20240719T195410Z
UID:10001827-1872979200-1873065599@gratiaplena.online
SUMMARY:Dia de Santo Isaias​
DESCRIPTION:Comemoramos hoje (9 Mai) a festa de Santo Isaias\, Profeta do Antigo Testamento. Santo Isaias é uma das maiores e mais enérgicas personalidades do Antigo Testamento. Com seu discípulo Santo Eliseu\, ele é o grande profeta do século IX a.C. no norte da Palestina\, numa época em que a religião era violentamente perseguida pela idolatria. Segundo o livro do Eclesiástico\, ele surgiu “como um fogo\, e as suas palavras ardiam como uma tocha. Fez vir sobre eles [os pagãos] a fome\, e os que o irritavam pela sua inveja\, foram reduzidos a um pequeno número\, porque não podiam suportar os preceitos do Senhor” (48\, 1-2). Leia mais…. \n 
URL:https://gratiaplena.online/event/dia-de-santo-isaias/2029-05-09/
CATEGORIES:Santo do Dia
ATTACH;FMTTYPE=image/jpeg:https://gratiaplena.online/wp-content/uploads/2024/01/Isaias.jpg
ORGANIZER;CN="Administrador":MAILTO:epzanette@gmail.com
END:VEVENT
BEGIN:VEVENT
DTSTART;VALUE=DATE:20290516
DTEND;VALUE=DATE:20290517
DTSTAMP:20260425T214822
CREATED:20240909T012757Z
LAST-MODIFIED:20240909T013201Z
UID:10002006-1873584000-1873670399@gratiaplena.online
SUMMARY:Dia de São Simão Stock
DESCRIPTION:São Simão Stock foi filho do governador de Kent e parente da realeza inglesa. Sua família cristã e cheia de fé\, deu a ele a melhor formação religiosa\, intelectual e humana. Inteligente e disciplinado\, Simão estudou no Colégio de Oxford desde quando tinha sete anos. Os estudos e o desejo da família levavam Simão para uma vida de sucesso social glorioso. Porém\, o que ele desejava em seu coração era estar ao serviço de Deus. Leia mais….
URL:https://gratiaplena.online/event/dia-de-sao-simao-stock/2029-05-16/
CATEGORIES:Santo do Dia
ATTACH;FMTTYPE=image/jpeg:https://gratiaplena.online/wp-content/uploads/2024/09/Sao-Simao-Stock2.jpg
ORGANIZER;CN="Administrador":MAILTO:epzanette@gmail.com
END:VEVENT
BEGIN:VEVENT
DTSTART;VALUE=DATE:20290526
DTEND;VALUE=DATE:20290527
DTSTAMP:20260425T214822
CREATED:20240728T205317Z
LAST-MODIFIED:20240728T205317Z
UID:10001872-1874448000-1874534399@gratiaplena.online
SUMMARY:Dia de Santo Eleutério
DESCRIPTION:Celebamos hoje (26 Mai) a memória de Santo Eleutério. São Gregório de Tours\, que foi um dos primeiros historiadores da Igreja da França\, narrou que na infância enquanto Eleutério brincava com os amiguinhos\, um deles lhe disse que iria chegar a ser um bispo. Não foi um aviso profético. Certamente foi um gracejo maldoso\, pois na sua época\, as responsabilidades desta função geralmente incluíam ameaças de morte. Eleutério nasceu no ano de 456 na cidade de Tournai\, e viveu num período conturbado da história da França\, que ainda estava sendo evangelizada\, e sentia o domínio dos povos do norte europeu. Leia mais….
URL:https://gratiaplena.online/event/dia-de-santo-eleuterio/2029-05-26/
CATEGORIES:Santo do Dia
ATTACH;FMTTYPE=image/jpeg:https://gratiaplena.online/wp-content/uploads/2024/07/Santo-Eleuterio2.jpg
ORGANIZER;CN="Administrador":MAILTO:epzanette@gmail.com
END:VEVENT
BEGIN:VEVENT
DTSTART;VALUE=DATE:20290611
DTEND;VALUE=DATE:20290612
DTSTAMP:20260425T214822
CREATED:20250116T175959Z
LAST-MODIFIED:20250123T175348Z
UID:10002547-1875830400-1875916799@gratiaplena.online
SUMMARY:Dia de Santa Alice de Schaerbeck
DESCRIPTION:Celebramos dia (11 Jun) a festa de San Alice. Alice de Schaerbeek ou de La Cambre\, também  chamada Adelaide\,  Aleide\,  Aleida ou Alida\, foi uma religiosa e mística flamenga\, monja cisterciense na Abadia de La Cambre (Bélgica). Nasceu em Schaerbeek\, perto de Bruxelas\, em 1225\, e demonstrou desde pequena que era dotada de inteligência e espírito precoces. A sua santidade foi\, de fato\, paga a preço de uma longa e terrível doença\, uma das mais temidas e temíveis da Idade Média\, que condenava todos os que eram atacados por ela a uma verdadeira morte civil\, além da lenta morte física: a lepra. Leia mais….
URL:https://gratiaplena.online/event/dia-de-santa-alice-de-schaerbeck/2029-06-11/
CATEGORIES:Santo do Dia
ATTACH;FMTTYPE=image/png:https://gratiaplena.online/wp-content/uploads/2025/01/Santa-Alice-de-Schaerbeck.png
ORGANIZER;CN="Administrador":MAILTO:epzanette@gmail.com
END:VEVENT
BEGIN:VEVENT
DTSTART;VALUE=DATE:20290615
DTEND;VALUE=DATE:20290616
DTSTAMP:20260425T214822
CREATED:20240720T130402Z
LAST-MODIFIED:20240720T131106Z
UID:10001833-1876176000-1876262399@gratiaplena.online
SUMMARY:Dia de Santo Amós
DESCRIPTION:Hoje (15 Jun)\, excepcionalmente\, temos um santo do Antigo Testamento a considerar. Trata-se de Santo Amós\, de quem o erudito Pe. Matos Soares\, na Introdução aos Profetas Menores nos comentários que faz da Vulgata\, afirma que: “Os críticos modernos consideram Amós\, com razão\, como o primeiro dos profetas escritores. O seu livro\, por raros méritos de estilo e de substância\, é realmente digno de abrir a inestimável literatura profética de Israel.  Acrescentam valor às suas mensagens as humildes origens do profeta e sua vocação\, na qual brilha tanto mais intensamente a força do seu espírito sobre-humano”. Leia mais….
URL:https://gratiaplena.online/event/dia-de-santo-aos/2029-06-15/
CATEGORIES:Santo do Dia
ATTACH;FMTTYPE=image/jpeg:https://gratiaplena.online/wp-content/uploads/2024/07/Amos.jpg
ORGANIZER;CN="Administrador":MAILTO:epzanette@gmail.com
END:VEVENT
BEGIN:VEVENT
DTSTART;VALUE=DATE:20290616
DTEND;VALUE=DATE:20290617
DTSTAMP:20260425T214822
CREATED:20240616T211940Z
LAST-MODIFIED:20250123T180743Z
UID:10002567-1876262400-1876348799@gratiaplena.online
SUMMARY:Dia de Santa Lutgarda de Aywières
DESCRIPTION:Celebramos hoje (16 Jn) a festa de Santa Lutgarda de Aywières. Padroeira da Bélgica\, Santa Lutgard foi abençoada com uma mística troca de corações com o Senhor. Assim confirmada na certeza do amor que Jesus tinha por ela\, ela tornou-se\, a partir de então\, chama viva de caridade. No longínquo ano de 1182\, numa família burguesa da cidade belga de Tongres\, nasceu uma menina de aspecto vivo e brilhante\, a quem batizaram com o nome de Lutgarda. Leia mais…. \n 
URL:https://gratiaplena.online/event/dia-de-santa-lutgarda-de-aywieres/2029-06-16/
CATEGORIES:Santo do Dia
ATTACH;FMTTYPE=image/png:https://gratiaplena.online/wp-content/uploads/2025/01/Santa-Lutgarda-de-Aywieres.png
ORGANIZER;CN="Administrador":MAILTO:epzanette@gmail.com
END:VEVENT
BEGIN:VEVENT
DTSTART;VALUE=DATE:20290622
DTEND;VALUE=DATE:20290623
DTSTAMP:20260425T214822
CREATED:20240310T211603Z
LAST-MODIFIED:20240711T180341Z
UID:10001791-1876780800-1876867199@gratiaplena.online
SUMMARY:Dia de Beato Inocêncio V
DESCRIPTION:Celebramos hoje (22 Jun) a festa litúrgica de Beato Inocêncio V.  Papa natural de Saboia\, de seu nome Pedro Tarantaise ou Pietro di Tarantasia\, era um frade dominicano (Ordem para a qual tinha entrado quando ainda contava poucos anos de vida) que tinha colaborado com São Tomás de Aquino e com Santo Alberto Magno. Lecionou a cadeira de Teologia na Universidade de Paris\, substituindo São Tomás\, e foi também provincial de França da Ordem de São Domingos (ou seja\, dirigente e responsável pelos conventos de França) durante trinta anos. Nasceu em Val d’Isière e destacou-se pela sua cultura (o que deu origem ao sobrenome de doctor famosissimus)\, tendo este professor elaborado uns importantes comentários às Sentenças de Pedro Lombardo e difundindo os escritos de Aristóteles.
URL:https://gratiaplena.online/event/dia-de-beato-inocencio-v/2029-06-22/
CATEGORIES:Santo do Dia
ATTACH;FMTTYPE=image/jpeg:https://gratiaplena.online/wp-content/uploads/2024/03/Beato-Inocencio-V-2-1.jpg
ORGANIZER;CN="Administrador":MAILTO:epzanette@gmail.com
END:VEVENT
BEGIN:VEVENT
DTSTART;VALUE=DATE:20290623
DTEND;VALUE=DATE:20290624
DTSTAMP:20260425T214822
CREATED:20240105T161840Z
LAST-MODIFIED:20240719T181804Z
UID:10001825-1876867200-1876953599@gratiaplena.online
SUMMARY:Dia de São Zacarias e Santa Isabel
DESCRIPTION:Celebramos nesta data (23 Jun) a festa de São Zacaria e Santa Izabel\, São Zacarias e Santa Isabel são os pais de São João Batista. São Lucas descreve\, em seu evangelho\, que Zacarias pertencia à classe sacerdotal de Abias e Isabel era descendente de Aarão. Ambos eram de idade avançada e não tinham filhos\, pois Isabel era estéril. “Ambos eram justos diante de Deus e observavam irrepreensivelmente todos os mandamentos e preceitos do Senhor”\, é o que está escrito em no primeiro capítulo de Lucas sobre São Zacarias e Santa Isabel. Leia mais….
URL:https://gratiaplena.online/event/dia-de-sao-zacarias-e-santa-isabel/2029-06-23/
CATEGORIES:Santo do Dia
ATTACH;FMTTYPE=image/jpeg:https://gratiaplena.online/wp-content/uploads/2024/01/Sao-Zacarias-e-Santa-Isabel2.jpg
ORGANIZER;CN="Administrador":MAILTO:epzanette@gmail.com
END:VEVENT
END:VCALENDAR