BEGIN:VCALENDAR
VERSION:2.0
PRODID:-//GratiaPlena - ECPv6.15.20//NONSGML v1.0//EN
CALSCALE:GREGORIAN
METHOD:PUBLISH
X-ORIGINAL-URL:https://gratiaplena.online
X-WR-CALDESC:Eventos para GratiaPlena
REFRESH-INTERVAL;VALUE=DURATION:PT1H
X-Robots-Tag:noindex
X-PUBLISHED-TTL:PT1H
BEGIN:VTIMEZONE
TZID:America/Sao_Paulo
BEGIN:STANDARD
TZOFFSETFROM:-0300
TZOFFSETTO:-0300
TZNAME:-03
DTSTART:20280101T000000
END:STANDARD
END:VTIMEZONE
BEGIN:VEVENT
DTSTART;VALUE=DATE:20290526
DTEND;VALUE=DATE:20290527
DTSTAMP:20260425T204441
CREATED:20240728T205317Z
LAST-MODIFIED:20240728T205317Z
UID:10001872-1874448000-1874534399@gratiaplena.online
SUMMARY:Dia de Santo Eleutério
DESCRIPTION:Celebamos hoje (26 Mai) a memória de Santo Eleutério. São Gregório de Tours\, que foi um dos primeiros historiadores da Igreja da França\, narrou que na infância enquanto Eleutério brincava com os amiguinhos\, um deles lhe disse que iria chegar a ser um bispo. Não foi um aviso profético. Certamente foi um gracejo maldoso\, pois na sua época\, as responsabilidades desta função geralmente incluíam ameaças de morte. Eleutério nasceu no ano de 456 na cidade de Tournai\, e viveu num período conturbado da história da França\, que ainda estava sendo evangelizada\, e sentia o domínio dos povos do norte europeu. Leia mais….
URL:https://gratiaplena.online/event/dia-de-santo-eleuterio/2029-05-26/
CATEGORIES:Santo do Dia
ATTACH;FMTTYPE=image/jpeg:https://gratiaplena.online/wp-content/uploads/2024/07/Santo-Eleuterio2.jpg
ORGANIZER;CN="Administrador":MAILTO:epzanette@gmail.com
END:VEVENT
BEGIN:VEVENT
DTSTART;VALUE=DATE:20290611
DTEND;VALUE=DATE:20290612
DTSTAMP:20260425T204441
CREATED:20250116T175959Z
LAST-MODIFIED:20250123T175348Z
UID:10002547-1875830400-1875916799@gratiaplena.online
SUMMARY:Dia de Santa Alice de Schaerbeck
DESCRIPTION:Celebramos dia (11 Jun) a festa de San Alice. Alice de Schaerbeek ou de La Cambre\, também  chamada Adelaide\,  Aleide\,  Aleida ou Alida\, foi uma religiosa e mística flamenga\, monja cisterciense na Abadia de La Cambre (Bélgica). Nasceu em Schaerbeek\, perto de Bruxelas\, em 1225\, e demonstrou desde pequena que era dotada de inteligência e espírito precoces. A sua santidade foi\, de fato\, paga a preço de uma longa e terrível doença\, uma das mais temidas e temíveis da Idade Média\, que condenava todos os que eram atacados por ela a uma verdadeira morte civil\, além da lenta morte física: a lepra. Leia mais….
URL:https://gratiaplena.online/event/dia-de-santa-alice-de-schaerbeck/2029-06-11/
CATEGORIES:Santo do Dia
ATTACH;FMTTYPE=image/png:https://gratiaplena.online/wp-content/uploads/2025/01/Santa-Alice-de-Schaerbeck.png
ORGANIZER;CN="Administrador":MAILTO:epzanette@gmail.com
END:VEVENT
BEGIN:VEVENT
DTSTART;VALUE=DATE:20290615
DTEND;VALUE=DATE:20290616
DTSTAMP:20260425T204441
CREATED:20240720T130402Z
LAST-MODIFIED:20240720T131106Z
UID:10001833-1876176000-1876262399@gratiaplena.online
SUMMARY:Dia de Santo Amós
DESCRIPTION:Hoje (15 Jun)\, excepcionalmente\, temos um santo do Antigo Testamento a considerar. Trata-se de Santo Amós\, de quem o erudito Pe. Matos Soares\, na Introdução aos Profetas Menores nos comentários que faz da Vulgata\, afirma que: “Os críticos modernos consideram Amós\, com razão\, como o primeiro dos profetas escritores. O seu livro\, por raros méritos de estilo e de substância\, é realmente digno de abrir a inestimável literatura profética de Israel.  Acrescentam valor às suas mensagens as humildes origens do profeta e sua vocação\, na qual brilha tanto mais intensamente a força do seu espírito sobre-humano”. Leia mais….
URL:https://gratiaplena.online/event/dia-de-santo-aos/2029-06-15/
CATEGORIES:Santo do Dia
ATTACH;FMTTYPE=image/jpeg:https://gratiaplena.online/wp-content/uploads/2024/07/Amos.jpg
ORGANIZER;CN="Administrador":MAILTO:epzanette@gmail.com
END:VEVENT
END:VCALENDAR