BEGIN:VCALENDAR
VERSION:2.0
PRODID:-//GratiaPlena - ECPv6.15.20//NONSGML v1.0//EN
CALSCALE:GREGORIAN
METHOD:PUBLISH
X-ORIGINAL-URL:https://gratiaplena.online
X-WR-CALDESC:Eventos para GratiaPlena
REFRESH-INTERVAL;VALUE=DURATION:PT1H
X-Robots-Tag:noindex
X-PUBLISHED-TTL:PT1H
BEGIN:VTIMEZONE
TZID:America/Sao_Paulo
BEGIN:STANDARD
TZOFFSETFROM:-0300
TZOFFSETTO:-0300
TZNAME:-03
DTSTART:20270101T000000
END:STANDARD
END:VTIMEZONE
BEGIN:VEVENT
DTSTART;VALUE=DATE:20281202
DTEND;VALUE=DATE:20281203
DTSTAMP:20260425T134749
CREATED:20240721T001003Z
LAST-MODIFIED:20240828T143307Z
UID:10001859-1859328000-1859414399@gratiaplena.online
SUMMARY:Dia de Santo Habacuc
DESCRIPTION:Comemoração hoje (2 Dez) a festa de Santo Habacuc\, profeta. Oitavo dos doze profetas menores\, Habacuc viveu em Judá\, entre o final do século VII e início do século VI a.C.\, época de decadência da Assíria e ascensão da Babilônia. Presenciou o fim do Reino de Judá\, quando os babilônios invadiram e destruíram Jerusalém e o templo\, e o povo de Deus foi deportado para a Babilônia. O Livro de Habacuc\, escrito em 612\, possui três capítulos. No primeiro\, há as súplicas de Habacuc dirigidas a Deus\, para que livre seu povo da opressão.  Leia mais….
URL:https://gratiaplena.online/event/dia-de-santo-habacuc/2028-12-02/
CATEGORIES:Santo do Dia
ATTACH;FMTTYPE=image/jpeg:https://gratiaplena.online/wp-content/uploads/2024/07/Habacuc.jpg
ORGANIZER;CN="Administrador":MAILTO:epzanette@gmail.com
END:VEVENT
BEGIN:VEVENT
DTSTART;VALUE=DATE:20281204
DTEND;VALUE=DATE:20281205
DTSTAMP:20260425T134749
CREATED:20240227T235224Z
LAST-MODIFIED:20240828T143751Z
UID:10001428-1859500800-1859587199@gratiaplena.online
SUMMARY:Dia de São João Damasceno
DESCRIPTION:Comemoramos hoje (4 Dez) a festa de São João Damasceno\, um santo Padre e Doutor da Igreja de Cristo. Nasceu em 675\, em Damasco (Síria)\, num período em que o Cristianismo tinha uma certa liberdade. O pai de João era muito cristão e amigo dos Sarracenos\, os quais\, naquela época\, eram senhores do país. Essa estima estendia-se também ao filho. Os raros talentos e méritos desse levaram o Califa a distingui-lo com a sua confiança e nomeá-lo prefeito (mansur) de Damasco. São João Damasceno\, ainda jovem e ajudante\, gozava de muitos privilégios financeiros do pai. Entretanto\, ao crescer no amor ao Cristo pobre\, deu atenção à Palavra\, que mostra a dificuldade dos ricos (apegados) para entrarem no Reino dos Céus.
URL:https://gratiaplena.online/event/dia-de-sao-joao-damasceno/2028-12-04/
CATEGORIES:Santo do Dia
ATTACH;FMTTYPE=image/jpeg:https://gratiaplena.online/wp-content/uploads/2024/02/Sao-Joao-Damasceno2.jpeg
ORGANIZER;CN="Administrador":MAILTO:epzanette@gmail.com
END:VEVENT
BEGIN:VEVENT
DTSTART;VALUE=DATE:20281207
DTEND;VALUE=DATE:20281208
DTSTAMP:20260425T134749
CREATED:20231207T124711Z
LAST-MODIFIED:20231211T181228Z
UID:10000712-1859760000-1859846399@gratiaplena.online
SUMMARY:Dia de Santo Ambrósio
DESCRIPTION:Celebramos hoje (7 Dez) a memória do grande Santo Ambrósio de Milão\, bispo e Doutor da Igreja.  Conselheiro e pai espiritual de três imperadores romanos\, Graciano\, Valentiniano II e Teodósio I\, Ambrósio é o símbolo da Igreja nascente\, após os sofridos anos de perseguições e vida escondida. Foi graças à sua atuação que a Igreja de Roma conseguiu tratar com o poder público sem servilismo.
URL:https://gratiaplena.online/event/dia-de-santo-ambrosio/2028-12-07/
CATEGORIES:Santo do Dia
ATTACH;FMTTYPE=image/jpeg:https://gratiaplena.online/wp-content/uploads/2023/12/Santo-Ambrosio.jpg
ORGANIZER;CN="Administrador":MAILTO:epzanette@gmail.com
END:VEVENT
BEGIN:VEVENT
DTSTART;VALUE=DATE:20281210
DTEND;VALUE=DATE:20281211
DTSTAMP:20260425T134749
CREATED:20231210T202113Z
LAST-MODIFIED:20240828T144407Z
UID:10000741-1860019200-1860105599@gratiaplena.online
SUMMARY:Dia de Nossa Senhora de Loreto
DESCRIPTION:Celebramos hoje (10 Dez) a festa de Nossa Senhora de Loreto\, Padroeira dos aviadores e da aviação\, intercessora pela casa própria. Extraordinariamente\, a Casa da Sagrada Família que ficava em Nazaré\, Israel\, foi transportada inteira (No dia 10 de dezembro)\, sem ser demolida\, para a região de Loreto\, na Itália. Trata-se de um fenômeno que permanece sem explicação científica e que demonstra a importância que o próprio Senhor dá a esta casa.
URL:https://gratiaplena.online/event/dia-de-nossa-senhora-de-loreto/2028-12-10/
LOCATION:Santuário da Santa Casa de Loreto\, Piazza della Madonna\, 1\,\, Loreto AN\, 60025\, Italy
CATEGORIES:Santo do Dia
ATTACH;FMTTYPE=image/jpeg:https://gratiaplena.online/wp-content/uploads/2023/12/Nossa-Senhora-de-Loreto.jpeg
ORGANIZER;CN="Administrador":MAILTO:epzanette@gmail.com
END:VEVENT
BEGIN:VEVENT
DTSTART;VALUE=DATE:20281214
DTEND;VALUE=DATE:20281215
DTSTAMP:20260425T134749
CREATED:20240308T191811Z
LAST-MODIFIED:20240828T165651Z
UID:10001452-1860364800-1860451199@gratiaplena.online
SUMMARY:Dia de São João da Cruz
DESCRIPTION:Celebramos hoje (14 Dez) a memória litúrgica de São João da Cruz. Seu nome de batismo era Juan de Yepes. Nasceu em Fontivaros\, na província de Ávila\, Espanha\, em 1542\, talvez em 24 de junho. Ainda na infância\, ficou órfão de pai\, Gonzalo de Yepes\, descendente de uma família rica e tradicional de Toledo. Mas\, devido ao casamento\, foi deserdado da herança. A jovem\, Catarina Alvarez\, sua mãe\, era de família humilde\, considerada de classe “inferior”. Assim\, com a morte do marido\, que a obrigou a trabalhar\, mudou-se para Medina\, com os filhos.
URL:https://gratiaplena.online/event/dia-de-sao-joao-da-cruz/2028-12-14/
CATEGORIES:Santo do Dia
ATTACH;FMTTYPE=image/webp:https://gratiaplena.online/wp-content/uploads/2024/03/Sao-Joao-da-Cruz2.webp
ORGANIZER;CN="Administrador":MAILTO:epzanette@gmail.com
END:VEVENT
BEGIN:VEVENT
DTSTART;VALUE=DATE:20281216
DTEND;VALUE=DATE:20281217
DTSTAMP:20260425T134749
CREATED:20240720T234648Z
LAST-MODIFIED:20240828T165834Z
UID:10001854-1860537600-1860623999@gratiaplena.online
SUMMARY:Dia de Santo Ageu
DESCRIPTION:Comemoração hoje (16 Dez) a festa de Santo Ageu\, profeta. Ageu\, foi um profeta hebreu e contemporâneo de Esdras\, Neemias e Zacarias. Sua mensagem foi de exortação e motivação a respeito da restauração de Jerusalém e seu Templo. Possui quatro principais mensagens do Senhor para os judeus que retornaram do exílio em Babilônia. São fortes repreensões devido ao descaso na reconstrução do Templo. Leia mais….
URL:https://gratiaplena.online/event/dia-de-santo-ageu/2028-12-16/
CATEGORIES:Santo do Dia
ATTACH;FMTTYPE=image/jpeg:https://gratiaplena.online/wp-content/uploads/2024/07/Ageu.jpg
ORGANIZER;CN="Administrador":MAILTO:epzanette@gmail.com
END:VEVENT
BEGIN:VEVENT
DTSTART;VALUE=DATE:20281217
DTEND;VALUE=DATE:20281218
DTSTAMP:20260425T134749
CREATED:20240104T211157Z
LAST-MODIFIED:20240828T172931Z
UID:10000976-1860624000-1860710399@gratiaplena.online
SUMMARY:Dia de São Daniel
DESCRIPTION:Celebramos hoje (17 Dez) a festa do profeta Daniel. O profeta Daniel\, também chamado de Beltessazar\, foi um jovem príncipe judeu levado como prisioneiro de guerra pelas tropas do Império Babilônico\, em meio à Rebelião para Independência de Judá. Ele serviu ao rei Nabucodonosor II e seus sucessores com lealdade e competência até o momento em que a Babilônia foi conquistada por Ciro\, o Grande\,e através da sabedoria oriunda de seu Deus\, Jeová\, ele interpretou os sonhos e visões de reis\, tornando-se uma figura proeminente na corte da Babilônia. Leia mais….
URL:https://gratiaplena.online/event/dia-de-sao-daniel/2028-12-17/
CATEGORIES:Santo do Dia
ATTACH;FMTTYPE=image/jpeg:https://gratiaplena.online/wp-content/uploads/2024/01/Santo-Daniel-2.jpg
ORGANIZER;CN="Administrador":MAILTO:epzanette@gmail.com
END:VEVENT
BEGIN:VEVENT
DTSTART;VALUE=DATE:20281218
DTEND;VALUE=DATE:20281219
DTSTAMP:20260425T134749
CREATED:20240109T140448Z
LAST-MODIFIED:20240828T170023Z
UID:10001031-1860710400-1860796799@gratiaplena.online
SUMMARY:Dia de São Malaquias
DESCRIPTION:Celebramos hoje (18 Dez) a festa de São Malaquias. Vez ou outra\, alguém relembra as profecias atribuídas a São Malaquias († 1148). Elas preveem o fim do Papado e do mundo. Este artigo analisa tais presságios. As chamadas “Profecias de São Malaquias” são\, conforme seus divulgadores\, de autoria de Malaquias de Armagh\, monge do mosteiro de Bangor e depois arcebispo de Armagh\, que\, falecido com fama de santidade\, foi canonizado\, em 1190\, pelo Papa Clemente III. Leia mais….
URL:https://gratiaplena.online/event/dia-de-santo-malaquias/2028-12-18/
CATEGORIES:Santo do Dia
ATTACH;FMTTYPE=image/jpeg:https://gratiaplena.online/wp-content/uploads/2024/01/Santo-Malaquias.jpeg
ORGANIZER;CN="Administrador":MAILTO:epzanette@gmail.com
END:VEVENT
BEGIN:VEVENT
DTSTART;VALUE=DATE:20281219
DTEND;VALUE=DATE:20281220
DTSTAMP:20260425T134749
CREATED:20240311T133328Z
LAST-MODIFIED:20240828T170325Z
UID:10001500-1860796800-1860883199@gratiaplena.online
SUMMARY:Dia de Beato Urbano V
DESCRIPTION:Celebramos hoje (19 Dez) a festa de Beato Urbano V. Guilherme de Grimoard nasceu em 1310\, no castelo de Grisac\, nas Cevenas\, França. Seu pai era Guilherme\, um cavaleiro\, e sua mãe era Anfelisa de Montferrand. Desde a infância\, mostrou-se hostil a toda frivolidade. Sua mãe\, vendo-o fugir dos jogos próprios da sua idade\, recolhendo-se à capela dizia: “Eu não o compreendo\, mas\, enfim\, basta que Deus o compreenda”. Após ter estudado em Montpellier e em Tolosa\, entrou na abadia beneditina de Chirac\, próxima de Mende; proferiu os votos no convento de São Vítor de Marselha e\, em seguida\, entrou na Congregação de Cluny. Formou-se em Direito Canônico em outubro de 1342; ensinou nas Universidades de Toulouse\, Montpellier\, Paris e Avignon; exerceu as funções de Vigário Geral em Clermon e Uzés.
URL:https://gratiaplena.online/event/dia-de-beato-urbano-v/2028-12-19/
CATEGORIES:Santo do Dia
ATTACH;FMTTYPE=image/jpeg:https://gratiaplena.online/wp-content/uploads/2024/03/Beato-Urbano-V2.jpeg
ORGANIZER;CN="Administrador":MAILTO:epzanette@gmail.com
END:VEVENT
BEGIN:VEVENT
DTSTART;VALUE=DATE:20281221
DTEND;VALUE=DATE:20281222
DTSTAMP:20260425T134749
CREATED:20231229T120727Z
LAST-MODIFIED:20241222T135334Z
UID:10000829-1860969600-1861055999@gratiaplena.online
SUMMARY:Dia de São Miqueias
DESCRIPTION:Comemoramos hoje (21 Dez) a homenagem ao profeta Miqueias. Miqueias é natural de Morasti. Morasti era um pequeno povoado de camponeses perto da cidade de Gat (cf. Mq 1\,14) na fronteira com os Filisteus. Fazia parte do reino de Judá\, sendo uma aldeia na fronteira com o território dos Filisteus\, que eram inimigos do povo de Deus. Morasti era rodeada por fortalezas e quartéis do reino de Judá com seus soldados e ofi­ciais que deviam garantir a segurança do reino (cf. Mq 5\,10).  Leia mais….
URL:https://gratiaplena.online/event/dia-de-sao-miqueias/2028-12-21/
CATEGORIES:Santo do Dia
ATTACH;FMTTYPE=image/jpeg:https://gratiaplena.online/wp-content/uploads/2023/12/Miqueias-2.jpg
ORGANIZER;CN="Administrador":MAILTO:epzanette@gmail.com
END:VEVENT
BEGIN:VEVENT
DTSTART;VALUE=DATE:20281221
DTEND;VALUE=DATE:20281222
DTSTAMP:20260425T134749
CREATED:20240308T180231Z
LAST-MODIFIED:20240308T180231Z
UID:10001446-1860969600-1861055999@gratiaplena.online
SUMMARY:Dia de São Pedro Canísio
DESCRIPTION:Celebramos hoje (21 Dez) a memória de São Pedro Canísio. O apelido arranjado para este santo martelo dos hereges é totalmente impróprio. No caso\, são Pedro Kanijs (nascido em Nimega\, Holanda\, em 1521) pode ser definido como um ferro entre a bigorna e o martelo\, isto é\, alvo da irritação que a sua pregação suscitava nos ambientes protestantes\, e da malevolência e inveja de seus próprios companheiros de religião. Filho do prefeito de Nimega\, Pedro Kanijs\, em latim Canisius\, teve a possibilidade de frequentar ótimas escolas\, Direito canônico em Lovaina e Direito civil em Colônia.
URL:https://gratiaplena.online/event/dia-de-sao-pedro-canisio/2028-12-21/
CATEGORIES:Santo do Dia
ATTACH;FMTTYPE=image/jpeg:https://gratiaplena.online/wp-content/uploads/2024/03/Sao-Pedro-Canisio2.jpg
ORGANIZER;CN="Administrador":MAILTO:epzanette@gmail.com
END:VEVENT
END:VCALENDAR