BEGIN:VCALENDAR
VERSION:2.0
PRODID:-//GratiaPlena - ECPv6.15.20//NONSGML v1.0//EN
CALSCALE:GREGORIAN
METHOD:PUBLISH
X-WR-CALNAME:GratiaPlena
X-ORIGINAL-URL:https://gratiaplena.online
X-WR-CALDESC:Eventos para GratiaPlena
REFRESH-INTERVAL;VALUE=DURATION:PT1H
X-Robots-Tag:noindex
X-PUBLISHED-TTL:PT1H
BEGIN:VTIMEZONE
TZID:America/Sao_Paulo
BEGIN:STANDARD
TZOFFSETFROM:-0300
TZOFFSETTO:-0300
TZNAME:-03
DTSTART:20220101T000000
END:STANDARD
END:VTIMEZONE
BEGIN:VEVENT
DTSTART;VALUE=DATE:20261018
DTEND;VALUE=DATE:20261019
DTSTAMP:20260425T110104
CREATED:20231220T225942Z
LAST-MODIFIED:20240828T135521Z
UID:10000786-1792281600-1792367999@gratiaplena.online
SUMMARY:Dia de São Lucas
DESCRIPTION:Comemoramos nesta data (18 Out)\, a festa de São Lucas. Na data também é comemorado o Dia do Médico\, um profissional responsável por cuidar e promover a saúde de toda a população. São Lucas é o terceiro Evangelista do Novo Testamento. Médico\, tornou-se também padroeiro desses profissionais. Esse grande santo não conviveu pessoalmente com Jesus\, por essa razão\, a sua narrativa é baseada em depoimentos de pessoas que testemunharam a vida e a morte de Cristo. Nascido em Antioquia da Síria\, Lucas foi convertido pelo apóstolo São Paulo\, do qual se tornou inseparável e fiel companheiro de missão.
URL:https://gratiaplena.online/event/dia-de-sao-lucas/2026-10-18/
CATEGORIES:Santo do Dia
ATTACH;FMTTYPE=image/jpeg:https://gratiaplena.online/wp-content/uploads/2023/12/Sao-Lucas-1.jpg
ORGANIZER;CN="Administrador":MAILTO:epzanette@gmail.com
END:VEVENT
BEGIN:VEVENT
DTSTART;VALUE=DATE:20261017
DTEND;VALUE=DATE:20261018
DTSTAMP:20260425T110104
CREATED:20240720T174756Z
LAST-MODIFIED:20240828T135403Z
UID:10001847-1792195200-1792281599@gratiaplena.online
SUMMARY:Dia de Santo Oseias
DESCRIPTION:Comemoração hoje (17 Out) da festa de Santo Oseias\, profeta\, filho de Beerí. Profeta Oseias\, Viveu no Reino do Norte durante os reinados de Uzias\, Jotão\, Acaz e Ezequias\, reis de Judá\, e de Jeroboão\, filho de Joás\, rei de Israel\, entre -645 à -532 a. C. Em Oseias 5\,8 existe uma referência às guerras que levaram à captura do reino pelos assírios\, ocorrida 565 a.C. Oseias\, “Salvação do/é o Senhor”; foi um personagem bíblico\, e um profeta em Israel no século VIII a.C.\, filho de Beeri. É um dos Doze Profetas Menores da Bíblia hebraica judaica\, e do Antigo Testamento cristão. Oseias exerceu seu ministério durante o governo dos reis Uzias\, Jotão\, Acaz e Ezequias\, todos reis de Judá e durante o reinado de Jeroboão\, rei de Israel. Leia mais…. \n 
URL:https://gratiaplena.online/event/dia-de-santo-oseias/2026-10-17/
CATEGORIES:Santo do Dia
ATTACH;FMTTYPE=image/jpeg:https://gratiaplena.online/wp-content/uploads/2024/07/Oseias-1.jpg
END:VEVENT
BEGIN:VEVENT
DTSTART;VALUE=DATE:20261017
DTEND;VALUE=DATE:20261018
DTSTAMP:20260425T110104
CREATED:20240102T205019Z
LAST-MODIFIED:20241004T205041Z
UID:10000908-1792195200-1792281599@gratiaplena.online
SUMMARY:Dia de Santo Inácio de Etioquia
DESCRIPTION:Antioquia\, na atual Síria\, era a terceira maior metrópole do mundo antigo\, depois de Roma e Alexandria do Egito. Inácio tornou-se Bispo de Alexandria\, por volta do ano 69\, como sucessor de Santo Evódio\, mas\, sobretudo\, do apóstolo Pedro\, que havia fundado a Igreja naquela cidade. Descendente de uma família pagã\, não romana\, Inácio converteu-se ao cristianismo em idade avançada\, graças à pregação de São João Evangelista\, que havia passado por aquelas terras. Leia mais….
URL:https://gratiaplena.online/event/dia-de-santo-inacio-de-etioquia/2026-10-17/
CATEGORIES:Santo do Dia
ATTACH;FMTTYPE=image/jpeg:https://gratiaplena.online/wp-content/uploads/2024/01/Santo-Inacio-de-Etioquia2.jpg
ORGANIZER;CN="Administrador":MAILTO:epzanette@gmail.com
END:VEVENT
BEGIN:VEVENT
DTSTART;VALUE=DATE:20261015
DTEND;VALUE=DATE:20261016
DTSTAMP:20260425T110104
CREATED:20240309T214336Z
LAST-MODIFIED:20240828T135047Z
UID:10001474-1792022400-1792108799@gratiaplena.online
SUMMARY:Dia de Santa Teresa de Jesus
DESCRIPTION:Celebramos hoje (15 Out) a sua memória. Santa Teresa de Jesus nasceu em Ávila\, Espanha\, em 1515\, com o nome de Teresa de Ahumada. Em sua autobiografia\, ela menciona alguns detalhes da sua infância: o nascimento “de pais virtuosos e tementes a Deus”\, em uma grande família\, com nove irmãos e três irmãs. Ainda jovem\, com pelo menos 9 anos\, leu a vida dos mártires\, que inspiram nela o desejo de martírio\, tanto que chegou a improvisar uma breve fuga de casa para morrer como mártir e ir para o céu (cf. Vida 1\, 4): “Eu quero ver Deus”\, disse a pequena aos seus pais. Alguns anos mais tarde\, Teresa falou de suas leituras da infância e afirmou ter descoberto a verdade\, que se resume em dois princípios fundamentais: por um lado\, que “tudo o que pertence a este mundo passa”; por outro\, que só Deus é para “sempre\, sempre\, sempre”\, tema que recupera em seu famoso poema: “Nada te perturbe\, nada te espante; tudo passa\, só Deus não muda.
URL:https://gratiaplena.online/event/dia-de-santa-teresa-de-jesus/2026-10-15/
CATEGORIES:Santo do Dia
ATTACH;FMTTYPE=image/png:https://gratiaplena.online/wp-content/uploads/2024/03/Santa-Teresa-de-Jesus2.png
ORGANIZER;CN="Administrador":MAILTO:epzanette@gmail.com
END:VEVENT
BEGIN:VEVENT
DTSTART;VALUE=DATE:20261014
DTEND;VALUE=DATE:20261015
DTSTAMP:20260425T110104
CREATED:20240729T200503Z
LAST-MODIFIED:20240729T200503Z
UID:10001883-1791936000-1792022399@gratiaplena.online
SUMMARY:Dia de São Calisto I
DESCRIPTION:Comemoramos hoje (14 Out) a festa de São Calisto I. Origens: Romano de Trastevere\, filho de escravos\, São Calisto não teve vida fácil. Ele está sepultado com efeito na igreja de Santa Maria\, em Trastevere\, e não nas catacumbas que levam seu nome. Administrador pouco habilidoso. O cristão Carpóforo\, da família do imperador Cômodo\, havia lhe confiado a administração dos bens da comunidade cristã. Não foi um hábil administrador e\, descoberto um grande desfalque\, Calisto fugiu. Capturado em Óstia\, a ponto de zarpar\, foi condenado a girar a roda de um moinho. Carpóforo mostrou-se generoso\, condenando-o a pagar o débito\, mas a justiça seguiu seu curso. Foi condenado à flagelação\, depois\, deportado para as minas da Sardenha. Leia mais…. \n 
URL:https://gratiaplena.online/event/dia-de-sao-calisto-i/2026-10-14/
CATEGORIES:Santo do Dia
ATTACH;FMTTYPE=image/jpeg:https://gratiaplena.online/wp-content/uploads/2024/07/Sao-Calisto-I.jpg
ORGANIZER;CN="Administrador":MAILTO:epzanette@gmail.com
END:VEVENT
BEGIN:VEVENT
DTSTART;VALUE=DATE:20261012
DTEND;VALUE=DATE:20261013
DTSTAMP:20260425T110104
CREATED:20231203T110137Z
LAST-MODIFIED:20241004T185758Z
UID:10000634-1791763200-1791849599@gratiaplena.online
SUMMARY:Dia de Nossa Senhora Aparecida
DESCRIPTION:Na manhã de 12 de outubro de 1717\, três pescadores lançaram seus barcos no Rio Paraíba\, que escorria até à sua cidade. Eles tinham sido encarregados de trazer peixes para o banquete\, que se realizaria no dia seguinte\, na cidade de Guaratinguetá\, por ocasião da visita do conde Assumar\, Dom Pedro de Almeida Portugal\, governante da capitania de São Paulo e Minas Gerais\, durante uma viagem a Vila Rica. Os três pescadores\, Domingos Garcia\, João Alves e Filipe Pedroso\, pareciam não ter sorte naquela manhã: após várias tentativas infrutíferas\, tinham quase desistido\, quando João Alves tentou novamente. Ele jogou sua rede nas águas do rio e\, lentamente\, a puxou para cima. Havia pescado alguma coisa\, mas não era peixe… parecia uma espécie de madeira. Leia mais….
URL:https://gratiaplena.online/event/dia-de-nossa-senhora-aparecida-2/2026-10-12/
LOCATION:Catedral Nossa Senhora Aparecida\, Av General Netto\, 328\, Centro\, Passo Fundo\, RS\, 99010-022\, Brazil
CATEGORIES:Santo do Dia
ATTACH;FMTTYPE=image/jpeg:https://gratiaplena.online/wp-content/uploads/2023/12/Nossa-Senhora-Aparecida2.jpg
ORGANIZER;CN="Par%C3%B3quia Catedral Nossa Senhora Aparecida":MAILTO:catedral@arquidiocesedepassofundo.com.br
END:VEVENT
BEGIN:VEVENT
DTSTART;VALUE=DATE:20261004
DTEND;VALUE=DATE:20261005
DTSTAMP:20260425T110104
CREATED:20231130T145115Z
LAST-MODIFIED:20240905T175948Z
UID:10000658-1791072000-1791158399@gratiaplena.online
SUMMARY:Dia de São Francisco de Assis
DESCRIPTION:Celebramos hoje (4 Out) a memória do Padroeiro de nossa Paróquia. São Francisco de Assis nasceu em Assis\, Itália\, em 1182. Era filho de Pedro Bernardone\, um rico comerciante\, e Pia\, de família nobre da Provença. Na juventude\, Francisco era muito rico e esbanjava dinheiro com ostentações. Porém\, os negócios de seu pai não lhe despertaram interesse\, muito menos os estudos. O que ele queria mesmo era se divertir. Porém\, São Boaventura\, seu contemporâneo\, escreveu sobre ele: “Mas\, com o auxílio divino\, jamais se deixou levar pelo ardor das paixões que dominavam os jovens de sua companhia”. Leia mais….
URL:https://gratiaplena.online/event/dia-de-sao-francisco-de-assis/2026-10-04/
LOCATION:Igreja São Francisco de Assis\, Rua Aspirante Jenner\, 579\, Santa Maria\, Passo Fundo\, Rio Grande do Sul\, 99070-020\, Brazil
CATEGORIES:Santo do Dia
ATTACH;FMTTYPE=image/jpeg:https://gratiaplena.online/wp-content/uploads/2023/11/Sao-Francisco-de-Assis2.jpg
ORGANIZER;CN="Par%C3%B3quia S%C3%A3o Francisco de Assis":MAILTO:paroquiasfa@arquidiocesedepassofundo.com.br
END:VEVENT
BEGIN:VEVENT
DTSTART;VALUE=DATE:20261001
DTEND;VALUE=DATE:20261002
DTSTAMP:20260425T110104
CREATED:20231130T201205Z
LAST-MODIFIED:20240828T134143Z
UID:10000663-1790812800-1790899199@gratiaplena.online
SUMMARY:Dia de Santa Teresinha do Menino Jesus
DESCRIPTION:Celebramos hoje (1 Out) a memória da Padroeira de nossa Paróquia. Celebramos\, neste dia\, a memória litúrgica de Santa Terezinha do Menino Jesus\, padroeira das missões\, a Santa das rosas e que nos ensina a enfrentar as dificuldades com amor e paciência. Ela é padroeira das missões\, pois do Carmelo de Lisieux\, onde residia\, rezava por toda a Igreja. Ela nos deixou um grande exemplo de oração e de que por meio da perseverança conseguiremos grandes coisas. 
URL:https://gratiaplena.online/event/dia-de-santa-teresinha/2026-10-01/
LOCATION:Igreja Santa Teresinha\, Rua General Prestes Guimarães\, 480 - Bairro Rodrigues\, Passo Fundo\, RS\, 99070-030\, Brazil
CATEGORIES:Santo do Dia
ATTACH;FMTTYPE=image/jpeg:https://gratiaplena.online/wp-content/uploads/2023/11/Santa-Teresinha.jpg
ORGANIZER;CN="Par%C3%B3quia Santa Teresinha":MAILTO:parostpf@arquidiocesedepassofundo.com.br
END:VEVENT
BEGIN:VEVENT
DTSTART;VALUE=DATE:20260930
DTEND;VALUE=DATE:20261001
DTSTAMP:20260425T110104
CREATED:20240111T000938Z
LAST-MODIFIED:20240828T125129Z
UID:10001041-1790726400-1790812799@gratiaplena.online
SUMMARY:Dia de São Jerônimo
DESCRIPTION:Celebramos  no dia (30 Set) a memória de São Jerônimo\, considerado um dos mais eruditos Padres da Igreja Ocidental. Foi o Santo que colocou toda a sua vasta erudição ao serviço da Sagrada Escritura.A Vulgata\, a primeira tradução completa da Bíblia para o latim\, representa o esforço mais exigente enfrentado por Jerônimo. Em 386 São Jerônimo se estabeleceu nas proximidades da Basílica da Natividade\, para dedicar-se ao estudo da Bíblia. A célebre versão latina\, que mais tarde se tornou oficial na Igreja do Ocidente\, foi de suma importância para a transmissão das Escrituras
URL:https://gratiaplena.online/event/dia-de-sao-jeronimo/2026-09-30/
CATEGORIES:Santo do Dia
ATTACH;FMTTYPE=image/jpeg:https://gratiaplena.online/wp-content/uploads/2024/01/Sao-Jeronimo2.jpg
ORGANIZER;CN="Administrador":MAILTO:epzanette@gmail.com
END:VEVENT
BEGIN:VEVENT
DTSTART;VALUE=DATE:20260926
DTEND;VALUE=DATE:20260927
DTSTAMP:20260425T110104
CREATED:20240927T201559Z
LAST-MODIFIED:20240927T201559Z
UID:10002099-1790380800-1790467199@gratiaplena.online
SUMMARY:Dia de São Nilo\, Abade
DESCRIPTION:Nicolau nasceu em Rossano\, Calábria\, em 910\, e entrou para a vida monacal\, recebendo o nome de Nilo. Como eremita\, entre orações e estudo\, tornou-se modelo para os monges. Não querendo honras\, transferiu-se para Cápua e depois para Gaeta. Aos 90 anos\, fundou a Abadia de Grottaferrata\, perto de Roma.  Veja mais….
URL:https://gratiaplena.online/event/dia-de-sao-nilo-abade/2026-09-26/
CATEGORIES:Santo do Dia
ATTACH;FMTTYPE=image/jpeg:https://gratiaplena.online/wp-content/uploads/2024/09/Sao-Nilo-Abade2.jpg
ORGANIZER;CN="Administrador":MAILTO:epzanette@gmail.com
END:VEVENT
BEGIN:VEVENT
DTSTART;VALUE=DATE:20260926
DTEND;VALUE=DATE:20260927
DTSTAMP:20260425T110104
CREATED:20240927T185205Z
LAST-MODIFIED:20240927T193743Z
UID:10002093-1790380800-1790467199@gratiaplena.online
SUMMARY:Dia de São Cosme e Damião
DESCRIPTION:O cuidado dos enfermos foi a alavanca principal da vida dos dois irmãos\, que viveram no século III\, no tempo da perseguição contra os cristãos. Eles cuidavam dos doentes\, sem aceitar remuneração. Por isso\, receberam o apelido de “anárgiros”\, palavra grega que significa “sem prata”. A sua fama de homens corajosos e distintos benfeitores espalhou-se\, rapidamente\, por toda a região. A atividade destes Santos gêmeos não se limitou apenas aos cuidados do corpo enfermo. Na sua prática profissional\, visavam também o bem das almas\, com o exemplo e a palavra. De fato\, converteram muitos pagãos ao cristianismo. Leia mais….
URL:https://gratiaplena.online/event/dia-de-sao-cosme-e-damiao/2026-09-26/
CATEGORIES:Santo do Dia
ATTACH;FMTTYPE=image/jpeg:https://gratiaplena.online/wp-content/uploads/2024/09/Sao-Cosme-e-Damiao-2.jpg
ORGANIZER;CN="Administrador":MAILTO:epzanette@gmail.com
END:VEVENT
BEGIN:VEVENT
DTSTART;VALUE=DATE:20250105
DTEND;VALUE=DATE:20250106
DTSTAMP:20260425T110104
CREATED:20250125T000820Z
LAST-MODIFIED:20250125T001215Z
UID:10002600-1736035200-1736121599@gratiaplena.online
SUMMARY:Dia de São João Nepomuceno Neumann
DESCRIPTION:Celebramos hoje (5 Jan) a festa de São João Nepomuceno Neumann. Em 1836\, um jovem seminarista chamado João Neumann chegou aos EUA proveniente da Boêmia\, sua pátria. Deixou a família na calada da noite para se tornar missionário na América. Seu único objetivo era levar o amor de Deus às almas esquecidas e abandonadas. Tornou-se Redentorista em 1842\, e em 1852\, na idade de 41 anos\, foi nomeado 4º bispo de Filadélfia. Nos oito breves anos antes de sua morte\, Neumann construiu cerca de 90 igrejas\, fundou o sistema nacional de escolas paroquiais\, estabeleceu diversas ordens religiosas\, e defendeu a fé católica\, num ambiente hostil. Santo João Nepomuceno Neuman foi fundador da congregação das Irmãs da Ordem Terceira de São Francisco e é o primeiro santo dos Estados Unidos. Leia mais…. \n 
URL:https://gratiaplena.online/event/dia-de-sao-joao-nepomuceno-neumann-2/
CATEGORIES:Santo do Dia
ATTACH;FMTTYPE=image/png:https://gratiaplena.online/wp-content/uploads/2025/01/Sao-Joao-Nepomuceno-Neumann2.png
ORGANIZER;CN="Administrador":MAILTO:epzanette@gmail.com
END:VEVENT
BEGIN:VEVENT
DTSTART;TZID=America/Sao_Paulo:20240428T140000
DTEND;TZID=America/Sao_Paulo:20240428T193000
DTSTAMP:20260425T110104
CREATED:20240421T151719Z
LAST-MODIFIED:20240517T163713Z
UID:10001778-1714312800-1714332600@gratiaplena.online
SUMMARY:Tarde de Recolhimento
DESCRIPTION:Lembrando da nossa TARDE DE REFLEXÃO\, que será no próximo Domingo dia 28/04/2024 das 14h às 17h30\, na Casa Stª Cruz\, o encontro terá assessoria do Padre Marco Petry. \nConfirme sua presença para melhor organização do evento. Será servido um lanche aos participantes. Taxa de participação CR$ 25\,00 (vinte e cinco reais) por pessoa\, que pode ser pago na hora da inscrição. \nTambém haverá carona solidária em frente à Catedral as 13:30\, quem precisar por gentileza avisar. \nOBS: As inscrições poderão ser feitas na Secretaria da Catedral\, em horário de expediente. \nConfirmações podem ser feitas pelo WhatsApp da Catedral\, 30459210 \nMaterial de apoio: “Programa” \nConfirme sua inscrição\, Clicando aqui
URL:https://gratiaplena.online/event/tarde-de-recolhimento-2/
LOCATION:Casa Santa Cruz\, R. João Biazus\, 510 - Bairro Tupinambá\, Passo Fundo\, Rio Grande do Sul\, 99070-972\, Brazil
CATEGORIES:Retiro
ATTACH;FMTTYPE=image/png:https://gratiaplena.online/wp-content/uploads/2024/04/Tarde-de-Recolhimento.png
ORGANIZER;CN="Ana Paula de Oliveira Spannenberg":MAILTO:anapaulaspann@gmail.com
END:VEVENT
BEGIN:VEVENT
DTSTART;VALUE=DATE:20230608
DTEND;VALUE=DATE:20230609
DTSTAMP:20260425T110104
CREATED:20231211T161300Z
LAST-MODIFIED:20240101T143529Z
UID:10000748-1686182400-1686268799@gratiaplena.online
SUMMARY:Festa de Corpus Christi
DESCRIPTION:Celebramos hoje a festa de Corpus Christi\, celebrada sempre em uma quinta-feira\, 60 dias após o domingo de Páscoa. A escolha do dia da semana faz memória à realização da última ceia de Cristo com os apóstolos\, momento em que\, segundo a tradição cristã\, foi instituída a Eucaristia. Celebrar a solenidade do Santíssimo Corpo e Sangue de Cristo une o sublime ao simples\, assim como a Encarnação une a divindade à humanidade. A procissão de Corpus Christi simboliza nossa peregrinação ao banquete eterno do Salvador\, onde o veremos tal como Ele é.
URL:https://gratiaplena.online/event/dia-de-corpus-christi/
CATEGORIES:Santo do Dia
ATTACH;FMTTYPE=image/jpeg:https://gratiaplena.online/wp-content/uploads/2023/12/Corpus-Christi-2.jpg
ORGANIZER;CN="Administrador":MAILTO:epzanette@gmail.com
END:VEVENT
END:VCALENDAR