BEGIN:VCALENDAR
VERSION:2.0
PRODID:-//GratiaPlena - ECPv6.15.20//NONSGML v1.0//EN
CALSCALE:GREGORIAN
METHOD:PUBLISH
X-ORIGINAL-URL:https://gratiaplena.online
X-WR-CALDESC:Eventos para GratiaPlena
REFRESH-INTERVAL;VALUE=DURATION:PT1H
X-Robots-Tag:noindex
X-PUBLISHED-TTL:PT1H
BEGIN:VTIMEZONE
TZID:America/Sao_Paulo
BEGIN:STANDARD
TZOFFSETFROM:-0300
TZOFFSETTO:-0300
TZNAME:-03
DTSTART:20270101T000000
END:STANDARD
END:VTIMEZONE
BEGIN:VEVENT
DTSTART;VALUE=DATE:20280721
DTEND;VALUE=DATE:20280722
DTSTAMP:20260425T121026
CREATED:20240104T201105Z
LAST-MODIFIED:20240718T163057Z
UID:10000970-1847750400-1847836799@gratiaplena.online
SUMMARY:Dia de Santo Ezequiel
DESCRIPTION:Celebramos hoje (21 Jul) a festa do profeta Exequiel. Ezequiel\, filho de Buzi\, era sacerdote da linhagem de Sadoc e atuou no templo de Jerusalém. Era casado e ficou viúvo pouco antes dos babilônios tomarem Jerusalém. Como sacerdote\, pertenceu à classe dirigente da cidade. Foi exilado para a Babilônia junto com a primeira leva de deportados (597 AC). Passou por profunda transformação: de dirigente em Judá para refém expatriado\, perdendo seus privilégios.  Leia mais….
URL:https://gratiaplena.online/event/dia-de-santo-ezequiel/2028-07-21/
CATEGORIES:Santo do Dia
ATTACH;FMTTYPE=image/jpeg:https://gratiaplena.online/wp-content/uploads/2024/01/Ezequiel.jpeg
ORGANIZER;CN="Administrador":MAILTO:epzanette@gmail.com
END:VEVENT
BEGIN:VEVENT
DTSTART;VALUE=DATE:20280721
DTEND;VALUE=DATE:20280722
DTSTAMP:20260425T121026
CREATED:20240309T204750Z
LAST-MODIFIED:20240309T204750Z
UID:10001470-1847750400-1847836799@gratiaplena.online
SUMMARY:Dia de São Lourenço de Brindisi
DESCRIPTION:Celebramos hoje (21 Jul) a memória litúrgica de São Lourenço de Brindisi. Geralmente\, as chamadas “crianças superdotadas”\, aquelas que demonstram um dom excepcional para alguma especialidade\, quando crescem\, parecem “perder os poderes” e nivelam-se com as demais pessoas. São poucas as exceções que merecem ser recordadas. Mas\, com certeza\, uma delas foi Júlio César Russo\, que nasceu no dia 22 de julho de 1559\, em Brindisi\, na Itália.
URL:https://gratiaplena.online/event/dia-de-sao-lourenco-de-brindisi/2028-07-21/
CATEGORIES:Santo do Dia
ATTACH;FMTTYPE=image/jpeg:https://gratiaplena.online/wp-content/uploads/2024/03/Sao-Lourenco-de-Brindisi2.jpeg
ORGANIZER;CN="Administrador":MAILTO:epzanette@gmail.com
END:VEVENT
BEGIN:VEVENT
DTSTART;VALUE=DATE:20280723
DTEND;VALUE=DATE:20280724
DTSTAMP:20260425T121026
CREATED:20240319T200746Z
LAST-MODIFIED:20240319T200746Z
UID:10001643-1847923200-1848009599@gratiaplena.online
SUMMARY:Dia de Santa Brígida da Suécia
DESCRIPTION:Celebramos hoje (23 Jul) a memória litúrgica de Santa Brígida da Suécia. Canonizada\, em 1391\, por Bonifácio IX\, Santa Brígida é a padroeira da Suécia. Em 1999\, foi declarada também copadroeira da Europa por São João Paulo II. Brígida\, quando criança\, tinha\, certamente\, um caráter forte e decisivo. Pertencia a uma família aristocrática. Embora sentisse a vocação religiosa\, aceitou casar-se com Ulf\, o governador de um importante distrito do Reino da Suécia\, a pedido do seu pai. A primeira parte da sua vida\, marcada por uma grande fé\, foi dedicada a um casamento feliz\, do qual nasceram oito filhos. Uma\, dentre eles\, Catarina – que a seguiu até Roma – também foi canonizada.
URL:https://gratiaplena.online/event/dia-de-santa-brigida-da-suecia/2028-07-23/
CATEGORIES:Santo do Dia
ATTACH;FMTTYPE=image/jpeg:https://gratiaplena.online/wp-content/uploads/2024/03/Santa-Brigida-da-Suecia2.jpeg
ORGANIZER;CN="Administrador":MAILTO:epzanette@gmail.com
END:VEVENT
BEGIN:VEVENT
DTSTART;VALUE=DATE:20280725
DTEND;VALUE=DATE:20280726
DTSTAMP:20260425T121026
CREATED:20231230T162105Z
LAST-MODIFIED:20231230T162105Z
UID:10000847-1848096000-1848182399@gratiaplena.online
SUMMARY:Dia de São Tiago\, maior
DESCRIPTION:Celebramos hoje (25 Jul) a festa de São Tiago Maior\, um dos doze apóstolos escolhidos por Jesus Cristo. São Tiago Maior\, também conhecido como Tiago\, filho de Zebedeu\, nasceu na Galileia\, por volta do século I. Juntamente com seu irmão\, João\, eles eram pescadores de profissão. Quando Jesus os chamou para serem seus discípulos\, eles prontamente abandonaram suas redes e seguiram o Messias.
URL:https://gratiaplena.online/event/dia-de-sao-tiago-maior/2028-07-25/
CATEGORIES:Santo do Dia
ATTACH;FMTTYPE=image/jpeg:https://gratiaplena.online/wp-content/uploads/2023/12/Sao-Tiago-maior-2.jpg
ORGANIZER;CN="Administrador":MAILTO:epzanette@gmail.com
END:VEVENT
BEGIN:VEVENT
DTSTART;VALUE=DATE:20280728
DTEND;VALUE=DATE:20280729
DTSTAMP:20260425T121026
CREATED:20240216T202114Z
LAST-MODIFIED:20240216T202114Z
UID:10001386-1848355200-1848441599@gratiaplena.online
SUMMARY:Dia de Beato Urbano II
DESCRIPTION:Comemoramos hoje (28 Jul) a memória de Beato Urbano II. Guilherme de Grimoard nasceu em Grisac\, no Languedoc\, França\, em 1310\, numa família de cavaleiros. Educou-se em Montpelier e Toulouse\, e entrou no mosteiro beneditino na pequena abadia de Chirac.  Homem de penitência\, obediente ao regime monástico até a morte\, proferiu os votos monásticos no convento de São Vitor\, de Marselha. Lá cresceu seu amor pela Ordem de São Bento\, de tal maneira que\, depois de Papa\, ele continuou usando o hábito beneditino. Mais tarde afiliou-se ao famoso mosteiro de Cluny.
URL:https://gratiaplena.online/event/dia-de-beato-urbano-ii/2028-07-28/
CATEGORIES:Santo do Dia
ATTACH;FMTTYPE=image/jpeg:https://gratiaplena.online/wp-content/uploads/2024/02/Beato-Urbano-II-2.jpeg
ORGANIZER;CN="Administrador":MAILTO:epzanette@gmail.com
END:VEVENT
BEGIN:VEVENT
DTSTART;VALUE=DATE:20280728
DTEND;VALUE=DATE:20280729
DTSTAMP:20260425T121026
CREATED:20240216T210727Z
LAST-MODIFIED:20240728T212556Z
UID:10001392-1848355200-1848441599@gratiaplena.online
SUMMARY:Dia de São Vitor I
DESCRIPTION:Celebramos hoje (28 Jul) a memória de São Vitor I\,Papa. São Vítor I Foi o 14° papa da Igreja Católica Apostólica Romana entre (datas aproximadas) 189 e 199. Papa São Vítor I\, nasceu na província romana de Tunísia\, sendo portanto\, o primeiro Papa africano. Esta notícia é bastante certa\, pois na Catedral Católica de Tunes\, à esquerda do altar\, tem um mosaico com o rosto dele. De seu pai sabe-se somente que se chamava Félix. Leia mais…. \n 
URL:https://gratiaplena.online/event/dia-de-sao-vitor-i/2028-07-28/
CATEGORIES:Santo do Dia
ATTACH;FMTTYPE=image/jpeg:https://gratiaplena.online/wp-content/uploads/2024/02/Sao-Vitor-I-2.jpeg
ORGANIZER;CN="Administrador":MAILTO:epzanette@gmail.com
END:VEVENT
BEGIN:VEVENT
DTSTART;VALUE=DATE:20280730
DTEND;VALUE=DATE:20280731
DTSTAMP:20260425T121026
CREATED:20240119T201904Z
LAST-MODIFIED:20240119T201904Z
UID:10001103-1848528000-1848614399@gratiaplena.online
SUMMARY:Dia de São Pedro Crisólogo
DESCRIPTION:Celebramos hoje (30 Jul) a memória litúrgica de São Pedro Crisólogo\, nasceu em Ímola\, em 406; ele morreu lá em 450. Sua biografia foi escrita pela primeira vez por Agnellus (Liber pontificalis eclessi ravennatis) no século IX. Não dá muitas informações sobre o personagem. Foi batizado\, educado e ordenado diácono por Cornélio\, bispo de Ímola\, e elevado ao bispado de Ravena em 433.
URL:https://gratiaplena.online/event/dia-de-sao-pedro-crisologo/2028-07-30/
CATEGORIES:Santo do Dia
ATTACH;FMTTYPE=image/jpeg:https://gratiaplena.online/wp-content/uploads/2024/01/Sao-Pedro-Crisologo.jpg
ORGANIZER;CN="Administrador":MAILTO:epzanette@gmail.com
END:VEVENT
BEGIN:VEVENT
DTSTART;VALUE=DATE:20280801
DTEND;VALUE=DATE:20280802
DTSTAMP:20260425T121026
CREATED:20240227T165854Z
LAST-MODIFIED:20240828T120316Z
UID:10001410-1848700800-1848787199@gratiaplena.online
SUMMARY:Dia de Santo Afonso Maria de Ligório
DESCRIPTION:Comemoramos hoje (1 Ago) a memória de Santo Afonso Maria de Ligório. Nascido de uma das mais antigas e nobres famílias de Nápoles\, a 27 de setembro de 1696\, Afonso Maria de Ligório foi menino prodígio pela facilidade com que aprendeu todas as disciplinas\, das línguas às ciências\, da arte à música. (A devoção popular muito deve às suaves canções por ele escritas e musicadas. Até agora no tempo do Natal gostamos de escutar o seu Tu scendi dalle stelle — Tu desces das estrelas.) Aos 19 anos era já advogado formado. Mas em uma das grandes oportunidades escorregou na clássica casca de banana: um documento exibido após a sua exaltada defesa do acusado demonstrou que ele havia\, embora involuntariamente\, sustentado a falsidade. Leia mais….
URL:https://gratiaplena.online/event/dia-de-santo-afonso-maria-de-ligorio/2028-08-01/
CATEGORIES:Santo do Dia
ATTACH;FMTTYPE=image/jpeg:https://gratiaplena.online/wp-content/uploads/2024/02/Santo-Afonso-Maria-de-Ligorio2.jpeg
ORGANIZER;CN="Administrador":MAILTO:epzanette@gmail.com
END:VEVENT
BEGIN:VEVENT
DTSTART;VALUE=DATE:20280810
DTEND;VALUE=DATE:20280811
DTSTAMP:20260425T121026
CREATED:20250127T141343Z
LAST-MODIFIED:20250127T141343Z
UID:10002648-1849478400-1849564799@gratiaplena.online
SUMMARY:Dia de São Lourenço\, Mártir
DESCRIPTION:Celebramos hoje (10 Ago) a festa de São Lourenço\, Mártir. São Lourenço\, o santo espanhol\, também conhecido como Lourenço de Huesta ou Valência. Nasceu em 225 e morreu martirizado em 258\, no dia 10 de agosto\, em Roma. Está entre os diáconos do início da Igreja de Roma. Eles eram considerados os guardiões dos bens da Igreja e dispensadores de ajuda aos pobres. O nome Lourenço é o mesmo que Laureamtenens\, que significa Coroa feita de Louro\, como os vencedores recebiam após suas vitórias. Lourenço obteve a vitória em sua paixão. São Lourenço foi ajudante do Papa Sisto II e responsável por um centro dedicado aos pobres. Leia mais…. \n 
URL:https://gratiaplena.online/event/dia-de-sao-lourenco-martir/2028-08-10/
CATEGORIES:Santo do Dia
ATTACH;FMTTYPE=image/png:https://gratiaplena.online/wp-content/uploads/2025/01/Sao-Lourenco-Martir2.png
ORGANIZER;CN="Administrador":MAILTO:epzanette@gmail.com
END:VEVENT
BEGIN:VEVENT
DTSTART;VALUE=DATE:20280811
DTEND;VALUE=DATE:20280812
DTSTAMP:20260425T121026
CREATED:20231201T174626Z
LAST-MODIFIED:20240828T120559Z
UID:10000675-1849564800-1849651199@gratiaplena.online
SUMMARY:Dia de Santa Clara de Assis
DESCRIPTION:Celebramos hoje (11 Ago) a sua memória. Santa Clara de Assis costuma ser retratada com uma custódia ou um cibório em mãos. Santa Clara de Assis (1193-1253) escutou a voz de Cristo durante um momento dramático e turbulento da história da Itália — no período em que o ambicioso imperador germânico\, Frederico II\, estava empenhado em conquistar a Sicília e a Itália\, além de Roma e dos Estados Pontifícios.
URL:https://gratiaplena.online/event/dia-de-santa-clara-de-assis-2/2028-08-11/
CATEGORIES:Santo do Dia
ATTACH;FMTTYPE=image/jpeg:https://gratiaplena.online/wp-content/uploads/2023/11/Santa-Clara-de-Assis.jpg
ORGANIZER;CN="Administrador":MAILTO:epzanette@gmail.com
END:VEVENT
BEGIN:VEVENT
DTSTART;VALUE=DATE:20280812
DTEND;VALUE=DATE:20280813
DTSTAMP:20260425T121026
CREATED:20240311T172437Z
LAST-MODIFIED:20240828T121206Z
UID:10001506-1849651200-1849737599@gratiaplena.online
SUMMARY:Dia de Beato Inocêncio XI
DESCRIPTION:Celebramos hoje (12 Ago) a festa de Beato Inocêncio XI. Nasceu em 16 de maio de 1611\, no norte da Itália\, com Como. Realizou seus primeiros estudos na mesma cidade\, com os jesuítas e\, depois\, na universidade La Sapienza de Roma e na Universidade da Nápoles\, doutorando-se nesta última em direito civil e direito canônico (1639). Não se tem dados sobre sua vocação e sua ordenação sacerdotal. Em 1645\, o Papa Inocêncio X o nomeou cardeal diácono de São Cosme e Damião. Durante seu pontificado\, teve vários problemas com cardeais franceses e com o rei Luiz XIV da França\, pois não respeitava os direitos da Igreja.
URL:https://gratiaplena.online/event/dia-de-beato-inocencio-xi/2028-08-12/
CATEGORIES:Santo do Dia
ATTACH;FMTTYPE=image/jpeg:https://gratiaplena.online/wp-content/uploads/2024/03/Beato-Inocencio-XI-2.jpeg
ORGANIZER;CN="Administrador":MAILTO:epzanette@gmail.com
END:VEVENT
END:VCALENDAR