BEGIN:VCALENDAR
VERSION:2.0
PRODID:-//GratiaPlena - ECPv6.15.20//NONSGML v1.0//EN
CALSCALE:GREGORIAN
METHOD:PUBLISH
X-ORIGINAL-URL:https://gratiaplena.online
X-WR-CALDESC:Eventos para GratiaPlena
REFRESH-INTERVAL;VALUE=DURATION:PT1H
X-Robots-Tag:noindex
X-PUBLISHED-TTL:PT1H
BEGIN:VTIMEZONE
TZID:America/Sao_Paulo
BEGIN:STANDARD
TZOFFSETFROM:-0300
TZOFFSETTO:-0300
TZNAME:-03
DTSTART:20270101T000000
END:STANDARD
END:VTIMEZONE
BEGIN:VEVENT
DTSTART;VALUE=DATE:20280615
DTEND;VALUE=DATE:20280616
DTSTAMP:20260425T071616
CREATED:20240720T130402Z
LAST-MODIFIED:20240720T131106Z
UID:10001832-1844640000-1844726399@gratiaplena.online
SUMMARY:Dia de Santo Amós
DESCRIPTION:Hoje (15 Jun)\, excepcionalmente\, temos um santo do Antigo Testamento a considerar. Trata-se de Santo Amós\, de quem o erudito Pe. Matos Soares\, na Introdução aos Profetas Menores nos comentários que faz da Vulgata\, afirma que: “Os críticos modernos consideram Amós\, com razão\, como o primeiro dos profetas escritores. O seu livro\, por raros méritos de estilo e de substância\, é realmente digno de abrir a inestimável literatura profética de Israel.  Acrescentam valor às suas mensagens as humildes origens do profeta e sua vocação\, na qual brilha tanto mais intensamente a força do seu espírito sobre-humano”. Leia mais….
URL:https://gratiaplena.online/event/dia-de-santo-aos/2028-06-15/
CATEGORIES:Santo do Dia
ATTACH;FMTTYPE=image/jpeg:https://gratiaplena.online/wp-content/uploads/2024/07/Amos.jpg
ORGANIZER;CN="Administrador":MAILTO:epzanette@gmail.com
END:VEVENT
BEGIN:VEVENT
DTSTART;VALUE=DATE:20280616
DTEND;VALUE=DATE:20280617
DTSTAMP:20260425T071616
CREATED:20240616T211940Z
LAST-MODIFIED:20250123T180743Z
UID:10002566-1844726400-1844812799@gratiaplena.online
SUMMARY:Dia de Santa Lutgarda de Aywières
DESCRIPTION:Celebramos hoje (16 Jn) a festa de Santa Lutgarda de Aywières. Padroeira da Bélgica\, Santa Lutgard foi abençoada com uma mística troca de corações com o Senhor. Assim confirmada na certeza do amor que Jesus tinha por ela\, ela tornou-se\, a partir de então\, chama viva de caridade. No longínquo ano de 1182\, numa família burguesa da cidade belga de Tongres\, nasceu uma menina de aspecto vivo e brilhante\, a quem batizaram com o nome de Lutgarda. Leia mais…. \n 
URL:https://gratiaplena.online/event/dia-de-santa-lutgarda-de-aywieres/2028-06-16/
CATEGORIES:Santo do Dia
ATTACH;FMTTYPE=image/png:https://gratiaplena.online/wp-content/uploads/2025/01/Santa-Lutgarda-de-Aywieres.png
ORGANIZER;CN="Administrador":MAILTO:epzanette@gmail.com
END:VEVENT
BEGIN:VEVENT
DTSTART;VALUE=DATE:20280622
DTEND;VALUE=DATE:20280623
DTSTAMP:20260425T071616
CREATED:20240310T211603Z
LAST-MODIFIED:20240711T180341Z
UID:10001488-1845244800-1845331199@gratiaplena.online
SUMMARY:Dia de Beato Inocêncio V
DESCRIPTION:Celebramos hoje (22 Jun) a festa litúrgica de Beato Inocêncio V.  Papa natural de Saboia\, de seu nome Pedro Tarantaise ou Pietro di Tarantasia\, era um frade dominicano (Ordem para a qual tinha entrado quando ainda contava poucos anos de vida) que tinha colaborado com São Tomás de Aquino e com Santo Alberto Magno. Lecionou a cadeira de Teologia na Universidade de Paris\, substituindo São Tomás\, e foi também provincial de França da Ordem de São Domingos (ou seja\, dirigente e responsável pelos conventos de França) durante trinta anos. Nasceu em Val d’Isière e destacou-se pela sua cultura (o que deu origem ao sobrenome de doctor famosissimus)\, tendo este professor elaborado uns importantes comentários às Sentenças de Pedro Lombardo e difundindo os escritos de Aristóteles.
URL:https://gratiaplena.online/event/dia-de-beato-inocencio-v/2028-06-22/
CATEGORIES:Santo do Dia
ATTACH;FMTTYPE=image/jpeg:https://gratiaplena.online/wp-content/uploads/2024/03/Beato-Inocencio-V-2-1.jpg
ORGANIZER;CN="Administrador":MAILTO:epzanette@gmail.com
END:VEVENT
BEGIN:VEVENT
DTSTART;VALUE=DATE:20280623
DTEND;VALUE=DATE:20280624
DTSTAMP:20260425T071616
CREATED:20240105T161840Z
LAST-MODIFIED:20240719T181804Z
UID:10000988-1845331200-1845417599@gratiaplena.online
SUMMARY:Dia de São Zacarias e Santa Isabel
DESCRIPTION:Celebramos nesta data (23 Jun) a festa de São Zacaria e Santa Izabel\, São Zacarias e Santa Isabel são os pais de São João Batista. São Lucas descreve\, em seu evangelho\, que Zacarias pertencia à classe sacerdotal de Abias e Isabel era descendente de Aarão. Ambos eram de idade avançada e não tinham filhos\, pois Isabel era estéril. “Ambos eram justos diante de Deus e observavam irrepreensivelmente todos os mandamentos e preceitos do Senhor”\, é o que está escrito em no primeiro capítulo de Lucas sobre São Zacarias e Santa Isabel. Leia mais….
URL:https://gratiaplena.online/event/dia-de-sao-zacarias-e-santa-isabel/2028-06-23/
CATEGORIES:Santo do Dia
ATTACH;FMTTYPE=image/jpeg:https://gratiaplena.online/wp-content/uploads/2024/01/Sao-Zacarias-e-Santa-Isabel2.jpg
ORGANIZER;CN="Administrador":MAILTO:epzanette@gmail.com
END:VEVENT
BEGIN:VEVENT
DTSTART;VALUE=DATE:20280627
DTEND;VALUE=DATE:20280628
DTSTAMP:20260425T071616
CREATED:20240227T191805Z
LAST-MODIFIED:20240227T191805Z
UID:10001416-1845676800-1845763199@gratiaplena.online
SUMMARY:Dia de São Cirilo de Alexandria
DESCRIPTION:Celebramos hoje (27 Jun) a memória litúrgica de São Cirilo de Alexandria\, nasceu no ano de 370\, no Egito. Sobrinho de Teófilo\, bispo de Alexandria\, assumiu a diocese em 412\, após a morte do tio. Governou a diocese até o ano 444\, data do seu falecimento. É considerada a sua maior obra a defesa do dogma de Maria\, como a Mãe de Deus. Ele se opôs e combateu Nestório\, patriarca de Constantinopla\, que professava ser Maria apenas a mãe do homem Jesus e não de Um que é Deus\, da Santíssima Trindade\, como está no Evangelho.
URL:https://gratiaplena.online/event/dia-de-sao-cirilo-de-alexandria/2028-06-27/
CATEGORIES:Santo do Dia
ATTACH;FMTTYPE=image/jpeg:https://gratiaplena.online/wp-content/uploads/2024/02/Sao-Cirilo-de-Alexandria2.jpeg
ORGANIZER;CN="Administrador":MAILTO:epzanette@gmail.com
END:VEVENT
BEGIN:VEVENT
DTSTART;VALUE=DATE:20280628
DTEND;VALUE=DATE:20280629
DTSTAMP:20260425T071616
CREATED:20240113T221609Z
LAST-MODIFIED:20240113T221609Z
UID:10001067-1845763200-1845849599@gratiaplena.online
SUMMARY:Dia de Santo Irineu de Lyon
DESCRIPTION:Celebramos hoje (28 Jun) a memória de Santo Ireneu de Lião\, bispo e mártir que empreendeu seus melhores esforços para defender a fé católica e derramou o próprio sangue\, em coroamento de seus inúmeros trabalhos\, por amor ao Nome de Cristo. É dele a conhecida obra Adversus Hæreses\, um conjunto de escritos dedicados a combater as heresias que rondavam os primeiros cristãos e\, deste modo\, guardar intacta a fé ortodoxa\, transmitida pelos Apóstolos
URL:https://gratiaplena.online/event/dia-de-santo-irineu-de-lyon/2028-06-28/
CATEGORIES:Santo do Dia
ATTACH;FMTTYPE=image/jpeg:https://gratiaplena.online/wp-content/uploads/2024/01/Santo-Irineu-de-Lyon2.jpg
ORGANIZER;CN="Administrador":MAILTO:epzanette@gmail.com
END:VEVENT
BEGIN:VEVENT
DTSTART;VALUE=DATE:20280629
DTEND;VALUE=DATE:20280630
DTSTAMP:20260425T071616
CREATED:20240101T182826Z
LAST-MODIFIED:20240712T181937Z
UID:10000904-1845849600-1845935999@gratiaplena.online
SUMMARY:Dia de São Pedro
DESCRIPTION:Comemoramos dia (29 Jun) a festa de São Pedro\, Apóstolo. Entusiasmado\, Pedro olha para Jesus e diz: “Eis que nós deixamos tudo e te seguimos”\, e Jesus\, olhando para a generosidade de Pedro\, diz qual é caminho que devem trilhar os seus discípulos: “Quem deixa tudo recebe cem vezes mais durante essa vida\, mais as perseguições e no mundo futuro\, a vida eterna”
URL:https://gratiaplena.online/event/dia-de-sao-pedro/2028-06-29/
CATEGORIES:Santo do Dia
ATTACH;FMTTYPE=image/jpeg:https://gratiaplena.online/wp-content/uploads/2024/01/Sao-Pedro-1.jpg
ORGANIZER;CN="Administrador":MAILTO:epzanette@gmail.com
END:VEVENT
BEGIN:VEVENT
DTSTART;VALUE=DATE:20280629
DTEND;VALUE=DATE:20280630
DTSTAMP:20260425T071616
CREATED:20240102T232808Z
LAST-MODIFIED:20240102T232953Z
UID:10000917-1845849600-1845935999@gratiaplena.online
SUMMARY:Dia de São Paulo
DESCRIPTION:Celebramos hoje (29 Jun) a festa de São Paulo\, Apóstolo\, um dos maiores propagadores do cristianismo e autor de catorze epístolas do Novo Testamento. Antes de se converter ao Cristianismo era conhecido como Saulo e perseguia os discípulos de Jesus nos arredores de Jerusalém. Também conhecido por Paulo de Tarso\, nasceu em Tarso\, na Cilícia (hoje uma região da Turquia)\, no ano 5 da Era Cristã. Filho de uma família judaica da tribo de Benjamim\, que gozava dos privilégios da cidade romana\, ao nascer\, recebeu o nome de Saulo (do hebreu)\, que mais tarde alterou para Paulo (do latim)\, depois da conversão e do batismo.
URL:https://gratiaplena.online/event/dia-de-sao-paulo/2028-06-29/
CATEGORIES:Santo do Dia
ATTACH;FMTTYPE=image/jpeg:https://gratiaplena.online/wp-content/uploads/2024/01/Sao-Paulo2.jpg
ORGANIZER;CN="Administrador":MAILTO:epzanette@gmail.com
END:VEVENT
BEGIN:VEVENT
DTSTART;VALUE=DATE:20280703
DTEND;VALUE=DATE:20280704
DTSTAMP:20260425T071616
CREATED:20231231T213920Z
LAST-MODIFIED:20231231T213920Z
UID:10000870-1846195200-1846281599@gratiaplena.online
SUMMARY:Dia de São Tomé
DESCRIPTION:Celebramos neste dia (3 Jul)\,  São Tomé\, recordado por ter duvidado da Ressurreição de Cristo até que o Senhor apareceu a ele\, mostrando-lhe as chagas e o Apóstolo fez uma profissão de fé\, repetida muitas vezes até os dias de hoje. Mais tarde\, veio a morrer como um grande mártir. Chamado Dídimo\, um dos Doze\, não estava com os discípulos quando Jesus apareceu. Os outros discípulos lhe disseram: “Vimos o Senhor!”. Mas ele lhes disse: “Se eu não vir as marcas dos pregos em suas mãos\, não colocar o meu dedo onde estavam os pregos e não puser a minha mão no seu lado\, não acreditarei”.
URL:https://gratiaplena.online/event/dia-de-sao-tome/2028-07-03/
CATEGORIES:Santo do Dia
ATTACH;FMTTYPE=image/webp:https://gratiaplena.online/wp-content/uploads/2023/12/Sao-Tome-2.webp
ORGANIZER;CN="Administrador":MAILTO:epzanette@gmail.com
END:VEVENT
BEGIN:VEVENT
DTSTART;VALUE=DATE:20280707
DTEND;VALUE=DATE:20280708
DTSTAMP:20260425T071616
CREATED:20240707T090016Z
LAST-MODIFIED:20240712T175646Z
UID:10001803-1846540800-1846627199@gratiaplena.online
SUMMARY:Dia de Beato Bento XI
DESCRIPTION:Celebramos hoje (7 Jul) a festa litúrgica de Beato Bento XI. De família pobre e cristã\, Nicolau Boccasini nasceu em Treviso\, no norte da Itália\, em 1240. Sua mãe era lavadeira dos Frades Dominicanos. Aos 17 anos\, entrou na Ordem Dominicana e vestiu o hábito religioso. Foi estudar em Milão\, onde se ordenou sacerdote. De volta em Treviso\, São Bento foi professor do convento. Manso de caráter\, exemplo de homem humilde e piedoso. Foi eleito Superior Provincial da Ordem Dominicana na região da Lombardia em 1286 e\, após dez anos\, foi nomeado Superior Geral dos Dominicanos. Realizou uma das proezas mais difíceis de sua época: uma trégua entre os reis da Inglaterra\, Eduardo I\, e da França\, Felipe\, o Belo.
URL:https://gratiaplena.online/event/dia-de-beato-bento-xi/2028-07-07/
CATEGORIES:Santo do Dia
ATTACH;FMTTYPE=image/jpeg:https://gratiaplena.online/wp-content/uploads/2024/03/Beato-Bento-XI-2.jpeg
ORGANIZER;CN="Administrador":MAILTO:epzanette@gmail.com
END:VEVENT
BEGIN:VEVENT
DTSTART;VALUE=DATE:20280708
DTEND;VALUE=DATE:20280709
DTSTAMP:20260425T071616
CREATED:20240310T202621Z
LAST-MODIFIED:20240310T202621Z
UID:10001482-1846627200-1846713599@gratiaplena.online
SUMMARY:Dia de Beato Eugênio III
DESCRIPTION:Celebramos hoje (8 Jul) a festa litúrgica de Beato Eugênio III. Um dado importante é que: praticamente\, de cada três Papas\, um foi oficialmente declarado santo. Assim aconteceu com Santo Eugênio\, que\, se tornou para a Igreja o homem certo para o tempo devido. Eugênio III nasceu no fim do século XI\, em Montemagno\, na Itália\, numa família rica\, cristã e da nobreza italiana. Depois de ordenado\, consagrou-se a Deus como sacerdote\, até que abandonou todas suas funções para viver como monge. O grande reformador da vida monástica – São Bernardo – o acolheu a fim de ajudá-lo na busca da santidade\, assim como no governo da Igreja\, pois inesperadamente o simples monge foi eleito para sucessor na Cátedra de Pedro. A Roma da época sofria com a agitação de Arnaldo de Bréscia\, que reclamava instituições municipais com eleições diretas dos senadores\, talvez por isso chegou a impedir a ordenação e posse de Eugênio\, já que tinha sido eleito pelo Espírito Santo numa instituição de origem divina.
URL:https://gratiaplena.online/event/dia-de-beato-eugenio-iii/2028-07-08/
CATEGORIES:Santo do Dia
ATTACH;FMTTYPE=image/jpeg:https://gratiaplena.online/wp-content/uploads/2024/03/Beato-Eugenio-III2.jpeg
ORGANIZER;CN="Administrador":MAILTO:epzanette@gmail.com
END:VEVENT
END:VCALENDAR