BEGIN:VCALENDAR
VERSION:2.0
PRODID:-//GratiaPlena - ECPv6.15.20//NONSGML v1.0//EN
CALSCALE:GREGORIAN
METHOD:PUBLISH
X-ORIGINAL-URL:https://gratiaplena.online
X-WR-CALDESC:Eventos para GratiaPlena
REFRESH-INTERVAL;VALUE=DURATION:PT1H
X-Robots-Tag:noindex
X-PUBLISHED-TTL:PT1H
BEGIN:VTIMEZONE
TZID:America/Sao_Paulo
BEGIN:STANDARD
TZOFFSETFROM:-0300
TZOFFSETTO:-0300
TZNAME:-03
DTSTART:20270101T000000
END:STANDARD
END:VTIMEZONE
BEGIN:VEVENT
DTSTART;VALUE=DATE:20280516
DTEND;VALUE=DATE:20280517
DTSTAMP:20260425T103104
CREATED:20240909T012757Z
LAST-MODIFIED:20240909T013201Z
UID:10002005-1842048000-1842134399@gratiaplena.online
SUMMARY:Dia de São Simão Stock
DESCRIPTION:São Simão Stock foi filho do governador de Kent e parente da realeza inglesa. Sua família cristã e cheia de fé\, deu a ele a melhor formação religiosa\, intelectual e humana. Inteligente e disciplinado\, Simão estudou no Colégio de Oxford desde quando tinha sete anos. Os estudos e o desejo da família levavam Simão para uma vida de sucesso social glorioso. Porém\, o que ele desejava em seu coração era estar ao serviço de Deus. Leia mais….
URL:https://gratiaplena.online/event/dia-de-sao-simao-stock/2028-05-16/
CATEGORIES:Santo do Dia
ATTACH;FMTTYPE=image/jpeg:https://gratiaplena.online/wp-content/uploads/2024/09/Sao-Simao-Stock2.jpg
ORGANIZER;CN="Administrador":MAILTO:epzanette@gmail.com
END:VEVENT
BEGIN:VEVENT
DTSTART;VALUE=DATE:20280525
DTEND;VALUE=DATE:20280526
DTSTAMP:20260425T103104
CREATED:20240308T130703Z
LAST-MODIFIED:20240308T130703Z
UID:10001434-1842825600-1842911999@gratiaplena.online
SUMMARY:Dia de São Beda
DESCRIPTION:Celebramos hoje (25 Mai) a festa de São Beda. “O tempo da minha partida chegou e meu coração deseja ver a beleza de Cristo\, meu Rei”\, disse antes de morrer o doutor da Igreja e padroeiro dos historiadores\, são Beda\, cujas homilias inspiraram o lema pontifício do papa Francisco. Por ser também linguista e tradutor\, seus trabalhos com os escritos latinos e gregos dos primeiros Padres da Igreja contribuíram de maneira significativa com o cristianismo inglês.
URL:https://gratiaplena.online/event/dia-de-sao-beda/2028-05-25/
CATEGORIES:Santo do Dia
ATTACH;FMTTYPE=image/jpeg:https://gratiaplena.online/wp-content/uploads/2024/03/Sao-Beda2.jpeg
ORGANIZER;CN="Administrador":MAILTO:epzanette@gmail.com
END:VEVENT
BEGIN:VEVENT
DTSTART;VALUE=DATE:20280526
DTEND;VALUE=DATE:20280527
DTSTAMP:20260425T103104
CREATED:20240728T205317Z
LAST-MODIFIED:20240728T205317Z
UID:10001871-1842912000-1842998399@gratiaplena.online
SUMMARY:Dia de Santo Eleutério
DESCRIPTION:Celebamos hoje (26 Mai) a memória de Santo Eleutério. São Gregório de Tours\, que foi um dos primeiros historiadores da Igreja da França\, narrou que na infância enquanto Eleutério brincava com os amiguinhos\, um deles lhe disse que iria chegar a ser um bispo. Não foi um aviso profético. Certamente foi um gracejo maldoso\, pois na sua época\, as responsabilidades desta função geralmente incluíam ameaças de morte. Eleutério nasceu no ano de 456 na cidade de Tournai\, e viveu num período conturbado da história da França\, que ainda estava sendo evangelizada\, e sentia o domínio dos povos do norte europeu. Leia mais….
URL:https://gratiaplena.online/event/dia-de-santo-eleuterio/2028-05-26/
CATEGORIES:Santo do Dia
ATTACH;FMTTYPE=image/jpeg:https://gratiaplena.online/wp-content/uploads/2024/07/Santo-Eleuterio2.jpg
ORGANIZER;CN="Administrador":MAILTO:epzanette@gmail.com
END:VEVENT
BEGIN:VEVENT
DTSTART;VALUE=DATE:20280529
DTEND;VALUE=DATE:20280530
DTSTAMP:20260425T103104
CREATED:20240311T181757Z
LAST-MODIFIED:20240311T205929Z
UID:10001512-1843171200-1843257599@gratiaplena.online
SUMMARY:Dia de São Paulo VI
DESCRIPTION:Celebramos hoje (29 Maio) a festa litúrgica de São Paulo VI. O processo diocesano para a beatificação de Paulo VI começou em 11 de maio de 1993\, tendo sido beatificado em 19 de outubro de 2014 pelo Papa Francisco. Ele será canonizado em 14 de outubro de 2018 na Praça São Pedro\, durante o Sínodo dedicado aos jovens\, ao lado de Dom Óscar Arnulfo Romero\, dois sacerdotes italianos\, uma religiosa alemã e uma espanhola. Paulo VI foi o Santo Padre que concluiu o Concílio Vaticano II\, iniciado pelo seu antecessor São João XXIII. Ele é autor da Encíclica Humanae Vitae\, publicada em 25 de julho de 1968\, que defende a visão tradicional da Igreja sobre métodos anticoncepcionais e aborto.
URL:https://gratiaplena.online/event/dia-de-beato-paulo-vi/2028-05-29/
CATEGORIES:Santo do Dia
ATTACH;FMTTYPE=image/jpeg:https://gratiaplena.online/wp-content/uploads/2024/03/Beato-Paulo-VI-2.jpeg
ORGANIZER;CN="Administrador":MAILTO:epzanette@gmail.com
END:VEVENT
BEGIN:VEVENT
DTSTART;VALUE=DATE:20280609
DTEND;VALUE=DATE:20280610
DTSTAMP:20260425T103104
CREATED:20240308T151432Z
LAST-MODIFIED:20240308T151432Z
UID:10001440-1844121600-1844207999@gratiaplena.online
SUMMARY:Dia de Santo Efrém da Síria
DESCRIPTION:Celebramos hoje (9 Jun) a festa de Santo Efrém da Síria\, nasceu em 306 em Nisibina ou em seus arredores (Mesopotâmia)\, Depois de ter estudado junto ao bispo daquela cidade\, Jacob (Jaime) se converteu no animador de uma escola de doutrina\, poesia e canto. Refugiou-se em Edesa no ano 367\, por causa da ocupação persa de Nisibina\, e nela prosseguiu suas atividades de ensinamento\, unidas a composição de muitos escritos exegéticos\, catequéticos e hinos em siríaco. Sua exuberância poética era tão grande e tal o gosto dos sírios pela poesia\, que muitas homilias estão compostas em versos. Recebeu o título de “Profeta dos Sírios” e “Cítara do Espírito Santo” e a tradição se alegrou em engrandecê-lo\, ao estilo dos dois primeiros apotegmas\, atribuindo-lhe a concessão milagrosa dos carismas da palavra\, da sabedoria e também das lágrimas.
URL:https://gratiaplena.online/event/dia-de-santo-efrem-da-siria/2028-06-09/
CATEGORIES:Santo do Dia
ATTACH;FMTTYPE=image/jpeg:https://gratiaplena.online/wp-content/uploads/2024/03/Santo-Efrem-da-Siria2.jpeg
ORGANIZER;CN="Administrador":MAILTO:epzanette@gmail.com
END:VEVENT
BEGIN:VEVENT
DTSTART;VALUE=DATE:20280611
DTEND;VALUE=DATE:20280612
DTSTAMP:20260425T103104
CREATED:20250116T175959Z
LAST-MODIFIED:20250123T175348Z
UID:10002546-1844294400-1844380799@gratiaplena.online
SUMMARY:Dia de Santa Alice de Schaerbeck
DESCRIPTION:Celebramos dia (11 Jun) a festa de San Alice. Alice de Schaerbeek ou de La Cambre\, também  chamada Adelaide\,  Aleide\,  Aleida ou Alida\, foi uma religiosa e mística flamenga\, monja cisterciense na Abadia de La Cambre (Bélgica). Nasceu em Schaerbeek\, perto de Bruxelas\, em 1225\, e demonstrou desde pequena que era dotada de inteligência e espírito precoces. A sua santidade foi\, de fato\, paga a preço de uma longa e terrível doença\, uma das mais temidas e temíveis da Idade Média\, que condenava todos os que eram atacados por ela a uma verdadeira morte civil\, além da lenta morte física: a lepra. Leia mais….
URL:https://gratiaplena.online/event/dia-de-santa-alice-de-schaerbeck/2028-06-11/
CATEGORIES:Santo do Dia
ATTACH;FMTTYPE=image/png:https://gratiaplena.online/wp-content/uploads/2025/01/Santa-Alice-de-Schaerbeck.png
ORGANIZER;CN="Administrador":MAILTO:epzanette@gmail.com
END:VEVENT
BEGIN:VEVENT
DTSTART;VALUE=DATE:20280613
DTEND;VALUE=DATE:20280614
DTSTAMP:20260425T103104
CREATED:20231130T121451Z
LAST-MODIFIED:20240517T164209Z
UID:10000685-1844467200-1844553599@gratiaplena.online
SUMMARY:Dia de Santo Antônio
DESCRIPTION:Celebramos hoje (13 Jun) a solenidade do Padroeiro de nossa Paróquia. Seu nome de batismo é Fernando. No ano seguinte\, em comemoração à sua morte\, o Papa Gregório IX anunciou sua canonização. No dia 8 de abril de 1263\, seu corpo foi transferido para uma basílica erguida em sua homenagem na mesma cidade e\, mais tarde\, em 1310\, seus restos mortais foram depositados em uma capela recém-construída na extremidade esquerda da mesma basílica. Em 1946\, o Papa Pio XII declarou oficialmente Santo Antônio de Pádua como Doutor da Igreja. \n 
URL:https://gratiaplena.online/event/dia-de-santo-antonio/2028-06-13/
LOCATION:Igreja Santo Antônio\, Rua Moron\, 732\, Bairro Petrópolis\, Passo Fundo\, Rio Grande do Sul\, 99051-400\, Brazil
CATEGORIES:Santo do Dia
ATTACH;FMTTYPE=image/jpeg:https://gratiaplena.online/wp-content/uploads/2023/11/Santo-Antonio.jpg
ORGANIZER;CN="Par%C3%B3quia Santo Ant%C3%B4nio":MAILTO:psapf@arquidiocesedepassofundo.com.br
END:VEVENT
BEGIN:VEVENT
DTSTART;VALUE=DATE:20280615
DTEND;VALUE=DATE:20280616
DTSTAMP:20260425T103104
CREATED:20240720T130402Z
LAST-MODIFIED:20240720T131106Z
UID:10001832-1844640000-1844726399@gratiaplena.online
SUMMARY:Dia de Santo Amós
DESCRIPTION:Hoje (15 Jun)\, excepcionalmente\, temos um santo do Antigo Testamento a considerar. Trata-se de Santo Amós\, de quem o erudito Pe. Matos Soares\, na Introdução aos Profetas Menores nos comentários que faz da Vulgata\, afirma que: “Os críticos modernos consideram Amós\, com razão\, como o primeiro dos profetas escritores. O seu livro\, por raros méritos de estilo e de substância\, é realmente digno de abrir a inestimável literatura profética de Israel.  Acrescentam valor às suas mensagens as humildes origens do profeta e sua vocação\, na qual brilha tanto mais intensamente a força do seu espírito sobre-humano”. Leia mais….
URL:https://gratiaplena.online/event/dia-de-santo-aos/2028-06-15/
CATEGORIES:Santo do Dia
ATTACH;FMTTYPE=image/jpeg:https://gratiaplena.online/wp-content/uploads/2024/07/Amos.jpg
ORGANIZER;CN="Administrador":MAILTO:epzanette@gmail.com
END:VEVENT
BEGIN:VEVENT
DTSTART;VALUE=DATE:20280616
DTEND;VALUE=DATE:20280617
DTSTAMP:20260425T103104
CREATED:20240616T211940Z
LAST-MODIFIED:20250123T180743Z
UID:10002566-1844726400-1844812799@gratiaplena.online
SUMMARY:Dia de Santa Lutgarda de Aywières
DESCRIPTION:Celebramos hoje (16 Jn) a festa de Santa Lutgarda de Aywières. Padroeira da Bélgica\, Santa Lutgard foi abençoada com uma mística troca de corações com o Senhor. Assim confirmada na certeza do amor que Jesus tinha por ela\, ela tornou-se\, a partir de então\, chama viva de caridade. No longínquo ano de 1182\, numa família burguesa da cidade belga de Tongres\, nasceu uma menina de aspecto vivo e brilhante\, a quem batizaram com o nome de Lutgarda. Leia mais…. \n 
URL:https://gratiaplena.online/event/dia-de-santa-lutgarda-de-aywieres/2028-06-16/
CATEGORIES:Santo do Dia
ATTACH;FMTTYPE=image/png:https://gratiaplena.online/wp-content/uploads/2025/01/Santa-Lutgarda-de-Aywieres.png
ORGANIZER;CN="Administrador":MAILTO:epzanette@gmail.com
END:VEVENT
BEGIN:VEVENT
DTSTART;VALUE=DATE:20280622
DTEND;VALUE=DATE:20280623
DTSTAMP:20260425T103104
CREATED:20240310T211603Z
LAST-MODIFIED:20240711T180341Z
UID:10001488-1845244800-1845331199@gratiaplena.online
SUMMARY:Dia de Beato Inocêncio V
DESCRIPTION:Celebramos hoje (22 Jun) a festa litúrgica de Beato Inocêncio V.  Papa natural de Saboia\, de seu nome Pedro Tarantaise ou Pietro di Tarantasia\, era um frade dominicano (Ordem para a qual tinha entrado quando ainda contava poucos anos de vida) que tinha colaborado com São Tomás de Aquino e com Santo Alberto Magno. Lecionou a cadeira de Teologia na Universidade de Paris\, substituindo São Tomás\, e foi também provincial de França da Ordem de São Domingos (ou seja\, dirigente e responsável pelos conventos de França) durante trinta anos. Nasceu em Val d’Isière e destacou-se pela sua cultura (o que deu origem ao sobrenome de doctor famosissimus)\, tendo este professor elaborado uns importantes comentários às Sentenças de Pedro Lombardo e difundindo os escritos de Aristóteles.
URL:https://gratiaplena.online/event/dia-de-beato-inocencio-v/2028-06-22/
CATEGORIES:Santo do Dia
ATTACH;FMTTYPE=image/jpeg:https://gratiaplena.online/wp-content/uploads/2024/03/Beato-Inocencio-V-2-1.jpg
ORGANIZER;CN="Administrador":MAILTO:epzanette@gmail.com
END:VEVENT
BEGIN:VEVENT
DTSTART;VALUE=DATE:20280623
DTEND;VALUE=DATE:20280624
DTSTAMP:20260425T103104
CREATED:20240105T161840Z
LAST-MODIFIED:20240719T181804Z
UID:10000988-1845331200-1845417599@gratiaplena.online
SUMMARY:Dia de São Zacarias e Santa Isabel
DESCRIPTION:Celebramos nesta data (23 Jun) a festa de São Zacaria e Santa Izabel\, São Zacarias e Santa Isabel são os pais de São João Batista. São Lucas descreve\, em seu evangelho\, que Zacarias pertencia à classe sacerdotal de Abias e Isabel era descendente de Aarão. Ambos eram de idade avançada e não tinham filhos\, pois Isabel era estéril. “Ambos eram justos diante de Deus e observavam irrepreensivelmente todos os mandamentos e preceitos do Senhor”\, é o que está escrito em no primeiro capítulo de Lucas sobre São Zacarias e Santa Isabel. Leia mais….
URL:https://gratiaplena.online/event/dia-de-sao-zacarias-e-santa-isabel/2028-06-23/
CATEGORIES:Santo do Dia
ATTACH;FMTTYPE=image/jpeg:https://gratiaplena.online/wp-content/uploads/2024/01/Sao-Zacarias-e-Santa-Isabel2.jpg
ORGANIZER;CN="Administrador":MAILTO:epzanette@gmail.com
END:VEVENT
END:VCALENDAR