BEGIN:VCALENDAR
VERSION:2.0
PRODID:-//GratiaPlena - ECPv6.15.20//NONSGML v1.0//EN
CALSCALE:GREGORIAN
METHOD:PUBLISH
X-ORIGINAL-URL:https://gratiaplena.online
X-WR-CALDESC:Eventos para GratiaPlena
REFRESH-INTERVAL;VALUE=DURATION:PT1H
X-Robots-Tag:noindex
X-PUBLISHED-TTL:PT1H
BEGIN:VTIMEZONE
TZID:America/Sao_Paulo
BEGIN:STANDARD
TZOFFSETFROM:-0300
TZOFFSETTO:-0300
TZNAME:-03
DTSTART:20270101T000000
END:STANDARD
END:VTIMEZONE
BEGIN:VEVENT
DTSTART;VALUE=DATE:20280502
DTEND;VALUE=DATE:20280503
DTSTAMP:20260425T095831
CREATED:20240117T204056Z
LAST-MODIFIED:20240117T204056Z
UID:10001079-1840838400-1840924799@gratiaplena.online
SUMMARY:Dia de Santo Atanásio
DESCRIPTION:Celebramos hoje (2 Mai) a memória litúrgica de Santa Atanásop\, nasceu entre os anos 295 e 296\, no seio de uma família humilde de Alexandria. Deus lhe concedeu muitas virtudes\, entre elas\, uma fé profunda e uma grande capacidade intelectual\, demonstrada abundantemente em seus estudos. Aos 25 anos de idade foi ordenado diácono pelo Patriarca Alexandros\, de Alexandria. Participou do Primeiro Concilio Ecumênico\, em Niceia\, que tratou da heresia de Ário. Em 328\, faleceu o Patriarca Alexandro\, e Santo Atanásio foi eleito pelo clero e pelo povo como seu sucessor\, tornando-se Arcebispo de Alexandria do Egito\, contando apenas 33 anos de idade. Iniciou um forte combate contra a heresia de Ário e\, por causa disso\, foi exilado cinco vezes por ordem do imperador Constantino\, sofrendo toda espécie de penas. Sem dúvidas\, com fé\, valor e paciência inesgotável\, saiu vencedor e destroçou os lobos da ortodoxia.
URL:https://gratiaplena.online/event/dia-de-santo-atanasio/2028-05-02/
CATEGORIES:Santo do Dia
ATTACH;FMTTYPE=image/webp:https://gratiaplena.online/wp-content/uploads/2024/01/Santo-Atanasio.webp
ORGANIZER;CN="Administrador":MAILTO:epzanette@gmail.com
END:VEVENT
BEGIN:VEVENT
DTSTART;VALUE=DATE:20280503
DTEND;VALUE=DATE:20280504
DTSTAMP:20260425T095831
CREATED:20231229T161357Z
LAST-MODIFIED:20231229T162650Z
UID:10000835-1840924800-1841011199@gratiaplena.online
SUMMARY:Dia de São Filipe
DESCRIPTION:Festejamos hoje(3 Mai) a solenidade da festa de São Filipe. O que sabemos\, com certeza\, sobre São Filipe\, registrado nos Evangelhos\, é que ele nasceu em Betsaida\, na Galileia\, e que foi um grande comunicador de Jesus ao apresenta-lo a Natanael\, que mais tarde se tornaria o 12º apóstolo\, substituindo Judas Iscariotes.
URL:https://gratiaplena.online/event/dia-de-sao-filipe/2028-05-03/
CATEGORIES:Santo do Dia
ATTACH;FMTTYPE=image/jpeg:https://gratiaplena.online/wp-content/uploads/2023/12/Sao-Filipe-2-1.jpg
ORGANIZER;CN="Administrador":MAILTO:epzanette@gmail.com
END:VEVENT
BEGIN:VEVENT
DTSTART;VALUE=DATE:20280503
DTEND;VALUE=DATE:20280504
DTSTAMP:20260425T095831
CREATED:20231229T163807Z
LAST-MODIFIED:20231229T164203Z
UID:10000841-1840924800-1841011199@gratiaplena.online
SUMMARY:Dia de São Tiago\, menor
DESCRIPTION:Celebramos hoje (3 Masi) a solenidade de São Tiago Menor.Tiago\, filho de Alfeu\, é identificado nos evangelhos como “irmão do Senhor”\, termo usado para designar parentesco de primos. Governou a Igreja de Jerusalém e foi chamado de “o Menor” para não ser confundido com são Tiago\, o Maior\, que era irmão de são João.
URL:https://gratiaplena.online/event/dia-de-sao-tiago-menor/2028-05-03/
CATEGORIES:Santo do Dia
ATTACH;FMTTYPE=image/jpeg:https://gratiaplena.online/wp-content/uploads/2023/12/Sao-Tiago-Menor-2-1.jpg
ORGANIZER;CN="Administrador":MAILTO:epzanette@gmail.com
END:VEVENT
BEGIN:VEVENT
DTSTART;VALUE=DATE:20280503
DTEND;VALUE=DATE:20280504
DTSTAMP:20260425T095831
CREATED:20240314T181006Z
LAST-MODIFIED:20240314T181006Z
UID:10001542-1840924800-1841011199@gratiaplena.online
SUMMARY:Dia de Santo Alexandre I
DESCRIPTION:Celebramos hoje (3 Mai) a festa litúrgica de Santo Alexandre I. Papa Alexandre I (Roma\, Itália\, c. 115) foi o bispo de Roma de c. 105 até sua morte c. 115. O Anuário Pontifício da Santa Sé (2012) o identifica como um romano que governou de 108 ou 109 até 116 ou 119. Alguns acreditam que ele foi martirizado pelo imperador Trajano ou Adriano\, mas isto é improvável. De acordo com o Liber Pontificalis\, foi Alexandre I quem inseriu a narração da Última Ceia (o Qui pridie) na celebração católica do Santo Sacrifício da Missa. No entanto\, no artigo sobre Santo Alexandre I na Enciclopédia Católica de 1907\, Thomas Shahan julga esta tradição como sendo imprecisa. Especialistas tanto católicos quanto não-católicos consideram esta tradição como imprecisa. Isso é visto como um produto da agenda do Liber Pontificalis – esta seção do livro foi provavelmente escrita no final do quinto século – para mostrar um padrão antigo dos primeiros bispos de Roma governando a igreja por decreto papal.
URL:https://gratiaplena.online/event/dia-de-santo-alexandre-i/2028-05-03/
CATEGORIES:Santo do Dia
ATTACH;FMTTYPE=image/png:https://gratiaplena.online/wp-content/uploads/2024/03/Santo-Alexandre-I-2.png
ORGANIZER;CN="Administrador":MAILTO:epzanette@gmail.com
END:VEVENT
BEGIN:VEVENT
DTSTART;VALUE=DATE:20280509
DTEND;VALUE=DATE:20280510
DTSTAMP:20260425T095831
CREATED:20240103T201034Z
LAST-MODIFIED:20240719T195410Z
UID:10000952-1841443200-1841529599@gratiaplena.online
SUMMARY:Dia de Santo Isaias​
DESCRIPTION:Comemoramos hoje (9 Mai) a festa de Santo Isaias\, Profeta do Antigo Testamento. Santo Isaias é uma das maiores e mais enérgicas personalidades do Antigo Testamento. Com seu discípulo Santo Eliseu\, ele é o grande profeta do século IX a.C. no norte da Palestina\, numa época em que a religião era violentamente perseguida pela idolatria. Segundo o livro do Eclesiástico\, ele surgiu “como um fogo\, e as suas palavras ardiam como uma tocha. Fez vir sobre eles [os pagãos] a fome\, e os que o irritavam pela sua inveja\, foram reduzidos a um pequeno número\, porque não podiam suportar os preceitos do Senhor” (48\, 1-2). Leia mais…. \n 
URL:https://gratiaplena.online/event/dia-de-santo-isaias/2028-05-09/
CATEGORIES:Santo do Dia
ATTACH;FMTTYPE=image/jpeg:https://gratiaplena.online/wp-content/uploads/2024/01/Isaias.jpg
ORGANIZER;CN="Administrador":MAILTO:epzanette@gmail.com
END:VEVENT
BEGIN:VEVENT
DTSTART;VALUE=DATE:20280510
DTEND;VALUE=DATE:20280511
DTSTAMP:20260425T095831
CREATED:20240122T215854Z
LAST-MODIFIED:20240122T215854Z
UID:10001139-1841529600-1841615999@gratiaplena.online
SUMMARY:Dia de São João de Ávila
DESCRIPTION:Celebramos hoje (10 Mai) a memória litúrgica de São João de Ávila\, pregador apostólico da Andaluzia e autor\, nascido em Almodóvar del Campo\, pequena cidade da diocese de Toledo\, Espanha\, 6 de janeiro de 1500; falecido em Montilla\, em 10 de maio de 1569. Aos quatorze anos foi enviado à Universidade de Salamanca para estudar Direito. Concebendo uma aversão à jurisprudência\, ele retornou depois de um ano para a casa de seu pai\, onde passou os três anos seguintes na prática da mais austera piedade. A sua maravilhosa santidade impressionou um franciscano que viajava por Almodóvar e\, a conselho do frade\, iniciou os estudos de filosofia e teologia em Alcalá\, onde teve a sorte de ter como professor o famoso dominicano De Soto. Seus pais morreram enquanto ele era estudante e após sua ordenação ele celebrou sua primeira missa na igreja onde foram sepultados\, vendeu os bens da família e deu o dinheiro aos pobres.
URL:https://gratiaplena.online/event/dia-de-sao-joao-de-avila/2028-05-10/
CATEGORIES:Santo do Dia
ATTACH;FMTTYPE=image/webp:https://gratiaplena.online/wp-content/uploads/2024/01/Sao-Joao-de-Avila2.webp
ORGANIZER;CN="Administrador":MAILTO:epzanette@gmail.com
END:VEVENT
BEGIN:VEVENT
DTSTART;VALUE=DATE:20280514
DTEND;VALUE=DATE:20280515
DTSTAMP:20260425T095831
CREATED:20240101T162413Z
LAST-MODIFIED:20240517T164819Z
UID:10000892-1841875200-1841961599@gratiaplena.online
SUMMARY:Dia de São Matias
DESCRIPTION:Celebramoa hoje (14 Mai) a festa de São Matias\, Apóstolo\, que foi eleito como membro do colégio apostólico após a Ascensão do Senhor\, durante aquele período de dez dias de expectativa pela vinda do Espírito prometido. Matias foi escolhido dentre os que estiveram em companhia dos Doze desde o início (cf. At 1\, 21-22)\, a fim de preencher o lugar deixado por Judas Iscariotes.
URL:https://gratiaplena.online/event/dia-de-sao-matias/2028-05-14/
CATEGORIES:Santo do Dia
ATTACH;FMTTYPE=image/jpeg:https://gratiaplena.online/wp-content/uploads/2024/01/Sao-Matias-2.jpg
ORGANIZER;CN="Administrador":MAILTO:epzanette@gmail.com
END:VEVENT
BEGIN:VEVENT
DTSTART;VALUE=DATE:20280516
DTEND;VALUE=DATE:20280517
DTSTAMP:20260425T095831
CREATED:20240111T180652Z
LAST-MODIFIED:20240111T180652Z
UID:10001049-1842048000-1842134399@gratiaplena.online
SUMMARY:Dia de Santo Ubaldo
DESCRIPTION:Celebramos hoje (16 Maio) a festa litúrgica de Santo Ubaldo\, nasceu em 1085\, na Alemanha\, filho de uma nobre família\, mas ficou órfão de pai e mãe em idade bastante tenra. Em razão disso\, foi criado por um tio\, que estabeleceu sua educação sobre sólidas bases religiosas. Quando Ubaldo tinha pouco mais de 15 anos\, manifestou seu desejo de entrar para a vida monástica\, pretendendo viver como ermitão\, longe de todas as vaidades mundanas. Seu tio cuidou de dissuadi-lo\, permitindo\, no entanto\, que ele tivesse uma vida comum com os cônegos de São Segundo. Em 1104\, foi tirado da presença dos irmãos cônegos pelo bispo João\, que o queria junto a si para que trabalhassem na reforma eclesiástica.
URL:https://gratiaplena.online/event/dia-de-santo-ubaldo/2028-05-16/
CATEGORIES:Santo do Dia
ATTACH;FMTTYPE=image/jpeg:https://gratiaplena.online/wp-content/uploads/2024/01/Santo-Ubaldo2.jpg
ORGANIZER;CN="Administrador":MAILTO:epzanette@gmail.com
END:VEVENT
BEGIN:VEVENT
DTSTART;VALUE=DATE:20280516
DTEND;VALUE=DATE:20280517
DTSTAMP:20260425T095831
CREATED:20240909T012757Z
LAST-MODIFIED:20240909T013201Z
UID:10002005-1842048000-1842134399@gratiaplena.online
SUMMARY:Dia de São Simão Stock
DESCRIPTION:São Simão Stock foi filho do governador de Kent e parente da realeza inglesa. Sua família cristã e cheia de fé\, deu a ele a melhor formação religiosa\, intelectual e humana. Inteligente e disciplinado\, Simão estudou no Colégio de Oxford desde quando tinha sete anos. Os estudos e o desejo da família levavam Simão para uma vida de sucesso social glorioso. Porém\, o que ele desejava em seu coração era estar ao serviço de Deus. Leia mais….
URL:https://gratiaplena.online/event/dia-de-sao-simao-stock/2028-05-16/
CATEGORIES:Santo do Dia
ATTACH;FMTTYPE=image/jpeg:https://gratiaplena.online/wp-content/uploads/2024/09/Sao-Simao-Stock2.jpg
ORGANIZER;CN="Administrador":MAILTO:epzanette@gmail.com
END:VEVENT
BEGIN:VEVENT
DTSTART;VALUE=DATE:20280525
DTEND;VALUE=DATE:20280526
DTSTAMP:20260425T095831
CREATED:20240308T130703Z
LAST-MODIFIED:20240308T130703Z
UID:10001434-1842825600-1842911999@gratiaplena.online
SUMMARY:Dia de São Beda
DESCRIPTION:Celebramos hoje (25 Mai) a festa de São Beda. “O tempo da minha partida chegou e meu coração deseja ver a beleza de Cristo\, meu Rei”\, disse antes de morrer o doutor da Igreja e padroeiro dos historiadores\, são Beda\, cujas homilias inspiraram o lema pontifício do papa Francisco. Por ser também linguista e tradutor\, seus trabalhos com os escritos latinos e gregos dos primeiros Padres da Igreja contribuíram de maneira significativa com o cristianismo inglês.
URL:https://gratiaplena.online/event/dia-de-sao-beda/2028-05-25/
CATEGORIES:Santo do Dia
ATTACH;FMTTYPE=image/jpeg:https://gratiaplena.online/wp-content/uploads/2024/03/Sao-Beda2.jpeg
ORGANIZER;CN="Administrador":MAILTO:epzanette@gmail.com
END:VEVENT
BEGIN:VEVENT
DTSTART;VALUE=DATE:20280526
DTEND;VALUE=DATE:20280527
DTSTAMP:20260425T095831
CREATED:20240728T205317Z
LAST-MODIFIED:20240728T205317Z
UID:10001871-1842912000-1842998399@gratiaplena.online
SUMMARY:Dia de Santo Eleutério
DESCRIPTION:Celebamos hoje (26 Mai) a memória de Santo Eleutério. São Gregório de Tours\, que foi um dos primeiros historiadores da Igreja da França\, narrou que na infância enquanto Eleutério brincava com os amiguinhos\, um deles lhe disse que iria chegar a ser um bispo. Não foi um aviso profético. Certamente foi um gracejo maldoso\, pois na sua época\, as responsabilidades desta função geralmente incluíam ameaças de morte. Eleutério nasceu no ano de 456 na cidade de Tournai\, e viveu num período conturbado da história da França\, que ainda estava sendo evangelizada\, e sentia o domínio dos povos do norte europeu. Leia mais….
URL:https://gratiaplena.online/event/dia-de-santo-eleuterio/2028-05-26/
CATEGORIES:Santo do Dia
ATTACH;FMTTYPE=image/jpeg:https://gratiaplena.online/wp-content/uploads/2024/07/Santo-Eleuterio2.jpg
ORGANIZER;CN="Administrador":MAILTO:epzanette@gmail.com
END:VEVENT
END:VCALENDAR