BEGIN:VCALENDAR
VERSION:2.0
PRODID:-//GratiaPlena - ECPv6.15.20//NONSGML v1.0//EN
CALSCALE:GREGORIAN
METHOD:PUBLISH
X-WR-CALNAME:GratiaPlena
X-ORIGINAL-URL:https://gratiaplena.online
X-WR-CALDESC:Eventos para GratiaPlena
REFRESH-INTERVAL;VALUE=DURATION:PT1H
X-Robots-Tag:noindex
X-PUBLISHED-TTL:PT1H
BEGIN:VTIMEZONE
TZID:America/Sao_Paulo
BEGIN:STANDARD
TZOFFSETFROM:-0300
TZOFFSETTO:-0300
TZNAME:-03
DTSTART:20260101T000000
END:STANDARD
END:VTIMEZONE
BEGIN:VEVENT
DTSTART;VALUE=DATE:20270717
DTEND;VALUE=DATE:20270718
DTSTAMP:20260424T170540
CREATED:20240717T135542Z
LAST-MODIFIED:20240717T175654Z
UID:10001815-1815782400-1815868799@gratiaplena.online
SUMMARY:Dia de Inácio de Azevedo e 39 companheiros
DESCRIPTION:Celebramos hoje (17 Jul) quarenta santos mártires que derramaram o sangue para evangelizar o nosso Brasil. Trata-se do Bem-aventurado Inácio de Azevedo e seus companheiros mártires. Inácio Azevedo foi um padre jesuíta nascido em Portugal que veio ao Brasil evangelizar.  Quando ele viu o tamanho das necessidades de evangelização da nossa terra\, não cruzou os braços: voltou para a Europa e pediu licença ao padre geral para ir convencendo outros jesuítas (ou seja\, estudantes que pretendiam ser padres e irmãos leigos) a se juntarem a ele para evangelizar o nosso país.  Leia mais….
URL:https://gratiaplena.online/event/dia-de-inacio-de-azevedo-e-39-companheiros/2027-07-17/
CATEGORIES:Santo do Dia
ATTACH;FMTTYPE=image/jpeg:https://gratiaplena.online/wp-content/uploads/2024/07/Inacio-de-Azevedo2.jpg
ORGANIZER;CN="Administrador":MAILTO:epzanette@gmail.com
END:VEVENT
BEGIN:VEVENT
DTSTART;VALUE=DATE:20270717
DTEND;VALUE=DATE:20270718
DTSTAMP:20260424T170540
CREATED:20240717T174701Z
LAST-MODIFIED:20240717T174701Z
UID:10001821-1815782400-1815868799@gratiaplena.online
SUMMARY:Dia de Maria Madalena Claudina Lidoine e 15 companheiras
DESCRIPTION:O mosteiro das carmelitas de Compiègne\, França\, vivia entregue ao espírito de oração\, de silêncio e de renúncia\, quando rebentou a Revolução Francesa. A 4 de agosto de 1790\, os membros do diretório do distrito procederam ao inventário dos bens da comunidade. As religiosas foram convidadas a despir o hábito e a abandonar o mosteiro. Cinco dias mais tarde\, a conselho da câmara\, assinaram todas o juramento de Liberdade-Igualdade. Desde então\, viveram dispersas. Leia mais….
URL:https://gratiaplena.online/event/dia-de-maria-madalena-claudina-lidoine-e-15-companheiras/2027-07-17/
CATEGORIES:Santo do Dia
ATTACH;FMTTYPE=image/jpeg:https://gratiaplena.online/wp-content/uploads/2024/07/Maria-Madalena-Claudina-Lidoine2.jpeg
ORGANIZER;CN="Administrador":MAILTO:epzanette@gmail.com
END:VEVENT
BEGIN:VEVENT
DTSTART;VALUE=DATE:20270720
DTEND;VALUE=DATE:20270721
DTSTAMP:20260424T170540
CREATED:20240103T204121Z
LAST-MODIFIED:20240720T132008Z
UID:10000957-1816041600-1816127999@gratiaplena.online
SUMMARY:Dia de Santo Elias
DESCRIPTION:Celebramos hoje (20 Jul) a festa de Santo Elias. Sabe-se que ele nasceu em torno do ano 900 a.C. em Tesba de Galaad\, junto à fronteira do país dos amonitas (atual Jordânia). “Quando Elias estava para nascer\, seu pai Sabacha viu-o saudado por alvos anjos\, envolvido por faixas de fogo e alimentado com chamas. Tendo ido a Jerusalém\, relatou [no templo] a visão\, e o oráculo lhe disse que não temesse\, pois aquele que ia nascer habitaria na luz\, suas palavras seriam sentença segura e julgaria Israel com gládio e fogo” (Doroteu\, Sto. Epifânio e Metafrates\, apud Cornelio a Lápide\, Comentários ao Livro 1º dos Reis\, cap. 17). Leia mais….
URL:https://gratiaplena.online/event/dia-de-santo-elias/2027-07-20/
CATEGORIES:Santo do Dia
ATTACH;FMTTYPE=image/jpeg:https://gratiaplena.online/wp-content/uploads/2024/01/Elias.jpg
ORGANIZER;CN="Administrador":MAILTO:epzanette@gmail.com
END:VEVENT
BEGIN:VEVENT
DTSTART;VALUE=DATE:20270721
DTEND;VALUE=DATE:20270722
DTSTAMP:20260424T170540
CREATED:20240104T201105Z
LAST-MODIFIED:20240718T163057Z
UID:10000969-1816128000-1816214399@gratiaplena.online
SUMMARY:Dia de Santo Ezequiel
DESCRIPTION:Celebramos hoje (21 Jul) a festa do profeta Exequiel. Ezequiel\, filho de Buzi\, era sacerdote da linhagem de Sadoc e atuou no templo de Jerusalém. Era casado e ficou viúvo pouco antes dos babilônios tomarem Jerusalém. Como sacerdote\, pertenceu à classe dirigente da cidade. Foi exilado para a Babilônia junto com a primeira leva de deportados (597 AC). Passou por profunda transformação: de dirigente em Judá para refém expatriado\, perdendo seus privilégios.  Leia mais….
URL:https://gratiaplena.online/event/dia-de-santo-ezequiel/2027-07-21/
CATEGORIES:Santo do Dia
ATTACH;FMTTYPE=image/jpeg:https://gratiaplena.online/wp-content/uploads/2024/01/Ezequiel.jpeg
ORGANIZER;CN="Administrador":MAILTO:epzanette@gmail.com
END:VEVENT
BEGIN:VEVENT
DTSTART;VALUE=DATE:20270721
DTEND;VALUE=DATE:20270722
DTSTAMP:20260424T170540
CREATED:20240309T204750Z
LAST-MODIFIED:20240309T204750Z
UID:10001469-1816128000-1816214399@gratiaplena.online
SUMMARY:Dia de São Lourenço de Brindisi
DESCRIPTION:Celebramos hoje (21 Jul) a memória litúrgica de São Lourenço de Brindisi. Geralmente\, as chamadas “crianças superdotadas”\, aquelas que demonstram um dom excepcional para alguma especialidade\, quando crescem\, parecem “perder os poderes” e nivelam-se com as demais pessoas. São poucas as exceções que merecem ser recordadas. Mas\, com certeza\, uma delas foi Júlio César Russo\, que nasceu no dia 22 de julho de 1559\, em Brindisi\, na Itália.
URL:https://gratiaplena.online/event/dia-de-sao-lourenco-de-brindisi/2027-07-21/
CATEGORIES:Santo do Dia
ATTACH;FMTTYPE=image/jpeg:https://gratiaplena.online/wp-content/uploads/2024/03/Sao-Lourenco-de-Brindisi2.jpeg
ORGANIZER;CN="Administrador":MAILTO:epzanette@gmail.com
END:VEVENT
BEGIN:VEVENT
DTSTART;VALUE=DATE:20270723
DTEND;VALUE=DATE:20270724
DTSTAMP:20260424T170540
CREATED:20240319T200746Z
LAST-MODIFIED:20240319T200746Z
UID:10001642-1816300800-1816387199@gratiaplena.online
SUMMARY:Dia de Santa Brígida da Suécia
DESCRIPTION:Celebramos hoje (23 Jul) a memória litúrgica de Santa Brígida da Suécia. Canonizada\, em 1391\, por Bonifácio IX\, Santa Brígida é a padroeira da Suécia. Em 1999\, foi declarada também copadroeira da Europa por São João Paulo II. Brígida\, quando criança\, tinha\, certamente\, um caráter forte e decisivo. Pertencia a uma família aristocrática. Embora sentisse a vocação religiosa\, aceitou casar-se com Ulf\, o governador de um importante distrito do Reino da Suécia\, a pedido do seu pai. A primeira parte da sua vida\, marcada por uma grande fé\, foi dedicada a um casamento feliz\, do qual nasceram oito filhos. Uma\, dentre eles\, Catarina – que a seguiu até Roma – também foi canonizada.
URL:https://gratiaplena.online/event/dia-de-santa-brigida-da-suecia/2027-07-23/
CATEGORIES:Santo do Dia
ATTACH;FMTTYPE=image/jpeg:https://gratiaplena.online/wp-content/uploads/2024/03/Santa-Brigida-da-Suecia2.jpeg
ORGANIZER;CN="Administrador":MAILTO:epzanette@gmail.com
END:VEVENT
BEGIN:VEVENT
DTSTART;VALUE=DATE:20270725
DTEND;VALUE=DATE:20270726
DTSTAMP:20260424T170540
CREATED:20231230T162105Z
LAST-MODIFIED:20231230T162105Z
UID:10000846-1816473600-1816559999@gratiaplena.online
SUMMARY:Dia de São Tiago\, maior
DESCRIPTION:Celebramos hoje (25 Jul) a festa de São Tiago Maior\, um dos doze apóstolos escolhidos por Jesus Cristo. São Tiago Maior\, também conhecido como Tiago\, filho de Zebedeu\, nasceu na Galileia\, por volta do século I. Juntamente com seu irmão\, João\, eles eram pescadores de profissão. Quando Jesus os chamou para serem seus discípulos\, eles prontamente abandonaram suas redes e seguiram o Messias.
URL:https://gratiaplena.online/event/dia-de-sao-tiago-maior/2027-07-25/
CATEGORIES:Santo do Dia
ATTACH;FMTTYPE=image/jpeg:https://gratiaplena.online/wp-content/uploads/2023/12/Sao-Tiago-maior-2.jpg
ORGANIZER;CN="Administrador":MAILTO:epzanette@gmail.com
END:VEVENT
BEGIN:VEVENT
DTSTART;VALUE=DATE:20270728
DTEND;VALUE=DATE:20270729
DTSTAMP:20260424T170540
CREATED:20240216T202114Z
LAST-MODIFIED:20240216T202114Z
UID:10001385-1816732800-1816819199@gratiaplena.online
SUMMARY:Dia de Beato Urbano II
DESCRIPTION:Comemoramos hoje (28 Jul) a memória de Beato Urbano II. Guilherme de Grimoard nasceu em Grisac\, no Languedoc\, França\, em 1310\, numa família de cavaleiros. Educou-se em Montpelier e Toulouse\, e entrou no mosteiro beneditino na pequena abadia de Chirac.  Homem de penitência\, obediente ao regime monástico até a morte\, proferiu os votos monásticos no convento de São Vitor\, de Marselha. Lá cresceu seu amor pela Ordem de São Bento\, de tal maneira que\, depois de Papa\, ele continuou usando o hábito beneditino. Mais tarde afiliou-se ao famoso mosteiro de Cluny.
URL:https://gratiaplena.online/event/dia-de-beato-urbano-ii/2027-07-28/
CATEGORIES:Santo do Dia
ATTACH;FMTTYPE=image/jpeg:https://gratiaplena.online/wp-content/uploads/2024/02/Beato-Urbano-II-2.jpeg
ORGANIZER;CN="Administrador":MAILTO:epzanette@gmail.com
END:VEVENT
BEGIN:VEVENT
DTSTART;VALUE=DATE:20270728
DTEND;VALUE=DATE:20270729
DTSTAMP:20260424T170540
CREATED:20240216T210727Z
LAST-MODIFIED:20240728T212556Z
UID:10001391-1816732800-1816819199@gratiaplena.online
SUMMARY:Dia de São Vitor I
DESCRIPTION:Celebramos hoje (28 Jul) a memória de São Vitor I\,Papa. São Vítor I Foi o 14° papa da Igreja Católica Apostólica Romana entre (datas aproximadas) 189 e 199. Papa São Vítor I\, nasceu na província romana de Tunísia\, sendo portanto\, o primeiro Papa africano. Esta notícia é bastante certa\, pois na Catedral Católica de Tunes\, à esquerda do altar\, tem um mosaico com o rosto dele. De seu pai sabe-se somente que se chamava Félix. Leia mais…. \n 
URL:https://gratiaplena.online/event/dia-de-sao-vitor-i/2027-07-28/
CATEGORIES:Santo do Dia
ATTACH;FMTTYPE=image/jpeg:https://gratiaplena.online/wp-content/uploads/2024/02/Sao-Vitor-I-2.jpeg
ORGANIZER;CN="Administrador":MAILTO:epzanette@gmail.com
END:VEVENT
BEGIN:VEVENT
DTSTART;VALUE=DATE:20270730
DTEND;VALUE=DATE:20270731
DTSTAMP:20260424T170540
CREATED:20240119T201904Z
LAST-MODIFIED:20240119T201904Z
UID:10001102-1816905600-1816991999@gratiaplena.online
SUMMARY:Dia de São Pedro Crisólogo
DESCRIPTION:Celebramos hoje (30 Jul) a memória litúrgica de São Pedro Crisólogo\, nasceu em Ímola\, em 406; ele morreu lá em 450. Sua biografia foi escrita pela primeira vez por Agnellus (Liber pontificalis eclessi ravennatis) no século IX. Não dá muitas informações sobre o personagem. Foi batizado\, educado e ordenado diácono por Cornélio\, bispo de Ímola\, e elevado ao bispado de Ravena em 433.
URL:https://gratiaplena.online/event/dia-de-sao-pedro-crisologo/2027-07-30/
CATEGORIES:Santo do Dia
ATTACH;FMTTYPE=image/jpeg:https://gratiaplena.online/wp-content/uploads/2024/01/Sao-Pedro-Crisologo.jpg
ORGANIZER;CN="Administrador":MAILTO:epzanette@gmail.com
END:VEVENT
BEGIN:VEVENT
DTSTART;VALUE=DATE:20270801
DTEND;VALUE=DATE:20270802
DTSTAMP:20260424T170540
CREATED:20240227T165854Z
LAST-MODIFIED:20240828T120316Z
UID:10001409-1817078400-1817164799@gratiaplena.online
SUMMARY:Dia de Santo Afonso Maria de Ligório
DESCRIPTION:Comemoramos hoje (1 Ago) a memória de Santo Afonso Maria de Ligório. Nascido de uma das mais antigas e nobres famílias de Nápoles\, a 27 de setembro de 1696\, Afonso Maria de Ligório foi menino prodígio pela facilidade com que aprendeu todas as disciplinas\, das línguas às ciências\, da arte à música. (A devoção popular muito deve às suaves canções por ele escritas e musicadas. Até agora no tempo do Natal gostamos de escutar o seu Tu scendi dalle stelle — Tu desces das estrelas.) Aos 19 anos era já advogado formado. Mas em uma das grandes oportunidades escorregou na clássica casca de banana: um documento exibido após a sua exaltada defesa do acusado demonstrou que ele havia\, embora involuntariamente\, sustentado a falsidade. Leia mais….
URL:https://gratiaplena.online/event/dia-de-santo-afonso-maria-de-ligorio/2027-08-01/
CATEGORIES:Santo do Dia
ATTACH;FMTTYPE=image/jpeg:https://gratiaplena.online/wp-content/uploads/2024/02/Santo-Afonso-Maria-de-Ligorio2.jpeg
ORGANIZER;CN="Administrador":MAILTO:epzanette@gmail.com
END:VEVENT
END:VCALENDAR