BEGIN:VCALENDAR
VERSION:2.0
PRODID:-//GratiaPlena - ECPv6.15.20//NONSGML v1.0//EN
CALSCALE:GREGORIAN
METHOD:PUBLISH
X-ORIGINAL-URL:https://gratiaplena.online
X-WR-CALDESC:Eventos para GratiaPlena
REFRESH-INTERVAL;VALUE=DURATION:PT1H
X-Robots-Tag:noindex
X-PUBLISHED-TTL:PT1H
BEGIN:VTIMEZONE
TZID:America/Sao_Paulo
BEGIN:STANDARD
TZOFFSETFROM:-0300
TZOFFSETTO:-0300
TZNAME:-03
DTSTART:20220101T000000
END:STANDARD
END:VTIMEZONE
BEGIN:VEVENT
DTSTART;VALUE=DATE:20250613
DTEND;VALUE=DATE:20250614
DTSTAMP:20260424T114327
CREATED:20231130T121451Z
LAST-MODIFIED:20240517T164209Z
UID:10000682-1749772800-1749859199@gratiaplena.online
SUMMARY:Dia de Santo Antônio
DESCRIPTION:Celebramos hoje (13 Jun) a solenidade do Padroeiro de nossa Paróquia. Seu nome de batismo é Fernando. No ano seguinte\, em comemoração à sua morte\, o Papa Gregório IX anunciou sua canonização. No dia 8 de abril de 1263\, seu corpo foi transferido para uma basílica erguida em sua homenagem na mesma cidade e\, mais tarde\, em 1310\, seus restos mortais foram depositados em uma capela recém-construída na extremidade esquerda da mesma basílica. Em 1946\, o Papa Pio XII declarou oficialmente Santo Antônio de Pádua como Doutor da Igreja. \n 
URL:https://gratiaplena.online/event/dia-de-santo-antonio/2025-06-13/
LOCATION:Igreja Santo Antônio\, Rua Moron\, 732\, Bairro Petrópolis\, Passo Fundo\, Rio Grande do Sul\, 99051-400\, Brazil
CATEGORIES:Santo do Dia
ATTACH;FMTTYPE=image/jpeg:https://gratiaplena.online/wp-content/uploads/2023/11/Santo-Antonio.jpg
ORGANIZER;CN="Par%C3%B3quia Santo Ant%C3%B4nio":MAILTO:psapf@arquidiocesedepassofundo.com.br
END:VEVENT
BEGIN:VEVENT
DTSTART;VALUE=DATE:20250611
DTEND;VALUE=DATE:20250612
DTSTAMP:20260424T114327
CREATED:20250116T175959Z
LAST-MODIFIED:20250123T175348Z
UID:10002543-1749600000-1749686399@gratiaplena.online
SUMMARY:Dia de Santa Alice de Schaerbeck
DESCRIPTION:Celebramos dia (11 Jun) a festa de San Alice. Alice de Schaerbeek ou de La Cambre\, também  chamada Adelaide\,  Aleide\,  Aleida ou Alida\, foi uma religiosa e mística flamenga\, monja cisterciense na Abadia de La Cambre (Bélgica). Nasceu em Schaerbeek\, perto de Bruxelas\, em 1225\, e demonstrou desde pequena que era dotada de inteligência e espírito precoces. A sua santidade foi\, de fato\, paga a preço de uma longa e terrível doença\, uma das mais temidas e temíveis da Idade Média\, que condenava todos os que eram atacados por ela a uma verdadeira morte civil\, além da lenta morte física: a lepra. Leia mais….
URL:https://gratiaplena.online/event/dia-de-santa-alice-de-schaerbeck/2025-06-11/
CATEGORIES:Santo do Dia
ATTACH;FMTTYPE=image/png:https://gratiaplena.online/wp-content/uploads/2025/01/Santa-Alice-de-Schaerbeck.png
ORGANIZER;CN="Administrador":MAILTO:epzanette@gmail.com
END:VEVENT
BEGIN:VEVENT
DTSTART;VALUE=DATE:20250609
DTEND;VALUE=DATE:20250610
DTSTAMP:20260424T114327
CREATED:20240308T151432Z
LAST-MODIFIED:20240308T151432Z
UID:10001437-1749427200-1749513599@gratiaplena.online
SUMMARY:Dia de Santo Efrém da Síria
DESCRIPTION:Celebramos hoje (9 Jun) a festa de Santo Efrém da Síria\, nasceu em 306 em Nisibina ou em seus arredores (Mesopotâmia)\, Depois de ter estudado junto ao bispo daquela cidade\, Jacob (Jaime) se converteu no animador de uma escola de doutrina\, poesia e canto. Refugiou-se em Edesa no ano 367\, por causa da ocupação persa de Nisibina\, e nela prosseguiu suas atividades de ensinamento\, unidas a composição de muitos escritos exegéticos\, catequéticos e hinos em siríaco. Sua exuberância poética era tão grande e tal o gosto dos sírios pela poesia\, que muitas homilias estão compostas em versos. Recebeu o título de “Profeta dos Sírios” e “Cítara do Espírito Santo” e a tradição se alegrou em engrandecê-lo\, ao estilo dos dois primeiros apotegmas\, atribuindo-lhe a concessão milagrosa dos carismas da palavra\, da sabedoria e também das lágrimas.
URL:https://gratiaplena.online/event/dia-de-santo-efrem-da-siria/2025-06-09/
CATEGORIES:Santo do Dia
ATTACH;FMTTYPE=image/jpeg:https://gratiaplena.online/wp-content/uploads/2024/03/Santo-Efrem-da-Siria2.jpeg
ORGANIZER;CN="Administrador":MAILTO:epzanette@gmail.com
END:VEVENT
BEGIN:VEVENT
DTSTART;VALUE=DATE:20250529
DTEND;VALUE=DATE:20250530
DTSTAMP:20260424T114327
CREATED:20240311T181757Z
LAST-MODIFIED:20240311T205929Z
UID:10001509-1748476800-1748563199@gratiaplena.online
SUMMARY:Dia de São Paulo VI
DESCRIPTION:Celebramos hoje (29 Maio) a festa litúrgica de São Paulo VI. O processo diocesano para a beatificação de Paulo VI começou em 11 de maio de 1993\, tendo sido beatificado em 19 de outubro de 2014 pelo Papa Francisco. Ele será canonizado em 14 de outubro de 2018 na Praça São Pedro\, durante o Sínodo dedicado aos jovens\, ao lado de Dom Óscar Arnulfo Romero\, dois sacerdotes italianos\, uma religiosa alemã e uma espanhola. Paulo VI foi o Santo Padre que concluiu o Concílio Vaticano II\, iniciado pelo seu antecessor São João XXIII. Ele é autor da Encíclica Humanae Vitae\, publicada em 25 de julho de 1968\, que defende a visão tradicional da Igreja sobre métodos anticoncepcionais e aborto.
URL:https://gratiaplena.online/event/dia-de-beato-paulo-vi/2025-05-29/
CATEGORIES:Santo do Dia
ATTACH;FMTTYPE=image/jpeg:https://gratiaplena.online/wp-content/uploads/2024/03/Beato-Paulo-VI-2.jpeg
ORGANIZER;CN="Administrador":MAILTO:epzanette@gmail.com
END:VEVENT
BEGIN:VEVENT
DTSTART;VALUE=DATE:20250526
DTEND;VALUE=DATE:20250527
DTSTAMP:20260424T114327
CREATED:20240728T205317Z
LAST-MODIFIED:20240728T205317Z
UID:10001868-1748217600-1748303999@gratiaplena.online
SUMMARY:Dia de Santo Eleutério
DESCRIPTION:Celebamos hoje (26 Mai) a memória de Santo Eleutério. São Gregório de Tours\, que foi um dos primeiros historiadores da Igreja da França\, narrou que na infância enquanto Eleutério brincava com os amiguinhos\, um deles lhe disse que iria chegar a ser um bispo. Não foi um aviso profético. Certamente foi um gracejo maldoso\, pois na sua época\, as responsabilidades desta função geralmente incluíam ameaças de morte. Eleutério nasceu no ano de 456 na cidade de Tournai\, e viveu num período conturbado da história da França\, que ainda estava sendo evangelizada\, e sentia o domínio dos povos do norte europeu. Leia mais….
URL:https://gratiaplena.online/event/dia-de-santo-eleuterio/2025-05-26/
CATEGORIES:Santo do Dia
ATTACH;FMTTYPE=image/jpeg:https://gratiaplena.online/wp-content/uploads/2024/07/Santo-Eleuterio2.jpg
ORGANIZER;CN="Administrador":MAILTO:epzanette@gmail.com
END:VEVENT
BEGIN:VEVENT
DTSTART;VALUE=DATE:20250525
DTEND;VALUE=DATE:20250526
DTSTAMP:20260424T114327
CREATED:20240308T130703Z
LAST-MODIFIED:20240308T130703Z
UID:10001431-1748131200-1748217599@gratiaplena.online
SUMMARY:Dia de São Beda
DESCRIPTION:Celebramos hoje (25 Mai) a festa de São Beda. “O tempo da minha partida chegou e meu coração deseja ver a beleza de Cristo\, meu Rei”\, disse antes de morrer o doutor da Igreja e padroeiro dos historiadores\, são Beda\, cujas homilias inspiraram o lema pontifício do papa Francisco. Por ser também linguista e tradutor\, seus trabalhos com os escritos latinos e gregos dos primeiros Padres da Igreja contribuíram de maneira significativa com o cristianismo inglês.
URL:https://gratiaplena.online/event/dia-de-sao-beda/2025-05-25/
CATEGORIES:Santo do Dia
ATTACH;FMTTYPE=image/jpeg:https://gratiaplena.online/wp-content/uploads/2024/03/Sao-Beda2.jpeg
ORGANIZER;CN="Administrador":MAILTO:epzanette@gmail.com
END:VEVENT
BEGIN:VEVENT
DTSTART;VALUE=DATE:20250516
DTEND;VALUE=DATE:20250517
DTSTAMP:20260424T114327
CREATED:20240909T012757Z
LAST-MODIFIED:20240909T013201Z
UID:10002002-1747353600-1747439999@gratiaplena.online
SUMMARY:Dia de São Simão Stock
DESCRIPTION:São Simão Stock foi filho do governador de Kent e parente da realeza inglesa. Sua família cristã e cheia de fé\, deu a ele a melhor formação religiosa\, intelectual e humana. Inteligente e disciplinado\, Simão estudou no Colégio de Oxford desde quando tinha sete anos. Os estudos e o desejo da família levavam Simão para uma vida de sucesso social glorioso. Porém\, o que ele desejava em seu coração era estar ao serviço de Deus. Leia mais….
URL:https://gratiaplena.online/event/dia-de-sao-simao-stock/2025-05-16/
CATEGORIES:Santo do Dia
ATTACH;FMTTYPE=image/jpeg:https://gratiaplena.online/wp-content/uploads/2024/09/Sao-Simao-Stock2.jpg
ORGANIZER;CN="Administrador":MAILTO:epzanette@gmail.com
END:VEVENT
BEGIN:VEVENT
DTSTART;VALUE=DATE:20250516
DTEND;VALUE=DATE:20250517
DTSTAMP:20260424T114327
CREATED:20240111T180652Z
LAST-MODIFIED:20240111T180652Z
UID:10001046-1747353600-1747439999@gratiaplena.online
SUMMARY:Dia de Santo Ubaldo
DESCRIPTION:Celebramos hoje (16 Maio) a festa litúrgica de Santo Ubaldo\, nasceu em 1085\, na Alemanha\, filho de uma nobre família\, mas ficou órfão de pai e mãe em idade bastante tenra. Em razão disso\, foi criado por um tio\, que estabeleceu sua educação sobre sólidas bases religiosas. Quando Ubaldo tinha pouco mais de 15 anos\, manifestou seu desejo de entrar para a vida monástica\, pretendendo viver como ermitão\, longe de todas as vaidades mundanas. Seu tio cuidou de dissuadi-lo\, permitindo\, no entanto\, que ele tivesse uma vida comum com os cônegos de São Segundo. Em 1104\, foi tirado da presença dos irmãos cônegos pelo bispo João\, que o queria junto a si para que trabalhassem na reforma eclesiástica.
URL:https://gratiaplena.online/event/dia-de-santo-ubaldo/2025-05-16/
CATEGORIES:Santo do Dia
ATTACH;FMTTYPE=image/jpeg:https://gratiaplena.online/wp-content/uploads/2024/01/Santo-Ubaldo2.jpg
ORGANIZER;CN="Administrador":MAILTO:epzanette@gmail.com
END:VEVENT
BEGIN:VEVENT
DTSTART;VALUE=DATE:20250514
DTEND;VALUE=DATE:20250515
DTSTAMP:20260424T114327
CREATED:20240101T162413Z
LAST-MODIFIED:20240517T164819Z
UID:10000889-1747180800-1747267199@gratiaplena.online
SUMMARY:Dia de São Matias
DESCRIPTION:Celebramoa hoje (14 Mai) a festa de São Matias\, Apóstolo\, que foi eleito como membro do colégio apostólico após a Ascensão do Senhor\, durante aquele período de dez dias de expectativa pela vinda do Espírito prometido. Matias foi escolhido dentre os que estiveram em companhia dos Doze desde o início (cf. At 1\, 21-22)\, a fim de preencher o lugar deixado por Judas Iscariotes.
URL:https://gratiaplena.online/event/dia-de-sao-matias/2025-05-14/
CATEGORIES:Santo do Dia
ATTACH;FMTTYPE=image/jpeg:https://gratiaplena.online/wp-content/uploads/2024/01/Sao-Matias-2.jpg
ORGANIZER;CN="Administrador":MAILTO:epzanette@gmail.com
END:VEVENT
BEGIN:VEVENT
DTSTART;VALUE=DATE:20250510
DTEND;VALUE=DATE:20250511
DTSTAMP:20260424T114327
CREATED:20240122T215854Z
LAST-MODIFIED:20240122T215854Z
UID:10001136-1746835200-1746921599@gratiaplena.online
SUMMARY:Dia de São João de Ávila
DESCRIPTION:Celebramos hoje (10 Mai) a memória litúrgica de São João de Ávila\, pregador apostólico da Andaluzia e autor\, nascido em Almodóvar del Campo\, pequena cidade da diocese de Toledo\, Espanha\, 6 de janeiro de 1500; falecido em Montilla\, em 10 de maio de 1569. Aos quatorze anos foi enviado à Universidade de Salamanca para estudar Direito. Concebendo uma aversão à jurisprudência\, ele retornou depois de um ano para a casa de seu pai\, onde passou os três anos seguintes na prática da mais austera piedade. A sua maravilhosa santidade impressionou um franciscano que viajava por Almodóvar e\, a conselho do frade\, iniciou os estudos de filosofia e teologia em Alcalá\, onde teve a sorte de ter como professor o famoso dominicano De Soto. Seus pais morreram enquanto ele era estudante e após sua ordenação ele celebrou sua primeira missa na igreja onde foram sepultados\, vendeu os bens da família e deu o dinheiro aos pobres.
URL:https://gratiaplena.online/event/dia-de-sao-joao-de-avila/2025-05-10/
CATEGORIES:Santo do Dia
ATTACH;FMTTYPE=image/webp:https://gratiaplena.online/wp-content/uploads/2024/01/Sao-Joao-de-Avila2.webp
ORGANIZER;CN="Administrador":MAILTO:epzanette@gmail.com
END:VEVENT
BEGIN:VEVENT
DTSTART;VALUE=DATE:20250509
DTEND;VALUE=DATE:20250510
DTSTAMP:20260424T114327
CREATED:20240103T201034Z
LAST-MODIFIED:20240719T195410Z
UID:10000949-1746748800-1746835199@gratiaplena.online
SUMMARY:Dia de Santo Isaias​
DESCRIPTION:Comemoramos hoje (9 Mai) a festa de Santo Isaias\, Profeta do Antigo Testamento. Santo Isaias é uma das maiores e mais enérgicas personalidades do Antigo Testamento. Com seu discípulo Santo Eliseu\, ele é o grande profeta do século IX a.C. no norte da Palestina\, numa época em que a religião era violentamente perseguida pela idolatria. Segundo o livro do Eclesiástico\, ele surgiu “como um fogo\, e as suas palavras ardiam como uma tocha. Fez vir sobre eles [os pagãos] a fome\, e os que o irritavam pela sua inveja\, foram reduzidos a um pequeno número\, porque não podiam suportar os preceitos do Senhor” (48\, 1-2). Leia mais…. \n 
URL:https://gratiaplena.online/event/dia-de-santo-isaias/2025-05-09/
CATEGORIES:Santo do Dia
ATTACH;FMTTYPE=image/jpeg:https://gratiaplena.online/wp-content/uploads/2024/01/Isaias.jpg
ORGANIZER;CN="Administrador":MAILTO:epzanette@gmail.com
END:VEVENT
BEGIN:VEVENT
DTSTART;VALUE=DATE:20250105
DTEND;VALUE=DATE:20250106
DTSTAMP:20260424T114327
CREATED:20250125T000820Z
LAST-MODIFIED:20250125T001215Z
UID:10002600-1736035200-1736121599@gratiaplena.online
SUMMARY:Dia de São João Nepomuceno Neumann
DESCRIPTION:Celebramos hoje (5 Jan) a festa de São João Nepomuceno Neumann. Em 1836\, um jovem seminarista chamado João Neumann chegou aos EUA proveniente da Boêmia\, sua pátria. Deixou a família na calada da noite para se tornar missionário na América. Seu único objetivo era levar o amor de Deus às almas esquecidas e abandonadas. Tornou-se Redentorista em 1842\, e em 1852\, na idade de 41 anos\, foi nomeado 4º bispo de Filadélfia. Nos oito breves anos antes de sua morte\, Neumann construiu cerca de 90 igrejas\, fundou o sistema nacional de escolas paroquiais\, estabeleceu diversas ordens religiosas\, e defendeu a fé católica\, num ambiente hostil. Santo João Nepomuceno Neuman foi fundador da congregação das Irmãs da Ordem Terceira de São Francisco e é o primeiro santo dos Estados Unidos. Leia mais…. \n 
URL:https://gratiaplena.online/event/dia-de-sao-joao-nepomuceno-neumann-2/
CATEGORIES:Santo do Dia
ATTACH;FMTTYPE=image/png:https://gratiaplena.online/wp-content/uploads/2025/01/Sao-Joao-Nepomuceno-Neumann2.png
ORGANIZER;CN="Administrador":MAILTO:epzanette@gmail.com
END:VEVENT
BEGIN:VEVENT
DTSTART;TZID=America/Sao_Paulo:20240428T140000
DTEND;TZID=America/Sao_Paulo:20240428T193000
DTSTAMP:20260424T114327
CREATED:20240421T151719Z
LAST-MODIFIED:20240517T163713Z
UID:10001778-1714312800-1714332600@gratiaplena.online
SUMMARY:Tarde de Recolhimento
DESCRIPTION:Lembrando da nossa TARDE DE REFLEXÃO\, que será no próximo Domingo dia 28/04/2024 das 14h às 17h30\, na Casa Stª Cruz\, o encontro terá assessoria do Padre Marco Petry. \nConfirme sua presença para melhor organização do evento. Será servido um lanche aos participantes. Taxa de participação CR$ 25\,00 (vinte e cinco reais) por pessoa\, que pode ser pago na hora da inscrição. \nTambém haverá carona solidária em frente à Catedral as 13:30\, quem precisar por gentileza avisar. \nOBS: As inscrições poderão ser feitas na Secretaria da Catedral\, em horário de expediente. \nConfirmações podem ser feitas pelo WhatsApp da Catedral\, 30459210 \nMaterial de apoio: “Programa” \nConfirme sua inscrição\, Clicando aqui
URL:https://gratiaplena.online/event/tarde-de-recolhimento-2/
LOCATION:Casa Santa Cruz\, R. João Biazus\, 510 - Bairro Tupinambá\, Passo Fundo\, Rio Grande do Sul\, 99070-972\, Brazil
CATEGORIES:Retiro
ATTACH;FMTTYPE=image/png:https://gratiaplena.online/wp-content/uploads/2024/04/Tarde-de-Recolhimento.png
ORGANIZER;CN="Ana Paula de Oliveira Spannenberg":MAILTO:anapaulaspann@gmail.com
END:VEVENT
BEGIN:VEVENT
DTSTART;VALUE=DATE:20230608
DTEND;VALUE=DATE:20230609
DTSTAMP:20260424T114327
CREATED:20231211T161300Z
LAST-MODIFIED:20240101T143529Z
UID:10000748-1686182400-1686268799@gratiaplena.online
SUMMARY:Festa de Corpus Christi
DESCRIPTION:Celebramos hoje a festa de Corpus Christi\, celebrada sempre em uma quinta-feira\, 60 dias após o domingo de Páscoa. A escolha do dia da semana faz memória à realização da última ceia de Cristo com os apóstolos\, momento em que\, segundo a tradição cristã\, foi instituída a Eucaristia. Celebrar a solenidade do Santíssimo Corpo e Sangue de Cristo une o sublime ao simples\, assim como a Encarnação une a divindade à humanidade. A procissão de Corpus Christi simboliza nossa peregrinação ao banquete eterno do Salvador\, onde o veremos tal como Ele é.
URL:https://gratiaplena.online/event/dia-de-corpus-christi/
CATEGORIES:Santo do Dia
ATTACH;FMTTYPE=image/jpeg:https://gratiaplena.online/wp-content/uploads/2023/12/Corpus-Christi-2.jpg
ORGANIZER;CN="Administrador":MAILTO:epzanette@gmail.com
END:VEVENT
END:VCALENDAR