BEGIN:VCALENDAR
VERSION:2.0
PRODID:-//GratiaPlena - ECPv6.15.20//NONSGML v1.0//EN
CALSCALE:GREGORIAN
METHOD:PUBLISH
X-WR-CALNAME:GratiaPlena
X-ORIGINAL-URL:https://gratiaplena.online
X-WR-CALDESC:Eventos para GratiaPlena
REFRESH-INTERVAL;VALUE=DURATION:PT1H
X-Robots-Tag:noindex
X-PUBLISHED-TTL:PT1H
BEGIN:VTIMEZONE
TZID:America/Sao_Paulo
BEGIN:STANDARD
TZOFFSETFROM:-0300
TZOFFSETTO:-0300
TZNAME:-03
DTSTART:20220101T000000
END:STANDARD
END:VTIMEZONE
BEGIN:VEVENT
DTSTART;VALUE=DATE:20250329
DTEND;VALUE=DATE:20250330
DTSTAMP:20260424T114327
CREATED:20240908T150719Z
LAST-MODIFIED:20240908T150719Z
UID:10001989-1743206400-1743292799@gratiaplena.online
SUMMARY:Dia de Beato Bertoldo
DESCRIPTION:Antes de 1278\, o dominicano Estevão de Salignac atribuiu a composição do regime espiritual carmelita a Américo Malefaida de Salignac\, patriarca de Antioquia (1142-93). No entanto\, o patriarca Alberto de Jerusalém\, (1206-1214)\, comentou que Américo tinha dentre os carmelitas um sobrinho\, santo e notável. O caso é também citado na chamada “Carta de Cirilo”. Essa carta foi publicada\, após 1378\, pelo carmelita Filippo Riboti\, registrando que Américo tinha um irmão\, e não sobrinho. Esse irmão chamava-se Bertoldo e foi o segundo prior geral dos carmelitas. Leia mais….
URL:https://gratiaplena.online/event/dia-de-beato-bertoldo/2025-03-29/
CATEGORIES:Santo do Dia
ATTACH;FMTTYPE=image/jpeg:https://gratiaplena.online/wp-content/uploads/2024/09/Sao-Bertoldo-da-Calabria2.jpg
ORGANIZER;CN="Administrador":MAILTO:epzanette@gmail.com
END:VEVENT
BEGIN:VEVENT
DTSTART;VALUE=DATE:20250329
DTEND;VALUE=DATE:20250330
DTSTAMP:20260424T114327
CREATED:20240320T194333Z
LAST-MODIFIED:20240330T125330Z
UID:10001676-1743206400-1743292799@gratiaplena.online
SUMMARY:Da de Santo Eustásio
DESCRIPTION:Celebramosoje (29 Mar) a memória litúrgica de Santo Eustásio. Eustásio foi um bispo de Nápoles do século III. Seu nome aparece nos dois antigos catálogos napolitanos\, o “Gesta Episcoporum Neapolitanorum” datado de cerca do século IX e o “Catalogus episcoporum Neapolitanorum”\, do século X. Na lista dos bispos da arquidiocese está em sétimo lugar\, depois de Santo Agrippino e antes de Santo Efebo.
URL:https://gratiaplena.online/event/da-de-santo-eustasio/2025-03-29/
CATEGORIES:Santo do Dia
ATTACH;FMTTYPE=image/png:https://gratiaplena.online/wp-content/uploads/2024/03/Imagem-Ilustraiva.png
ORGANIZER;CN="Administrador":MAILTO:epzanette@gmail.com
END:VEVENT
BEGIN:VEVENT
DTSTART;VALUE=DATE:20250328
DTEND;VALUE=DATE:20250329
DTSTAMP:20260424T114327
CREATED:20240320T142647Z
LAST-MODIFIED:20240328T101157Z
UID:10001671-1743120000-1743206399@gratiaplena.online
SUMMARY:Dia de São Castor de Tarso
DESCRIPTION:Celebramos hoje (28 Mar) a memória de São Castor de Tarso. É comemorado no Martirológio Jeronimiano (o mais antigo catálogo de mártires cristãos da Igreja Latina\, século V) e no Martirológio Romano: segundo a tradição\, teria sido martirizado em Tarso\, na Cilícia (atual Turquia) com outro Cristão\, Doroteu ou Estêvão
URL:https://gratiaplena.online/event/dia-de-sao-castor-de-tarso/2025-03-28/
CATEGORIES:Santo do Dia
ATTACH;FMTTYPE=image/png:https://gratiaplena.online/wp-content/uploads/2024/03/Imagem-Ilustraiva.png
ORGANIZER;CN="Administrador":MAILTO:epzanette@gmail.com
END:VEVENT
BEGIN:VEVENT
DTSTART;VALUE=DATE:20250327
DTEND;VALUE=DATE:20250328
DTSTAMP:20260424T114327
CREATED:20240320T113825Z
LAST-MODIFIED:20240327T114228Z
UID:10001666-1743033600-1743119999@gratiaplena.online
SUMMARY:Dia de São Ruperto
DESCRIPTION:Celebramos hoje (27 Mar) a festa litúrgica de São Ruperto.  No ano de 700\, foi impelido pelos seus mestres e sentiu-se impulsionado à pregação e ao testemunho monástico indo à Baviera. Apoiado pelo conde Teodo de Baviera\, fundou\, perto do lago Waller\, a 10 km de Salisburgo\, uma igreja dedicada a São Pedro. O lugar\, porém\, não pareceu próprio para os fins de Ruperto\, que pediu ao conde outro terreno perto do rio Salzach\, próximo à antiga cidade romana de Juvavum. O mosteiro que ali construiu\, dedicado a São Pedro\, é o mais antigo da Áustria e está ligado com o núcleo de Nova Salisburgo. Seu desenvolvimento deve-se também à colaboração de doze conterrâneos seus. Desses\, Cunialdo e Gislero foram honrados como santos.
URL:https://gratiaplena.online/event/dia-de-sao-ruperto/2025-03-27/
CATEGORIES:Santo do Dia
ATTACH;FMTTYPE=image/png:https://gratiaplena.online/wp-content/uploads/2024/03/Sao-Ruperto2.png
ORGANIZER;CN="Administrador":MAILTO:epzanette@gmail.com
END:VEVENT
BEGIN:VEVENT
DTSTART;VALUE=DATE:20250326
DTEND;VALUE=DATE:20250327
DTSTAMP:20260424T114327
CREATED:20240320T110249Z
LAST-MODIFIED:20240326T184507Z
UID:10001661-1742947200-1743033599@gratiaplena.online
SUMMARY:Dia de São Cástulo
DESCRIPTION:Celebramos hoje (26 Mar) a festa litúrgica de São Cástulo\, mártir recordado nesta catacumba. Cástulo\, celebrado no Martirológio Romano em 26 de março\, era\, segundo as lendas antigas\, um cubiculário do imperador romano Diocleciano (foi o imperador romano de 284 até sua abdicação em 305) que refugiou no palácio imperial muitos cristãos perseguidos\, incluindo o papa Caio. Descoberto depois de ser traído\, foi martirizado.
URL:https://gratiaplena.online/event/dia-de-sao-castulo/2025-03-26/
CATEGORIES:Santo do Dia
ATTACH;FMTTYPE=image/png:https://gratiaplena.online/wp-content/uploads/2024/03/Sao-Castulo.png
ORGANIZER;CN="Administrador":MAILTO:epzanette@gmail.com
END:VEVENT
BEGIN:VEVENT
DTSTART;VALUE=DATE:20250325
DTEND;VALUE=DATE:20250326
DTSTAMP:20260424T114327
CREATED:20240320T000228Z
LAST-MODIFIED:20240325T103401Z
UID:10001655-1742860800-1742947199@gratiaplena.online
SUMMARY:Dia de Santa Lúcia Filippini
DESCRIPTION:Celebramos hoje (25 Marc) a data litúrgica de Santa Lúcia Filippini.  Lúcia nasceu no dia 13 de janeiro de 1672\, em Corneto Tarquínia\, proximidades de Roma\, numa família honrada e abastada. Quando ainda tinha um ano de idade\, perdeu a\nmãe\, que faleceu com apenas 27 anos de idade\, e alguns anos mais tarde\, o pai. Passou a viver com os tios e foi entregue\, para ser formada e educada\, às Irmãs beneditinas e junto delas a menina descobriu o dom que tinha para ensinar. Seu amor a Jesus na Eucaristia era tão grande que não passava dia sem que O fosse visitar no tabernáculo. Muito dedicada aos estudos da Sagrada Escritura\, e com a alma cheia de caridade\, tomou para si\, ainda no início da adolescência a função de ensinar o catecismo às crianças. Tantos eram os pequenos que a procuravam e tão cativante era sua forma de transmitir as verdades de nossa Fé\, que logo o padre do local a nomeou oficialmente a catequista paroquial.
URL:https://gratiaplena.online/event/dia-de-santa-lucia-filippini/2025-03-25/
CATEGORIES:Santo do Dia
ATTACH;FMTTYPE=image/png:https://gratiaplena.online/wp-content/uploads/2024/03/Santa-Lucia-Filippini2.png
ORGANIZER;CN="Administrador":MAILTO:epzanette@gmail.com
END:VEVENT
BEGIN:VEVENT
DTSTART;VALUE=DATE:20250325
DTEND;VALUE=DATE:20250326
DTSTAMP:20260424T114327
CREATED:20240319T214631Z
LAST-MODIFIED:20240325T103204Z
UID:10001650-1742860800-1742947199@gratiaplena.online
SUMMARY:Dia de São Quirino de Neuss
DESCRIPTION:Celebramos hoje (25 Mar) a festa litúrgica de São Quirino de Neuss. São Quirino\, por vezes chamado de São Quirino de Roma\, ou São Quirino de Neuss\, ou ainda São Cirino\, é um mártir e santo venerado tanto pela Igreja Católica quanto pela Igreja Ortodoxa. Não se sabe quando e onde nasceu\, mas era de origem romana e seu nome provém do alemão Quirin ou Quirinus\, que por vezes é traduzido para o latim como Cirino. O que se sabe da sua vida provém dos lendários “Atos dos Santos Alexandre e Balbina“. Segundo eles\, Quirino era um rico tribuno\, uma espécie de governante local no Império Romano\, que na sua época era liderado pelo imperador Trajano\, que manteve-se no trono entre os anos 98 e 117.
URL:https://gratiaplena.online/event/dia-de-sao-quirino-de-neuss/2025-03-25/
CATEGORIES:Santo do Dia
ATTACH;FMTTYPE=image/png:https://gratiaplena.online/wp-content/uploads/2024/03/Sao-Quirino-de-Neuss2.png
ORGANIZER;CN="Administrador":MAILTO:epzanette@gmail.com
END:VEVENT
BEGIN:VEVENT
DTSTART;VALUE=DATE:20250325
DTEND;VALUE=DATE:20250326
DTSTAMP:20260424T114327
CREATED:20240319T205951Z
LAST-MODIFIED:20240325T103029Z
UID:10001645-1742860800-1742947199@gratiaplena.online
SUMMARY:Dia de São Dimas
DESCRIPTION:Celebramos hoje (25 Marc) a festa litúrgica de São Dimas. O Evangelho fala pouco deste Santo. Nem mesmo o nome\, os evangelistas fixaram. O que sabemos foi trazido pela tradição que são os nomes: Dimas\, o Bom Ladrão e Simas\, o mau ladrão. Sem dúvida alguma\, se trata de um santo original\, único\, privilegiado\, que mereceu a honra de ser canonizado em vida por Jesus Cristo\, na hora solene de nossa Redenção. Os outros santos só foram solenemente reconhecidos\, no outro milênio\, a partir do ano 999. A Igreja comemorava os mártires e confessores\, mas sem uma declaração oficial e formal. Enquanto que\, a de São Dimas quem proclamou foi o próprio Fundador da Igreja.
URL:https://gratiaplena.online/event/dia-de-sao-dimas/2025-03-25/
CATEGORIES:Santo do Dia
ATTACH;FMTTYPE=image/jpeg:https://gratiaplena.online/wp-content/uploads/2024/03/Sao-Dimas2.jpg
ORGANIZER;CN="Administrador":MAILTO:epzanette@gmail.com
END:VEVENT
BEGIN:VEVENT
DTSTART;VALUE=DATE:20250324
DTEND;VALUE=DATE:20250325
DTSTAMP:20260424T114327
CREATED:20240319T193027Z
LAST-MODIFIED:20240324T134535Z
UID:10001634-1742774400-1742860799@gratiaplena.online
SUMMARY:Dia de Santa Catarina da Suécia
DESCRIPTION:Celebramos hoje (24 Mar) a memória litúrgica de Santa Catarina da Suécia. Santa Catarina foi filha\, companheira inseparável e discípula fiel de sua mãe\, Santa Brígida. Esta é santa mais conhecida e venerada da Suécia. Catarina nasceu em berço nobre\, rico e cristão\, no ano 1331\, na Suécia. Em casa\, recebeu\, especialmente de sua mãe\, educação e formação muito sólida com base cristã. Com apenas sete anos\, foi levada para as Irmãs do convento de Risberg. Estas\, ajudaram a desenvolver a linda vocação religiosa de Catarina\, confirmando todo o ensinamento que ela recebera de sua mãe.
URL:https://gratiaplena.online/event/dia-de-santa-catarina-da-suecia/2025-03-24/
CATEGORIES:Santo do Dia
ATTACH;FMTTYPE=image/webp:https://gratiaplena.online/wp-content/uploads/2024/03/Santa-Catarina-da-Suecia2.webp
ORGANIZER;CN="Administrador":MAILTO:epzanette@gmail.com
END:VEVENT
BEGIN:VEVENT
DTSTART;VALUE=DATE:20250324
DTEND;VALUE=DATE:20250325
DTSTAMP:20260424T114327
CREATED:20240319T185407Z
LAST-MODIFIED:20240324T134339Z
UID:10001629-1742774400-1742860799@gratiaplena.online
SUMMARY:Dia de Santo Oscar Romero
DESCRIPTION:Celebramos hoje (24 Mar) a memória litúrgica de Santo Oscar Romero\, nasceu em El Salvador\, em 1917\, foi ordenado sacerdote em 1942 e em 1977\, Paulo VI designa-o arcebispo de San Salvador\, no meio de um contexto político de forte repressão\, sobretudo contra as organizações camponesas. O assassinado do padre jesuíta Rutílio Grande\, é considerado o momento da ‘conversão’ de Romero\, que passa então a denunciar a repressão\, a violência do Estado e a exploração imposta ao povo pela aliança entre os setores político-militares e econômicos\, apoiada pelos EUA.
URL:https://gratiaplena.online/event/dia-de-santo-oscar-romero/2025-03-24/
CATEGORIES:Santo do Dia
ATTACH;FMTTYPE=image/jpeg:https://gratiaplena.online/wp-content/uploads/2024/03/Santo-Oscar-Romero2.jpeg
ORGANIZER;CN="Administrador":MAILTO:epzanette@gmail.com
END:VEVENT
BEGIN:VEVENT
DTSTART;VALUE=DATE:20250323
DTEND;VALUE=DATE:20250324
DTSTAMP:20260424T114327
CREATED:20240319T182057Z
LAST-MODIFIED:20240323T102735Z
UID:10001624-1742688000-1742774399@gratiaplena.online
SUMMARY:Dia de São Turíbio de Mongrovejo
DESCRIPTION:Celebramos hoje (23 Mar) a memória de São Turíbio de Mongrovejo. Seu nome completo é Turíbio Alfonso de Mongrovejo. É espanhol e filho de uma família rica da nobreza. Estudou nas cidades de Santiago de Compostela\, Valadolid e Salamanca. Formou-se advogado e participou da inquisição. Desde jovem\, foi honesto e justo. A nomeação episcopal\, na época\, era bem diferente de como é hoje. Sendo assim\, o rei Felipe II percebeu as qualidades de Turíbio de Mongrovejo e pediu ao Papa Gregório XIII que o nomeasse arcebispo da América Espanhola\, então\, o Papa atendeu. Por isso\, após um discernimento\, Turíbio recebeu todas as ordens sagradas de uma só vez\, inclusive a ordenação sacerdotal. Assim\, em 1580\, ele foi sagrado Arcebispo de Lima\, no Peru. Foi dessa maneira\, aparentemente improvisada\, que nasceu um dos maiores apóstolos da América Latina.
URL:https://gratiaplena.online/event/dia-de-sao-turibio-de-mongrovejo/2025-03-23/
CATEGORIES:Santo do Dia
ATTACH;FMTTYPE=image/jpeg:https://gratiaplena.online/wp-content/uploads/2024/03/Sao-Turibio-de-Mongrovejo2.jpeg
ORGANIZER;CN="Administrador":MAILTO:epzanette@gmail.com
END:VEVENT
BEGIN:VEVENT
DTSTART;VALUE=DATE:20250105
DTEND;VALUE=DATE:20250106
DTSTAMP:20260424T114327
CREATED:20250125T000820Z
LAST-MODIFIED:20250125T001215Z
UID:10002600-1736035200-1736121599@gratiaplena.online
SUMMARY:Dia de São João Nepomuceno Neumann
DESCRIPTION:Celebramos hoje (5 Jan) a festa de São João Nepomuceno Neumann. Em 1836\, um jovem seminarista chamado João Neumann chegou aos EUA proveniente da Boêmia\, sua pátria. Deixou a família na calada da noite para se tornar missionário na América. Seu único objetivo era levar o amor de Deus às almas esquecidas e abandonadas. Tornou-se Redentorista em 1842\, e em 1852\, na idade de 41 anos\, foi nomeado 4º bispo de Filadélfia. Nos oito breves anos antes de sua morte\, Neumann construiu cerca de 90 igrejas\, fundou o sistema nacional de escolas paroquiais\, estabeleceu diversas ordens religiosas\, e defendeu a fé católica\, num ambiente hostil. Santo João Nepomuceno Neuman foi fundador da congregação das Irmãs da Ordem Terceira de São Francisco e é o primeiro santo dos Estados Unidos. Leia mais…. \n 
URL:https://gratiaplena.online/event/dia-de-sao-joao-nepomuceno-neumann-2/
CATEGORIES:Santo do Dia
ATTACH;FMTTYPE=image/png:https://gratiaplena.online/wp-content/uploads/2025/01/Sao-Joao-Nepomuceno-Neumann2.png
ORGANIZER;CN="Administrador":MAILTO:epzanette@gmail.com
END:VEVENT
BEGIN:VEVENT
DTSTART;TZID=America/Sao_Paulo:20240428T140000
DTEND;TZID=America/Sao_Paulo:20240428T193000
DTSTAMP:20260424T114327
CREATED:20240421T151719Z
LAST-MODIFIED:20240517T163713Z
UID:10001778-1714312800-1714332600@gratiaplena.online
SUMMARY:Tarde de Recolhimento
DESCRIPTION:Lembrando da nossa TARDE DE REFLEXÃO\, que será no próximo Domingo dia 28/04/2024 das 14h às 17h30\, na Casa Stª Cruz\, o encontro terá assessoria do Padre Marco Petry. \nConfirme sua presença para melhor organização do evento. Será servido um lanche aos participantes. Taxa de participação CR$ 25\,00 (vinte e cinco reais) por pessoa\, que pode ser pago na hora da inscrição. \nTambém haverá carona solidária em frente à Catedral as 13:30\, quem precisar por gentileza avisar. \nOBS: As inscrições poderão ser feitas na Secretaria da Catedral\, em horário de expediente. \nConfirmações podem ser feitas pelo WhatsApp da Catedral\, 30459210 \nMaterial de apoio: “Programa” \nConfirme sua inscrição\, Clicando aqui
URL:https://gratiaplena.online/event/tarde-de-recolhimento-2/
LOCATION:Casa Santa Cruz\, R. João Biazus\, 510 - Bairro Tupinambá\, Passo Fundo\, Rio Grande do Sul\, 99070-972\, Brazil
CATEGORIES:Retiro
ATTACH;FMTTYPE=image/png:https://gratiaplena.online/wp-content/uploads/2024/04/Tarde-de-Recolhimento.png
ORGANIZER;CN="Ana Paula de Oliveira Spannenberg":MAILTO:anapaulaspann@gmail.com
END:VEVENT
BEGIN:VEVENT
DTSTART;VALUE=DATE:20230608
DTEND;VALUE=DATE:20230609
DTSTAMP:20260424T114327
CREATED:20231211T161300Z
LAST-MODIFIED:20240101T143529Z
UID:10000748-1686182400-1686268799@gratiaplena.online
SUMMARY:Festa de Corpus Christi
DESCRIPTION:Celebramos hoje a festa de Corpus Christi\, celebrada sempre em uma quinta-feira\, 60 dias após o domingo de Páscoa. A escolha do dia da semana faz memória à realização da última ceia de Cristo com os apóstolos\, momento em que\, segundo a tradição cristã\, foi instituída a Eucaristia. Celebrar a solenidade do Santíssimo Corpo e Sangue de Cristo une o sublime ao simples\, assim como a Encarnação une a divindade à humanidade. A procissão de Corpus Christi simboliza nossa peregrinação ao banquete eterno do Salvador\, onde o veremos tal como Ele é.
URL:https://gratiaplena.online/event/dia-de-corpus-christi/
CATEGORIES:Santo do Dia
ATTACH;FMTTYPE=image/jpeg:https://gratiaplena.online/wp-content/uploads/2023/12/Corpus-Christi-2.jpg
ORGANIZER;CN="Administrador":MAILTO:epzanette@gmail.com
END:VEVENT
END:VCALENDAR