BEGIN:VCALENDAR
VERSION:2.0
PRODID:-//GratiaPlena - ECPv6.15.20//NONSGML v1.0//EN
CALSCALE:GREGORIAN
METHOD:PUBLISH
X-ORIGINAL-URL:https://gratiaplena.online
X-WR-CALDESC:Eventos para GratiaPlena
REFRESH-INTERVAL;VALUE=DURATION:PT1H
X-Robots-Tag:noindex
X-PUBLISHED-TTL:PT1H
BEGIN:VTIMEZONE
TZID:America/Sao_Paulo
BEGIN:STANDARD
TZOFFSETFROM:-0300
TZOFFSETTO:-0300
TZNAME:-03
DTSTART:20220101T000000
END:STANDARD
END:VTIMEZONE
BEGIN:VEVENT
DTSTART;VALUE=DATE:20250320
DTEND;VALUE=DATE:20250321
DTSTAMP:20260424T115625
CREATED:20240319T124152Z
LAST-MODIFIED:20240320T103651Z
UID:10001604-1742428800-1742515199@gratiaplena.online
SUMMARY:Dia de São João Nepomuceno
DESCRIPTION:Celebramos hoje (20 Mar) a data litúrgica de São João Nepomuceno conhecido como o “Mártir da Confissão”\, padroeiro dos confessores\, protetor contra calunia e indiscrição. Também é padroeiro da república Tcheca\, protetor das pontes e dos trabalhadores delas. Nasceu em Nepomuceno\, no ano de 1345\, em uma família muito pobre. Seu nome foi dado em homenagem à João Batista\, filho de Isabel\, pois sua mãe também o teve com uma idade avançada. Formou-se em direito e fez doutorado em teologia.
URL:https://gratiaplena.online/event/dia-de-sao-joao-nepomuceno/2025-03-20/
CATEGORIES:Santo do Dia
ATTACH;FMTTYPE=image/jpeg:https://gratiaplena.online/wp-content/uploads/2024/03/Sao-Joao-Nepomuceno2.jpg
ORGANIZER;CN="Administrador":MAILTO:epzanette@gmail.com
END:VEVENT
BEGIN:VEVENT
DTSTART;VALUE=DATE:20250318
DTEND;VALUE=DATE:20250319
DTSTAMP:20260424T115625
CREATED:20240317T213838Z
LAST-MODIFIED:20240318T112152Z
UID:10001574-1742256000-1742342399@gratiaplena.online
SUMMARY:Dia de Santo Anselmo de Lucca
DESCRIPTION:Comemoramos hoje (18 Mar) a festa litúrgica de Santo Anselmo de Lucca. Anselmo foi um dos homens mais cultos do seu tempo. Guiado pelo seu tio homônimo\, que foi Papa Alexandre II\, tornou-se Bispo de Lucca em 1074. Rejeitando as regalias de Henrique IV\, renovou a vida espiritual e monacal. Faleceu em Mântua\, em 1086\, onde era venerado. No ano seguinte já era Santo.
URL:https://gratiaplena.online/event/dia-de-santo-anselmo-de-lucca/2025-03-18/
CATEGORIES:Santo do Dia
ATTACH;FMTTYPE=image/png:https://gratiaplena.online/wp-content/uploads/2024/03/Santo-Anselmo-de-Lucca.png
ORGANIZER;CN="Administrador":MAILTO:epzanette@gmail.com
END:VEVENT
BEGIN:VEVENT
DTSTART;VALUE=DATE:20250318
DTEND;VALUE=DATE:20250319
DTSTAMP:20260424T115625
CREATED:20240227T203430Z
LAST-MODIFIED:20240227T203430Z
UID:10001419-1742256000-1742342399@gratiaplena.online
SUMMARY:Dia de São Cirilo de Jerusalém
DESCRIPTION:Celebramos hoje (18 Mar) a memória litúrgica de São Cirilo de Jerusalém\, nascido por volta do ano de 315 em Jerusalém ou em seus arredores. Pouco se sabe sobre sua infância e juventude\, além de que ele cresceu num lar cristão\, com uma vida financeira confortável. Recebeu uma sólida formação nas Sagradas Escrituras e em matérias humanísticas. Ordenado sacerdote em 345\, aos 30 anos\, ele foi sagrado bispo de Jerusalém apenas três anos mais tarde\, em 348. São Cirilo de Jerusalém viveu numa época em que a Igreja do Oriente estava envolvida em muitas controvérsias.
URL:https://gratiaplena.online/event/dia-de-sao-cirilo-de-jerusalem/2025-03-18/
CATEGORIES:Santo do Dia
ATTACH;FMTTYPE=image/jpeg:https://gratiaplena.online/wp-content/uploads/2024/02/Sao-Cirilo-de-Jerusalem2.jpeg
ORGANIZER;CN="Administrador":MAILTO:epzanette@gmail.com
END:VEVENT
BEGIN:VEVENT
DTSTART;VALUE=DATE:20250317
DTEND;VALUE=DATE:20250318
DTSTAMP:20260424T115625
CREATED:20240317T205513Z
LAST-MODIFIED:20240317T205513Z
UID:10001568-1742169600-1742255999@gratiaplena.online
SUMMARY:Dia de São João Sarkander
DESCRIPTION:Comemoramos hoje (17 Mar) a festa litúrgica de São João Sarkander. Outra data significativa é o dia 21 de maio de 1995\, dia da sua canonização. Em sua homilia\, o Papa João Paulo II destacou que a figura de São João Sarkander «se revestiu de uma luz excepcional\, sobretudo no fim da sua vida\, quando foi preso e recebeu do Senhor a graça do martírio. Em uma época de turbulência\, ele representou um sinal da presença de Deus\, da sua fidelidade em meio às contradições da história
URL:https://gratiaplena.online/event/dia-de-sao-joao-sarkander/2025-03-17/
CATEGORIES:Santo do Dia
ATTACH;FMTTYPE=image/jpeg:https://gratiaplena.online/wp-content/uploads/2024/03/Sao-Joao-Sarkander2.jpeg
ORGANIZER;CN="Administrador":MAILTO:epzanette@gmail.com
END:VEVENT
BEGIN:VEVENT
DTSTART;VALUE=DATE:20250317
DTEND;VALUE=DATE:20250318
DTSTAMP:20260424T115625
CREATED:20240317T202043Z
LAST-MODIFIED:20240317T202043Z
UID:10001562-1742169600-1742255999@gratiaplena.online
SUMMARY:Dia de São Patrício
DESCRIPTION:Celebramos hoje (17 Mar) a festa litúrgica de São Patrício. O Dia de São Patrício\, também conhecido por St. Patrick’s Day\, é comemorado anualmente em 17 de março. A data é uma homenagem ao padroeiro da Irlanda\, São Patrício\, que faleceu no dia 17 de março de 461. Muito além do que uma celebração religiosa\, pois lembra a chegada do cristianismo ao país dos irlandeses\, também ovaciona a cultura e as tradições típicas desse povo.
URL:https://gratiaplena.online/event/dia-de-sao-patricio/2025-03-17/
CATEGORIES:Santo do Dia
ATTACH;FMTTYPE=image/webp:https://gratiaplena.online/wp-content/uploads/2024/03/Sao-Patricio2.webp
ORGANIZER;CN="Administrador":MAILTO:epzanette@gmail.com
END:VEVENT
BEGIN:VEVENT
DTSTART;VALUE=DATE:20250316
DTEND;VALUE=DATE:20250317
DTSTAMP:20260424T115625
CREATED:20240317T012118Z
LAST-MODIFIED:20240317T013138Z
UID:10001556-1742083200-1742169599@gratiaplena.online
SUMMARY:Dia de São Taciano de Aquiléia
DESCRIPTION:Celebramos hoje (16 Mar) a festa litúrgica de São Taciono de Aquiléia. Documentos antigos atestam o martírio do bispo Hilário e do diácono Taciano em 16 de março de 284. Suas relíquias\, inicialmente guardadas em Aquileia\, foram transferidas para Grado por medo dos longobardos. Uma igreja\, mais tarde catedral\, foi-lhes dedicada na cidade de Gorizia\, da qual são patronos.
URL:https://gratiaplena.online/event/dia-de-sao-taciano-de-aquileia/2025-03-16/
CATEGORIES:Santo do Dia
ATTACH;FMTTYPE=image/png:https://gratiaplena.online/wp-content/uploads/2024/03/Sao-Taciano-de-Aquileia.png
ORGANIZER;CN="Administrador":MAILTO:epzanette@gmail.com
END:VEVENT
BEGIN:VEVENT
DTSTART;VALUE=DATE:20250316
DTEND;VALUE=DATE:20250317
DTSTAMP:20260424T115625
CREATED:20240316T143200Z
LAST-MODIFIED:20240316T143200Z
UID:10001550-1742083200-1742169599@gratiaplena.online
SUMMARY:Dia de Santo Hilário de Aquiléia
DESCRIPTION:Celebramos hoje (16 Mar) a festa litúrgica de Santo Hilário de Aquiléia. Documentos antigos atestam o martírio do bispo Hilário e do diácono Taciano em 16 de março de 284. Suas relíquias\, inicialmente guardadas em Aquileia\, foram transferidas para Grado por medo dos longobardos. Uma igreja\, mais tarde catedral\, foi-lhes dedicada na cidade de Gorizia\, da qual são patronos.
URL:https://gratiaplena.online/event/dia-de-santo-hilario-de-aquileia/2025-03-16/
CATEGORIES:Santo do Dia
ATTACH;FMTTYPE=image/webp:https://gratiaplena.online/wp-content/uploads/2024/03/Santo-Hilario-de-Aquileia.webp
ORGANIZER;CN="Administrador":MAILTO:epzanette@gmail.com
END:VEVENT
BEGIN:VEVENT
DTSTART;VALUE=DATE:20250315
DTEND;VALUE=DATE:20250316
DTSTAMP:20260424T115625
CREATED:20240318T140843Z
LAST-MODIFIED:20240318T140843Z
UID:10001586-1741996800-1742083199@gratiaplena.online
SUMMARY:Dia de São Zacarias
DESCRIPTION:Celebramos hoje (15 Mar) a festa litúrgica de São Zacarias. Ao contrário do seu predecessor Gregório III\, relativamente a Liutprando\, rei dos Lombardos\, julgou ser melhor partido inaugurar com ele relações amistosas. Concluiu assim um acordo bastante vantajoso\, recuperando quatro fortalezas e vários patrimônios; estipulou também com ele uma trégua de trinta anos. Mas não conseguiu impedir os Lombardos de tirarem aos Bizantinos o exarcado de Ravena.
URL:https://gratiaplena.online/event/dia-de-sao-zacarias/2025-03-15/
CATEGORIES:Santo do Dia
ATTACH;FMTTYPE=image/jpeg:https://gratiaplena.online/wp-content/uploads/2024/03/Sao-Zacarias2.jpg
ORGANIZER;CN="Administrador":MAILTO:epzanette@gmail.com
END:VEVENT
BEGIN:VEVENT
DTSTART;VALUE=DATE:20250315
DTEND;VALUE=DATE:20250316
DTSTAMP:20260424T115625
CREATED:20240318T131948Z
LAST-MODIFIED:20240318T132044Z
UID:10001580-1741996800-1742083199@gratiaplena.online
SUMMARY:Dia de São Clemente Maria Hofbauer
DESCRIPTION:Celebramos hoje (15 Mar) a festa litúrgica de São Clemente Maria Hofbauer\, nasceu\, em 1751\, em Tasswitz\, na República Tcheca. Seus pais tiveram doze filhos\, ele foi o nono filho dessa família muito simples e pobre. Somente recebeu o nome de Clemente quando se tornou eremita. Porém\, seu nome de batismo era João. Após a morte de seu pai\, teve que aprender um ofício. Não tinha condições de continuar os estudos de latim que iniciou na Casa Paroquial até os 14 anos de idade. Foi assim enviado então para uma padaria\, em 1770\, em um mosteiro. Atuando como padeiro\, conheceu duas senhoras em Viena\, que se ofereceram para pagar os seus estudos\, pois ele não tinha condições para isso.
URL:https://gratiaplena.online/event/dia-de-sao-clemente-maria-hofbauer/2025-03-15/
CATEGORIES:Santo do Dia
ATTACH;FMTTYPE=image/png:https://gratiaplena.online/wp-content/uploads/2024/03/Sao-Clemente-Maria-Hofbauer2.png
ORGANIZER;CN="Administrador":MAILTO:epzanette@gmail.com
END:VEVENT
BEGIN:VEVENT
DTSTART;VALUE=DATE:20250314
DTEND;VALUE=DATE:20250315
DTSTAMP:20260424T115625
CREATED:20240319T005352Z
LAST-MODIFIED:20240319T005352Z
UID:10001598-1741910400-1741996799@gratiaplena.online
SUMMARY:Dia de Beato Plácido Riccardi
DESCRIPTION:Celebramos hoje (14 mar) a festa litúrgica de Beato Plácido Riccardi\, que conheceu na abadia da Basílica de São Paulo Extramuros um noviço que dizia ter os estigmas de Cristo. O beato o acompanhou em oração e descobriu a verdade. O beato Plácido (1844-1915) era natural de Trevi\, Itália. Segundo o livro Vidas dos Santos do padre Alban Butler\, ele entrou na abadia beneditina anexa à Basílica de São Paulo Fora dos Muros\, onde está sepultado o chamado apóstolo dos gentios de Roma. Os beneditinos cuidam do templo até hoje.
URL:https://gratiaplena.online/event/dia-de-beato-placido-riccardi/2025-03-14/
CATEGORIES:Santo do Dia
ATTACH;FMTTYPE=image/png:https://gratiaplena.online/wp-content/uploads/2024/03/Beato-Placido-Riccardi.png
ORGANIZER;CN="Administrador":MAILTO:epzanette@gmail.com
END:VEVENT
BEGIN:VEVENT
DTSTART;VALUE=DATE:20250314
DTEND;VALUE=DATE:20250315
DTSTAMP:20260424T115625
CREATED:20240318T235053Z
LAST-MODIFIED:20250122T135612Z
UID:10001592-1741910400-1741996799@gratiaplena.online
SUMMARY:Dia de Santa Matilde\, Rainha
DESCRIPTION:Celebramos hoje (14 Mar) a festa litúrgica de Santa Matilde. Matilde era filha de nobres saxões. Nasceu em Westfalia\, por volta do ano 895 e foi educada pela avó\, também Matilde\, abadessa de um convento de beneditinas em Herford. Por isso\, aprendeu a ler\, a escrever e estudou teologia e filosofia\, fato pouco comum para as nobres da época\, inclusive gostava de assuntos políticos. Constatamos nos registros da época que associada à brilhante inteligência estava uma impressionante beleza física e de alma.
URL:https://gratiaplena.online/event/dia-de-santa-matilde/2025-03-14/
CATEGORIES:Santo do Dia
ATTACH;FMTTYPE=image/jpeg:https://gratiaplena.online/wp-content/uploads/2024/03/Santa-Matilde2.jpeg
ORGANIZER;CN="Administrador":MAILTO:epzanette@gmail.com
END:VEVENT
BEGIN:VEVENT
DTSTART;VALUE=DATE:20250105
DTEND;VALUE=DATE:20250106
DTSTAMP:20260424T115625
CREATED:20250125T000820Z
LAST-MODIFIED:20250125T001215Z
UID:10002600-1736035200-1736121599@gratiaplena.online
SUMMARY:Dia de São João Nepomuceno Neumann
DESCRIPTION:Celebramos hoje (5 Jan) a festa de São João Nepomuceno Neumann. Em 1836\, um jovem seminarista chamado João Neumann chegou aos EUA proveniente da Boêmia\, sua pátria. Deixou a família na calada da noite para se tornar missionário na América. Seu único objetivo era levar o amor de Deus às almas esquecidas e abandonadas. Tornou-se Redentorista em 1842\, e em 1852\, na idade de 41 anos\, foi nomeado 4º bispo de Filadélfia. Nos oito breves anos antes de sua morte\, Neumann construiu cerca de 90 igrejas\, fundou o sistema nacional de escolas paroquiais\, estabeleceu diversas ordens religiosas\, e defendeu a fé católica\, num ambiente hostil. Santo João Nepomuceno Neuman foi fundador da congregação das Irmãs da Ordem Terceira de São Francisco e é o primeiro santo dos Estados Unidos. Leia mais…. \n 
URL:https://gratiaplena.online/event/dia-de-sao-joao-nepomuceno-neumann-2/
CATEGORIES:Santo do Dia
ATTACH;FMTTYPE=image/png:https://gratiaplena.online/wp-content/uploads/2025/01/Sao-Joao-Nepomuceno-Neumann2.png
ORGANIZER;CN="Administrador":MAILTO:epzanette@gmail.com
END:VEVENT
BEGIN:VEVENT
DTSTART;TZID=America/Sao_Paulo:20240428T140000
DTEND;TZID=America/Sao_Paulo:20240428T193000
DTSTAMP:20260424T115625
CREATED:20240421T151719Z
LAST-MODIFIED:20240517T163713Z
UID:10001778-1714312800-1714332600@gratiaplena.online
SUMMARY:Tarde de Recolhimento
DESCRIPTION:Lembrando da nossa TARDE DE REFLEXÃO\, que será no próximo Domingo dia 28/04/2024 das 14h às 17h30\, na Casa Stª Cruz\, o encontro terá assessoria do Padre Marco Petry. \nConfirme sua presença para melhor organização do evento. Será servido um lanche aos participantes. Taxa de participação CR$ 25\,00 (vinte e cinco reais) por pessoa\, que pode ser pago na hora da inscrição. \nTambém haverá carona solidária em frente à Catedral as 13:30\, quem precisar por gentileza avisar. \nOBS: As inscrições poderão ser feitas na Secretaria da Catedral\, em horário de expediente. \nConfirmações podem ser feitas pelo WhatsApp da Catedral\, 30459210 \nMaterial de apoio: “Programa” \nConfirme sua inscrição\, Clicando aqui
URL:https://gratiaplena.online/event/tarde-de-recolhimento-2/
LOCATION:Casa Santa Cruz\, R. João Biazus\, 510 - Bairro Tupinambá\, Passo Fundo\, Rio Grande do Sul\, 99070-972\, Brazil
CATEGORIES:Retiro
ATTACH;FMTTYPE=image/png:https://gratiaplena.online/wp-content/uploads/2024/04/Tarde-de-Recolhimento.png
ORGANIZER;CN="Ana Paula de Oliveira Spannenberg":MAILTO:anapaulaspann@gmail.com
END:VEVENT
BEGIN:VEVENT
DTSTART;VALUE=DATE:20230608
DTEND;VALUE=DATE:20230609
DTSTAMP:20260424T115625
CREATED:20231211T161300Z
LAST-MODIFIED:20240101T143529Z
UID:10000748-1686182400-1686268799@gratiaplena.online
SUMMARY:Festa de Corpus Christi
DESCRIPTION:Celebramos hoje a festa de Corpus Christi\, celebrada sempre em uma quinta-feira\, 60 dias após o domingo de Páscoa. A escolha do dia da semana faz memória à realização da última ceia de Cristo com os apóstolos\, momento em que\, segundo a tradição cristã\, foi instituída a Eucaristia. Celebrar a solenidade do Santíssimo Corpo e Sangue de Cristo une o sublime ao simples\, assim como a Encarnação une a divindade à humanidade. A procissão de Corpus Christi simboliza nossa peregrinação ao banquete eterno do Salvador\, onde o veremos tal como Ele é.
URL:https://gratiaplena.online/event/dia-de-corpus-christi/
CATEGORIES:Santo do Dia
ATTACH;FMTTYPE=image/jpeg:https://gratiaplena.online/wp-content/uploads/2023/12/Corpus-Christi-2.jpg
ORGANIZER;CN="Administrador":MAILTO:epzanette@gmail.com
END:VEVENT
END:VCALENDAR