BEGIN:VCALENDAR
VERSION:2.0
PRODID:-//GratiaPlena - ECPv6.15.20//NONSGML v1.0//EN
CALSCALE:GREGORIAN
METHOD:PUBLISH
X-WR-CALNAME:GratiaPlena
X-ORIGINAL-URL:https://gratiaplena.online
X-WR-CALDESC:Eventos para GratiaPlena
REFRESH-INTERVAL;VALUE=DURATION:PT1H
X-Robots-Tag:noindex
X-PUBLISHED-TTL:PT1H
BEGIN:VTIMEZONE
TZID:America/Sao_Paulo
BEGIN:STANDARD
TZOFFSETFROM:-0300
TZOFFSETTO:-0300
TZNAME:-03
DTSTART:20260101T000000
END:STANDARD
END:VTIMEZONE
BEGIN:VEVENT
DTSTART;VALUE=DATE:20270404
DTEND;VALUE=DATE:20270405
DTSTAMP:20260424T124829
CREATED:20240119T180113Z
LAST-MODIFIED:20240119T180113Z
UID:10001096-1806796800-1806883199@gratiaplena.online
SUMMARY:Dia de Santo Isidoro
DESCRIPTION:Celebramos hoje (4 Abr) a memória litúrgica de Santo Isidoro de Sevilha\, nasceu em Cartagena\, Espanha\, por volta de 560; morreu em 4 de abril de 636. Isidoro era filho de Severiano e Teodora. Seu irmão mais velho\, Leander\, foi seu antecessor imediato na Sé Metropolitana de Sevilha; enquanto um irmão mais novo\, São Fulgêncio\, presidiu o Bispado de Astigi. Sua irmã Florentina era freira e teria governado quarenta conventos e mil religiosos. Isidoro recebeu o ensino fundamental na escola da Catedral de Sevilha. Nesta instituição\, a primeira do género em Espanha\, o trivium e o quadrivium eram ensinados por um corpo de homens eruditos\, entre os quais estava o arcebispo Leandro. 
URL:https://gratiaplena.online/event/dia-de-santo-isidoro/2027-04-04/
CATEGORIES:Santo do Dia
ATTACH;FMTTYPE=image/jpeg:https://gratiaplena.online/wp-content/uploads/2024/01/Santo-Isidoro-de-Sevilha2.jpg
ORGANIZER;CN="Administrador":MAILTO:epzanette@gmail.com
END:VEVENT
BEGIN:VEVENT
DTSTART;VALUE=DATE:20270405
DTEND;VALUE=DATE:20270406
DTSTAMP:20260424T124829
CREATED:20240101T134208Z
LAST-MODIFIED:20250116T131641Z
UID:10001349-1806883200-1806969599@gratiaplena.online
SUMMARY:Dia de Santa Juliana de Liége
DESCRIPTION:Celebramos hoje (5 Abr) a festa de Santa Juliana de Liège. Santa Juliana de Mont Cornillon\, também conhecida como Juliana de Liège\, nasceu perto de Liège\, Bélgica. Ficou órfã aos cinco anos e foi colocada no convento de Mt. Cornillon\, perto de Liège. Ela fez rápido progresso na virtude e cresceu no amor pela Paixão de Cristo\, pela Bem-Aventurada Virgem Maria e pelo Santíssimo Sacramento. Aos treze anos\, tornou-se freira e dedicou-se a cuidar dos doentes no hospital do convento. Ela eventualmente se tornou a superiora de sua comunidade. Ensinada em repetidas visões que Nosso Senhor queria que uma festa litúrgica em honra à Sagrada Eucaristia fosse estabelecida\, ela trabalhou diligentemente para que a festa de Corpus Christi fosse instituída para a Igreja Universal\, uma tarefa pela qual ela sofreu muita oposição. Ela foi forçada a fugir de seu convento depois que seu superior geral excitou a população contra ela e suas visões. Mais tarde\, ela foi vindicada pelo bispo e retornou ao seu lugar de direito\, apenas para ser forçada a fugir uma última vez\, terminando sua vida em reclusão. Leia mais….
URL:https://gratiaplena.online/event/3931-2/2027-04-05/
CATEGORIES:Santo do Dia
ATTACH;FMTTYPE=image/png:https://gratiaplena.online/wp-content/uploads/2024/01/Santa-Juliana-de-Liege.png
ORGANIZER;CN="Administrador":MAILTO:epzanette@gmail.com
END:VEVENT
END:VCALENDAR