BEGIN:VCALENDAR
VERSION:2.0
PRODID:-//GratiaPlena - ECPv6.15.20//NONSGML v1.0//EN
CALSCALE:GREGORIAN
METHOD:PUBLISH
X-WR-CALNAME:GratiaPlena
X-ORIGINAL-URL:https://gratiaplena.online
X-WR-CALDESC:Eventos para GratiaPlena
REFRESH-INTERVAL;VALUE=DURATION:PT1H
X-Robots-Tag:noindex
X-PUBLISHED-TTL:PT1H
BEGIN:VTIMEZONE
TZID:America/Sao_Paulo
BEGIN:STANDARD
TZOFFSETFROM:-0300
TZOFFSETTO:-0300
TZNAME:-03
DTSTART:20240101T000000
END:STANDARD
END:VTIMEZONE
BEGIN:VEVENT
DTSTART;VALUE=DATE:20250824
DTEND;VALUE=DATE:20250825
DTSTAMP:20260424T095325
CREATED:20240101T171630Z
LAST-MODIFIED:20240828T121508Z
UID:10000895-1755993600-1756079999@gratiaplena.online
SUMMARY:Dia de São Bartolomeu
DESCRIPTION:Celebramos dia (24 Ago) a sua festa. São Bartolomeu\, também chamado Natanael\, foi um dos 12 primeiros apóstolos de Jesus. É assim descrito nos evangelhos de João\, Mateus\, Marcos e Lucas\, e também nos Atos dos Apóstolos. Bartolomeu nasceu em Caná\, na Galileia\, uma pequena aldeia a 14 quilômetros de Nazaré. Era filho do agricultor Tholmai. No Evangelho\, ele também é chamado de Natanael. Em hebraico\, a palavra “bar” que dizer “filho” e “tholmai” significa “agricultor”. Por isso os historiadores são unânimes em afirmar que Bartolomeu-Natanael trata-se de uma só pessoa. Seu melhor amigo era Filipe e ambos eram viajantes. Foi o apóstolo Filipe que o apresentou ao Messias. Leia mais….
URL:https://gratiaplena.online/event/dia-de-sao-bartolomeu/2025-08-24/
CATEGORIES:Santo do Dia
ATTACH;FMTTYPE=image/jpeg:https://gratiaplena.online/wp-content/uploads/2024/01/Sao-Bartolomeu-2.jpg
ORGANIZER;CN="Administrador":MAILTO:epzanette@gmail.com
END:VEVENT
BEGIN:VEVENT
DTSTART;VALUE=DATE:20250826
DTEND;VALUE=DATE:20250827
DTSTAMP:20260424T095325
CREATED:20240729T192033Z
LAST-MODIFIED:20240729T192033Z
UID:10001876-1756166400-1756252799@gratiaplena.online
SUMMARY:Dia de São Zeferino
DESCRIPTION:Comemoramos hoje (26 Ago) a festa de São Zeferino. São Zeferino tornou-se Papa e permaneceu à frente da Igreja por cerca de 20 anos\, além disso\, viu-se diante da heresia modalista\, que tinha uma concepção errônea da relação entre o Pai e o Filho. Ele foi o primeiro dos Papas que foram enterrados em Calisto na Via Appia. Papa no ano 199\, no período de terror de Septímio Severo\, Zeferino lutou contra o modalismo\, a heresia que tinha uma concepção errada da relação entre o Pai e o Filho. Encarregou seu diácono Calisto para construir o cemitério da Igreja de Roma na Via Ápia\, onde foi sepultado o primeiro Papa. Leia mais…. \n 
URL:https://gratiaplena.online/event/dia-de-sao-zeferino/2025-08-26/
CATEGORIES:Santo do Dia
ATTACH;FMTTYPE=image/jpeg:https://gratiaplena.online/wp-content/uploads/2024/07/Sao-Zeferino.jpg
ORGANIZER;CN="Administrador":MAILTO:epzanette@gmail.com
END:VEVENT
BEGIN:VEVENT
DTSTART;VALUE=DATE:20250828
DTEND;VALUE=DATE:20250829
DTSTAMP:20260424T095325
CREATED:20240110T185124Z
LAST-MODIFIED:20240828T115450Z
UID:10001034-1756339200-1756425599@gratiaplena.online
SUMMARY:Dia de Santo Agostinho
DESCRIPTION:Celebramos hoje (28 Ago) a sua memória. Santo Agostinho nasceu em Tagaste\, norte da África\, no dia 13 de novembro do ano 354. Filho de Patrício\, pagão e voltado para o materialismo da época\, e de Mônica\, profundamente cristã\, que depois se tornaria santa. A influência dos pais foi muito grande\, primeiro a de Patrício\, depois a de Santa Mônica. Leia mais…. \n 
URL:https://gratiaplena.online/event/dia-de-santo-agostinho/2025-08-28/
CATEGORIES:Santo do Dia
ATTACH;FMTTYPE=image/jpeg:https://gratiaplena.online/wp-content/uploads/2024/01/Santo-Agostinho2-e1704926613103.jpg
ORGANIZER;CN="Administrador":MAILTO:epzanette@gmail.com
END:VEVENT
END:VCALENDAR