BEGIN:VCALENDAR
VERSION:2.0
PRODID:-//GratiaPlena - ECPv6.15.20//NONSGML v1.0//EN
CALSCALE:GREGORIAN
METHOD:PUBLISH
X-ORIGINAL-URL:https://gratiaplena.online
X-WR-CALDESC:Eventos para GratiaPlena
REFRESH-INTERVAL;VALUE=DURATION:PT1H
X-Robots-Tag:noindex
X-PUBLISHED-TTL:PT1H
BEGIN:VTIMEZONE
TZID:America/Sao_Paulo
BEGIN:STANDARD
TZOFFSETFROM:-0300
TZOFFSETTO:-0300
TZNAME:-03
DTSTART:20250101T000000
END:STANDARD
END:VTIMEZONE
BEGIN:VEVENT
DTSTART;VALUE=DATE:20260921
DTEND;VALUE=DATE:20260922
DTSTAMP:20260424T021036
CREATED:20231216T231547Z
LAST-MODIFIED:20240828T124126Z
UID:10000771-1789948800-1790035199@gratiaplena.online
SUMMARY:Dia de São Mateus
DESCRIPTION:Celebramos hoje (21 Set) a festa de São Mateus Apóstolo de forma especial. A vida de São Mateus apóstolo e evangelista\, cujo nome antes da conversão era Levi. Morava e trabalhava como coletor de impostos em Cafarnaum\, na Palestina. Quando ouviu a Palavra de Jesus: “Segue-me” deixou tudo imediatamente\, pondo de lado a vida ligada ao dinheiro e ao poder para um serviço de perfeita pobreza: a proclamação da mensagem cristã! Ele trocou de nome para Mateus\, o “dom de Deus”.
URL:https://gratiaplena.online/event/dia-de-sao-mateus/2026-09-21/
CATEGORIES:Santo do Dia
ATTACH;FMTTYPE=image/jpeg:https://gratiaplena.online/wp-content/uploads/2023/12/Sao-Mateus.jpg
ORGANIZER;CN="Administrador":MAILTO:epzanette@gmail.com
END:VEVENT
BEGIN:VEVENT
DTSTART;VALUE=DATE:20260921
DTEND;VALUE=DATE:20260922
DTSTAMP:20260424T021036
CREATED:20240720T142701Z
LAST-MODIFIED:20240828T124617Z
UID:10001837-1789948800-1790035199@gratiaplena.online
SUMMARY:Dia de São Jonas
DESCRIPTION:Hoje (21 Set) e a sua festa. São Jonas\, profeta\, filho de Amitai. A partir da vida do profeta Jonas queremos propor uma reflexão sobre a realização da vontade de Deus e a sua aceitação. Jonas fugiu da “face do Senhor” O autor\, ao descrever a fuga de Jonas do chamado profético\, mostra até onde podemos ir quando não queremos fazer algo. Jonas ouve a Deus pedindo para que ele vá para Nínive\, mas toma a direção de Társis\, fugindo da face do Senhor. A partir daí\, Jonas faz um caminho de descida. . Leia mais….
URL:https://gratiaplena.online/event/dia-de-sao-jonas/2026-09-21/
CATEGORIES:Santo do Dia
ATTACH;FMTTYPE=image/jpeg:https://gratiaplena.online/wp-content/uploads/2024/07/Jonas.jpg
ORGANIZER;CN="Administrador":MAILTO:epzanette@gmail.com
END:VEVENT
END:VCALENDAR