BEGIN:VCALENDAR
VERSION:2.0
PRODID:-//GratiaPlena - ECPv6.15.20//NONSGML v1.0//EN
CALSCALE:GREGORIAN
METHOD:PUBLISH
X-ORIGINAL-URL:https://gratiaplena.online
X-WR-CALDESC:Eventos para GratiaPlena
REFRESH-INTERVAL;VALUE=DURATION:PT1H
X-Robots-Tag:noindex
X-PUBLISHED-TTL:PT1H
BEGIN:VTIMEZONE
TZID:America/Sao_Paulo
BEGIN:STANDARD
TZOFFSETFROM:-0300
TZOFFSETTO:-0300
TZNAME:-03
DTSTART:20250101T000000
END:STANDARD
END:VTIMEZONE
BEGIN:VEVENT
DTSTART;VALUE=DATE:20260627
DTEND;VALUE=DATE:20260628
DTSTAMP:20260423T202651
CREATED:20240227T191805Z
LAST-MODIFIED:20240227T191805Z
UID:10001414-1782518400-1782604799@gratiaplena.online
SUMMARY:Dia de São Cirilo de Alexandria
DESCRIPTION:Celebramos hoje (27 Jun) a memória litúrgica de São Cirilo de Alexandria\, nasceu no ano de 370\, no Egito. Sobrinho de Teófilo\, bispo de Alexandria\, assumiu a diocese em 412\, após a morte do tio. Governou a diocese até o ano 444\, data do seu falecimento. É considerada a sua maior obra a defesa do dogma de Maria\, como a Mãe de Deus. Ele se opôs e combateu Nestório\, patriarca de Constantinopla\, que professava ser Maria apenas a mãe do homem Jesus e não de Um que é Deus\, da Santíssima Trindade\, como está no Evangelho.
URL:https://gratiaplena.online/event/dia-de-sao-cirilo-de-alexandria/2026-06-27/
CATEGORIES:Santo do Dia
ATTACH;FMTTYPE=image/jpeg:https://gratiaplena.online/wp-content/uploads/2024/02/Sao-Cirilo-de-Alexandria2.jpeg
ORGANIZER;CN="Administrador":MAILTO:epzanette@gmail.com
END:VEVENT
END:VCALENDAR