BEGIN:VCALENDAR
VERSION:2.0
PRODID:-//GratiaPlena - ECPv6.15.20//NONSGML v1.0//EN
CALSCALE:GREGORIAN
METHOD:PUBLISH
X-WR-CALNAME:GratiaPlena
X-ORIGINAL-URL:https://gratiaplena.online
X-WR-CALDESC:Eventos para GratiaPlena
REFRESH-INTERVAL;VALUE=DURATION:PT1H
X-Robots-Tag:noindex
X-PUBLISHED-TTL:PT1H
BEGIN:VTIMEZONE
TZID:America/Sao_Paulo
BEGIN:STANDARD
TZOFFSETFROM:-0300
TZOFFSETTO:-0300
TZNAME:-03
DTSTART:20250101T000000
END:STANDARD
END:VTIMEZONE
BEGIN:VEVENT
DTSTART;VALUE=DATE:20260429
DTEND;VALUE=DATE:20260430
DTSTAMP:20260423T183753
CREATED:20240123T182627Z
LAST-MODIFIED:20240123T204331Z
UID:10001151-1777420800-1777507199@gratiaplena.online
SUMMARY:Dia de Santa Catarina de Sena
DESCRIPTION:Celebramos hoje (29 Abr) a memória de Santa Catarina de Sena\, nascida em Siena\, em 25 de março de 1347; morreu em Roma\, 29 de abril de 1380. Ela era a mais nova\, mas pertencia a uma família muito grande. Seu pai\, Giacomo di Benincasa\, era tintureiro; sua mãe\, Lapa\, filha de um poeta local. Eles pertenciam à facção de classe média baixa de comerciantes e pequenos notários\, conhecida como “Partido dos Doze”\, que entre uma revolução e outra governou a República de Siena de 1355 a 1368. Desde a mais tenra infância\, Catarina começou a ter visões e praticar austeridades extremas.
URL:https://gratiaplena.online/event/dia-de-santa-catarina-de-sena/2026-04-29/
CATEGORIES:Santo do Dia
ATTACH;FMTTYPE=image/png:https://gratiaplena.online/wp-content/uploads/2024/01/Santa-Catarina-de-Sena2.png
ORGANIZER;CN="Administrador":MAILTO:epzanette@gmail.com
END:VEVENT
END:VCALENDAR