BEGIN:VCALENDAR
VERSION:2.0
PRODID:-//GratiaPlena - ECPv6.15.20//NONSGML v1.0//EN
CALSCALE:GREGORIAN
METHOD:PUBLISH
X-WR-CALNAME:GratiaPlena
X-ORIGINAL-URL:https://gratiaplena.online
X-WR-CALDESC:Eventos para GratiaPlena
REFRESH-INTERVAL;VALUE=DURATION:PT1H
X-Robots-Tag:noindex
X-PUBLISHED-TTL:PT1H
BEGIN:VTIMEZONE
TZID:America/Sao_Paulo
BEGIN:STANDARD
TZOFFSETFROM:-0300
TZOFFSETTO:-0300
TZNAME:-03
DTSTART:20250101T000000
END:STANDARD
END:VTIMEZONE
BEGIN:VEVENT
DTSTART;VALUE=DATE:20260728
DTEND;VALUE=DATE:20260729
DTSTAMP:20260423T200714
CREATED:20240216T202114Z
LAST-MODIFIED:20240216T202114Z
UID:10001384-1785196800-1785283199@gratiaplena.online
SUMMARY:Dia de Beato Urbano II
DESCRIPTION:Comemoramos hoje (28 Jul) a memória de Beato Urbano II. Guilherme de Grimoard nasceu em Grisac\, no Languedoc\, França\, em 1310\, numa família de cavaleiros. Educou-se em Montpelier e Toulouse\, e entrou no mosteiro beneditino na pequena abadia de Chirac.  Homem de penitência\, obediente ao regime monástico até a morte\, proferiu os votos monásticos no convento de São Vitor\, de Marselha. Lá cresceu seu amor pela Ordem de São Bento\, de tal maneira que\, depois de Papa\, ele continuou usando o hábito beneditino. Mais tarde afiliou-se ao famoso mosteiro de Cluny.
URL:https://gratiaplena.online/event/dia-de-beato-urbano-ii/2026-07-28/
CATEGORIES:Santo do Dia
ATTACH;FMTTYPE=image/jpeg:https://gratiaplena.online/wp-content/uploads/2024/02/Beato-Urbano-II-2.jpeg
ORGANIZER;CN="Administrador":MAILTO:epzanette@gmail.com
END:VEVENT
BEGIN:VEVENT
DTSTART;VALUE=DATE:20260728
DTEND;VALUE=DATE:20260729
DTSTAMP:20260423T200714
CREATED:20240216T210727Z
LAST-MODIFIED:20240728T212556Z
UID:10001390-1785196800-1785283199@gratiaplena.online
SUMMARY:Dia de São Vitor I
DESCRIPTION:Celebramos hoje (28 Jul) a memória de São Vitor I\,Papa. São Vítor I Foi o 14° papa da Igreja Católica Apostólica Romana entre (datas aproximadas) 189 e 199. Papa São Vítor I\, nasceu na província romana de Tunísia\, sendo portanto\, o primeiro Papa africano. Esta notícia é bastante certa\, pois na Catedral Católica de Tunes\, à esquerda do altar\, tem um mosaico com o rosto dele. De seu pai sabe-se somente que se chamava Félix. Leia mais…. \n 
URL:https://gratiaplena.online/event/dia-de-sao-vitor-i/2026-07-28/
CATEGORIES:Santo do Dia
ATTACH;FMTTYPE=image/jpeg:https://gratiaplena.online/wp-content/uploads/2024/02/Sao-Vitor-I-2.jpeg
ORGANIZER;CN="Administrador":MAILTO:epzanette@gmail.com
END:VEVENT
END:VCALENDAR