BEGIN:VCALENDAR
VERSION:2.0
PRODID:-//GratiaPlena - ECPv6.15.20//NONSGML v1.0//EN
CALSCALE:GREGORIAN
METHOD:PUBLISH
X-WR-CALNAME:GratiaPlena
X-ORIGINAL-URL:https://gratiaplena.online
X-WR-CALDESC:Eventos para GratiaPlena
REFRESH-INTERVAL;VALUE=DURATION:PT1H
X-Robots-Tag:noindex
X-PUBLISHED-TTL:PT1H
BEGIN:VTIMEZONE
TZID:America/Sao_Paulo
BEGIN:STANDARD
TZOFFSETFROM:-0300
TZOFFSETTO:-0300
TZNAME:-03
DTSTART:20250101T000000
END:STANDARD
END:VTIMEZONE
BEGIN:VEVENT
DTSTART;VALUE=DATE:20260723
DTEND;VALUE=DATE:20260724
DTSTAMP:20260423T184101
CREATED:20240319T200746Z
LAST-MODIFIED:20240319T200746Z
UID:10001641-1784764800-1784851199@gratiaplena.online
SUMMARY:Dia de Santa Brígida da Suécia
DESCRIPTION:Celebramos hoje (23 Jul) a memória litúrgica de Santa Brígida da Suécia. Canonizada\, em 1391\, por Bonifácio IX\, Santa Brígida é a padroeira da Suécia. Em 1999\, foi declarada também copadroeira da Europa por São João Paulo II. Brígida\, quando criança\, tinha\, certamente\, um caráter forte e decisivo. Pertencia a uma família aristocrática. Embora sentisse a vocação religiosa\, aceitou casar-se com Ulf\, o governador de um importante distrito do Reino da Suécia\, a pedido do seu pai. A primeira parte da sua vida\, marcada por uma grande fé\, foi dedicada a um casamento feliz\, do qual nasceram oito filhos. Uma\, dentre eles\, Catarina – que a seguiu até Roma – também foi canonizada.
URL:https://gratiaplena.online/event/dia-de-santa-brigida-da-suecia/2026-07-23/
CATEGORIES:Santo do Dia
ATTACH;FMTTYPE=image/jpeg:https://gratiaplena.online/wp-content/uploads/2024/03/Santa-Brigida-da-Suecia2.jpeg
ORGANIZER;CN="Administrador":MAILTO:epzanette@gmail.com
END:VEVENT
END:VCALENDAR