BEGIN:VCALENDAR
VERSION:2.0
PRODID:-//GratiaPlena - ECPv6.15.20//NONSGML v1.0//EN
CALSCALE:GREGORIAN
METHOD:PUBLISH
X-ORIGINAL-URL:https://gratiaplena.online
X-WR-CALDESC:Eventos para GratiaPlena
REFRESH-INTERVAL;VALUE=DURATION:PT1H
X-Robots-Tag:noindex
X-PUBLISHED-TTL:PT1H
BEGIN:VTIMEZONE
TZID:America/Sao_Paulo
BEGIN:STANDARD
TZOFFSETFROM:-0300
TZOFFSETTO:-0300
TZNAME:-03
DTSTART:20250101T000000
END:STANDARD
END:VTIMEZONE
BEGIN:VEVENT
DTSTART;VALUE=DATE:20260721
DTEND;VALUE=DATE:20260722
DTSTAMP:20260423T184221
CREATED:20240104T201105Z
LAST-MODIFIED:20240718T163057Z
UID:10000968-1784592000-1784678399@gratiaplena.online
SUMMARY:Dia de Santo Ezequiel
DESCRIPTION:Celebramos hoje (21 Jul) a festa do profeta Exequiel. Ezequiel\, filho de Buzi\, era sacerdote da linhagem de Sadoc e atuou no templo de Jerusalém. Era casado e ficou viúvo pouco antes dos babilônios tomarem Jerusalém. Como sacerdote\, pertenceu à classe dirigente da cidade. Foi exilado para a Babilônia junto com a primeira leva de deportados (597 AC). Passou por profunda transformação: de dirigente em Judá para refém expatriado\, perdendo seus privilégios.  Leia mais….
URL:https://gratiaplena.online/event/dia-de-santo-ezequiel/2026-07-21/
CATEGORIES:Santo do Dia
ATTACH;FMTTYPE=image/jpeg:https://gratiaplena.online/wp-content/uploads/2024/01/Ezequiel.jpeg
ORGANIZER;CN="Administrador":MAILTO:epzanette@gmail.com
END:VEVENT
BEGIN:VEVENT
DTSTART;VALUE=DATE:20260721
DTEND;VALUE=DATE:20260722
DTSTAMP:20260423T184221
CREATED:20240309T204750Z
LAST-MODIFIED:20240309T204750Z
UID:10001468-1784592000-1784678399@gratiaplena.online
SUMMARY:Dia de São Lourenço de Brindisi
DESCRIPTION:Celebramos hoje (21 Jul) a memória litúrgica de São Lourenço de Brindisi. Geralmente\, as chamadas “crianças superdotadas”\, aquelas que demonstram um dom excepcional para alguma especialidade\, quando crescem\, parecem “perder os poderes” e nivelam-se com as demais pessoas. São poucas as exceções que merecem ser recordadas. Mas\, com certeza\, uma delas foi Júlio César Russo\, que nasceu no dia 22 de julho de 1559\, em Brindisi\, na Itália.
URL:https://gratiaplena.online/event/dia-de-sao-lourenco-de-brindisi/2026-07-21/
CATEGORIES:Santo do Dia
ATTACH;FMTTYPE=image/jpeg:https://gratiaplena.online/wp-content/uploads/2024/03/Sao-Lourenco-de-Brindisi2.jpeg
ORGANIZER;CN="Administrador":MAILTO:epzanette@gmail.com
END:VEVENT
END:VCALENDAR