BEGIN:VCALENDAR
VERSION:2.0
PRODID:-//GratiaPlena - ECPv6.15.20//NONSGML v1.0//EN
CALSCALE:GREGORIAN
METHOD:PUBLISH
X-ORIGINAL-URL:https://gratiaplena.online
X-WR-CALDESC:Eventos para GratiaPlena
REFRESH-INTERVAL;VALUE=DURATION:PT1H
X-Robots-Tag:noindex
X-PUBLISHED-TTL:PT1H
BEGIN:VTIMEZONE
TZID:America/Sao_Paulo
BEGIN:STANDARD
TZOFFSETFROM:-0300
TZOFFSETTO:-0300
TZNAME:-03
DTSTART:20250101T000000
END:STANDARD
END:VTIMEZONE
BEGIN:VEVENT
DTSTART;VALUE=DATE:20260717
DTEND;VALUE=DATE:20260718
DTSTAMP:20260423T213436
CREATED:20240717T135542Z
LAST-MODIFIED:20240717T175654Z
UID:10001814-1784246400-1784332799@gratiaplena.online
SUMMARY:Dia de Inácio de Azevedo e 39 companheiros
DESCRIPTION:Celebramos hoje (17 Jul) quarenta santos mártires que derramaram o sangue para evangelizar o nosso Brasil. Trata-se do Bem-aventurado Inácio de Azevedo e seus companheiros mártires. Inácio Azevedo foi um padre jesuíta nascido em Portugal que veio ao Brasil evangelizar.  Quando ele viu o tamanho das necessidades de evangelização da nossa terra\, não cruzou os braços: voltou para a Europa e pediu licença ao padre geral para ir convencendo outros jesuítas (ou seja\, estudantes que pretendiam ser padres e irmãos leigos) a se juntarem a ele para evangelizar o nosso país.  Leia mais….
URL:https://gratiaplena.online/event/dia-de-inacio-de-azevedo-e-39-companheiros/2026-07-17/
CATEGORIES:Santo do Dia
ATTACH;FMTTYPE=image/jpeg:https://gratiaplena.online/wp-content/uploads/2024/07/Inacio-de-Azevedo2.jpg
ORGANIZER;CN="Administrador":MAILTO:epzanette@gmail.com
END:VEVENT
BEGIN:VEVENT
DTSTART;VALUE=DATE:20260717
DTEND;VALUE=DATE:20260718
DTSTAMP:20260423T213436
CREATED:20240717T174701Z
LAST-MODIFIED:20240717T174701Z
UID:10001820-1784246400-1784332799@gratiaplena.online
SUMMARY:Dia de Maria Madalena Claudina Lidoine e 15 companheiras
DESCRIPTION:O mosteiro das carmelitas de Compiègne\, França\, vivia entregue ao espírito de oração\, de silêncio e de renúncia\, quando rebentou a Revolução Francesa. A 4 de agosto de 1790\, os membros do diretório do distrito procederam ao inventário dos bens da comunidade. As religiosas foram convidadas a despir o hábito e a abandonar o mosteiro. Cinco dias mais tarde\, a conselho da câmara\, assinaram todas o juramento de Liberdade-Igualdade. Desde então\, viveram dispersas. Leia mais….
URL:https://gratiaplena.online/event/dia-de-maria-madalena-claudina-lidoine-e-15-companheiras/2026-07-17/
CATEGORIES:Santo do Dia
ATTACH;FMTTYPE=image/jpeg:https://gratiaplena.online/wp-content/uploads/2024/07/Maria-Madalena-Claudina-Lidoine2.jpeg
ORGANIZER;CN="Administrador":MAILTO:epzanette@gmail.com
END:VEVENT
END:VCALENDAR