BEGIN:VCALENDAR
VERSION:2.0
PRODID:-//GratiaPlena - ECPv6.15.20//NONSGML v1.0//EN
CALSCALE:GREGORIAN
METHOD:PUBLISH
X-WR-CALNAME:GratiaPlena
X-ORIGINAL-URL:https://gratiaplena.online
X-WR-CALDESC:Eventos para GratiaPlena
REFRESH-INTERVAL;VALUE=DURATION:PT1H
X-Robots-Tag:noindex
X-PUBLISHED-TTL:PT1H
BEGIN:VTIMEZONE
TZID:America/Sao_Paulo
BEGIN:STANDARD
TZOFFSETFROM:-0300
TZOFFSETTO:-0300
TZNAME:-03
DTSTART:20250101T000000
END:STANDARD
END:VTIMEZONE
BEGIN:VEVENT
DTSTART;VALUE=DATE:20260611
DTEND;VALUE=DATE:20260612
DTSTAMP:20260423T171342
CREATED:20250116T175959Z
LAST-MODIFIED:20250123T175348Z
UID:10002544-1781136000-1781222399@gratiaplena.online
SUMMARY:Dia de Santa Alice de Schaerbeck
DESCRIPTION:Celebramos dia (11 Jun) a festa de San Alice. Alice de Schaerbeek ou de La Cambre\, também  chamada Adelaide\,  Aleide\,  Aleida ou Alida\, foi uma religiosa e mística flamenga\, monja cisterciense na Abadia de La Cambre (Bélgica). Nasceu em Schaerbeek\, perto de Bruxelas\, em 1225\, e demonstrou desde pequena que era dotada de inteligência e espírito precoces. A sua santidade foi\, de fato\, paga a preço de uma longa e terrível doença\, uma das mais temidas e temíveis da Idade Média\, que condenava todos os que eram atacados por ela a uma verdadeira morte civil\, além da lenta morte física: a lepra. Leia mais….
URL:https://gratiaplena.online/event/dia-de-santa-alice-de-schaerbeck/2026-06-11/
CATEGORIES:Santo do Dia
ATTACH;FMTTYPE=image/png:https://gratiaplena.online/wp-content/uploads/2025/01/Santa-Alice-de-Schaerbeck.png
ORGANIZER;CN="Administrador":MAILTO:epzanette@gmail.com
END:VEVENT
END:VCALENDAR