BEGIN:VCALENDAR
VERSION:2.0
PRODID:-//GratiaPlena - ECPv6.15.20//NONSGML v1.0//EN
CALSCALE:GREGORIAN
METHOD:PUBLISH
X-ORIGINAL-URL:https://gratiaplena.online
X-WR-CALDESC:Eventos para GratiaPlena
REFRESH-INTERVAL;VALUE=DURATION:PT1H
X-Robots-Tag:noindex
X-PUBLISHED-TTL:PT1H
BEGIN:VTIMEZONE
TZID:America/Sao_Paulo
BEGIN:STANDARD
TZOFFSETFROM:-0300
TZOFFSETTO:-0300
TZNAME:-03
DTSTART:20250101T000000
END:STANDARD
END:VTIMEZONE
BEGIN:VEVENT
DTSTART;VALUE=DATE:20260609
DTEND;VALUE=DATE:20260610
DTSTAMP:20260423T171550
CREATED:20240308T151432Z
LAST-MODIFIED:20240308T151432Z
UID:10001438-1780963200-1781049599@gratiaplena.online
SUMMARY:Dia de Santo Efrém da Síria
DESCRIPTION:Celebramos hoje (9 Jun) a festa de Santo Efrém da Síria\, nasceu em 306 em Nisibina ou em seus arredores (Mesopotâmia)\, Depois de ter estudado junto ao bispo daquela cidade\, Jacob (Jaime) se converteu no animador de uma escola de doutrina\, poesia e canto. Refugiou-se em Edesa no ano 367\, por causa da ocupação persa de Nisibina\, e nela prosseguiu suas atividades de ensinamento\, unidas a composição de muitos escritos exegéticos\, catequéticos e hinos em siríaco. Sua exuberância poética era tão grande e tal o gosto dos sírios pela poesia\, que muitas homilias estão compostas em versos. Recebeu o título de “Profeta dos Sírios” e “Cítara do Espírito Santo” e a tradição se alegrou em engrandecê-lo\, ao estilo dos dois primeiros apotegmas\, atribuindo-lhe a concessão milagrosa dos carismas da palavra\, da sabedoria e também das lágrimas.
URL:https://gratiaplena.online/event/dia-de-santo-efrem-da-siria/2026-06-09/
CATEGORIES:Santo do Dia
ATTACH;FMTTYPE=image/jpeg:https://gratiaplena.online/wp-content/uploads/2024/03/Santo-Efrem-da-Siria2.jpeg
ORGANIZER;CN="Administrador":MAILTO:epzanette@gmail.com
END:VEVENT
END:VCALENDAR